BEGIN:VCALENDAR
VERSION:2.0
PRODID:-//Temple Beth David - ECPv6.15.20//NONSGML v1.0//EN
CALSCALE:GREGORIAN
METHOD:PUBLISH
X-ORIGINAL-URL:https://templebethdavid.online
X-WR-CALDESC:Events for Temple Beth David
REFRESH-INTERVAL;VALUE=DURATION:PT1H
X-Robots-Tag:noindex
X-PUBLISHED-TTL:PT1H
BEGIN:VTIMEZONE
TZID:UTC
BEGIN:STANDARD
TZOFFSETFROM:+0000
TZOFFSETTO:+0000
TZNAME:UTC
DTSTART:20250101T000000
END:STANDARD
END:VTIMEZONE
BEGIN:VEVENT
DTSTART;TZID=UTC:20260830T084500
DTEND;TZID=UTC:20260830T211500
DTSTAMP:20260422T215822
CREATED:20251021T194944Z
LAST-MODIFIED:20260220T192123Z
UID:4652-1788079500-1788124500@templebethdavid.online
SUMMARY:Men's Club Chat
DESCRIPTION:15Men’s club
URL:https://templebethdavid.online/event/mens-club-chat-92/
END:VEVENT
BEGIN:VEVENT
DTSTART;TZID=UTC:20260830T093000
DTEND;TZID=UTC:20260830T103000
DTSTAMP:20260422T215822
CREATED:20251021T195019Z
LAST-MODIFIED:20251021T195019Z
UID:4654-1788082200-1788085800@templebethdavid.online
SUMMARY:Adult Hebrew Intermediate
DESCRIPTION:
URL:https://templebethdavid.online/event/adult-hebrew-intermediate-83/
END:VEVENT
BEGIN:VEVENT
DTSTART;TZID=UTC:20260906T084500
DTEND;TZID=UTC:20260906T091500
DTSTAMP:20260422T215822
CREATED:20251027T164434Z
LAST-MODIFIED:20260220T192417Z
UID:4661-1788684300-1788686100@templebethdavid.online
SUMMARY:Men's Club
DESCRIPTION:
URL:https://templebethdavid.online/event/mens-club/
END:VEVENT
BEGIN:VEVENT
DTSTART;TZID=UTC:20260906T093000
DTEND;TZID=UTC:20260906T103000
DTSTAMP:20260422T215822
CREATED:20251027T165900Z
LAST-MODIFIED:20251027T194949Z
UID:4664-1788687000-1788690600@templebethdavid.online
SUMMARY:Adult Hebrew
DESCRIPTION:10301
URL:https://templebethdavid.online/event/adult-hebrew-2/
END:VEVENT
BEGIN:VEVENT
DTSTART;TZID=UTC:20260913T084500
DTEND;TZID=UTC:20260913T091500
DTSTAMP:20260422T215822
CREATED:20251027T195034Z
LAST-MODIFIED:20260220T192536Z
UID:4672-1789289100-1789290900@templebethdavid.online
SUMMARY:Men's Club
DESCRIPTION:Men’s Club
URL:https://templebethdavid.online/event/mens-club-2/
END:VEVENT
BEGIN:VEVENT
DTSTART;TZID=UTC:20260913T093000
DTEND;TZID=UTC:20260913T103000
DTSTAMP:20260422T215822
CREATED:20251027T195126Z
LAST-MODIFIED:20251027T195126Z
UID:4674-1789291800-1789295400@templebethdavid.online
SUMMARY:Adult Hebrew
DESCRIPTION:Adult Hebrew
URL:https://templebethdavid.online/event/adult-hebrew-3/
END:VEVENT
BEGIN:VEVENT
DTSTART;TZID=UTC:20260920T084500
DTEND;TZID=UTC:20260920T091500
DTSTAMP:20260422T215822
CREATED:20251027T210642Z
LAST-MODIFIED:20260220T192726Z
UID:4676-1789893900-1789895700@templebethdavid.online
SUMMARY:Men's Club
DESCRIPTION:
URL:https://templebethdavid.online/event/mens-club-3/
END:VEVENT
BEGIN:VEVENT
DTSTART;TZID=UTC:20260920T093000
DTEND;TZID=UTC:20260920T103000
DTSTAMP:20260422T215822
CREATED:20251027T213656Z
LAST-MODIFIED:20251027T213656Z
UID:4678-1789896600-1789900200@templebethdavid.online
SUMMARY:Adult Hebrew
DESCRIPTION:
URL:https://templebethdavid.online/event/adult-hebrew-4/
END:VEVENT
BEGIN:VEVENT
DTSTART;TZID=UTC:20260927T084500
DTEND;TZID=UTC:20260927T091500
DTSTAMP:20260422T215822
CREATED:20260212T200245Z
LAST-MODIFIED:20260220T195927Z
UID:4884-1790498700-1790500500@templebethdavid.online
SUMMARY:Men's Club
DESCRIPTION:
URL:https://templebethdavid.online/event/mens-club-4/
END:VEVENT
BEGIN:VEVENT
DTSTART;TZID=UTC:20260927T093000
DTEND;TZID=UTC:20260927T103000
DTSTAMP:20260422T215822
CREATED:20260212T200533Z
LAST-MODIFIED:20260212T200533Z
UID:4886-1790501400-1790505000@templebethdavid.online
SUMMARY:Adult Hebrew
DESCRIPTION:
URL:https://templebethdavid.online/event/adult-hebrew-5/
END:VEVENT
BEGIN:VEVENT
DTSTART;TZID=UTC:20261004T090000
DTEND;TZID=UTC:20261004T093000
DTSTAMP:20260422T215822
CREATED:20260212T201211Z
LAST-MODIFIED:20260212T201211Z
UID:4888-1791104400-1791106200@templebethdavid.online
SUMMARY:Men's Club
DESCRIPTION:
URL:https://templebethdavid.online/event/mens-club-5/
END:VEVENT
BEGIN:VEVENT
DTSTART;TZID=UTC:20261004T093000
DTEND;TZID=UTC:20261004T103000
DTSTAMP:20260422T215822
CREATED:20260212T201310Z
LAST-MODIFIED:20260212T201310Z
UID:4890-1791106200-1791109800@templebethdavid.online
SUMMARY:Adult Hebrew
DESCRIPTION:
URL:https://templebethdavid.online/event/adult-hebrew-6/
END:VEVENT
BEGIN:VEVENT
DTSTART;TZID=UTC:20261011T090000
DTEND;TZID=UTC:20261011T093000
DTSTAMP:20260422T215822
CREATED:20260212T201422Z
LAST-MODIFIED:20260212T201422Z
UID:4892-1791709200-1791711000@templebethdavid.online
SUMMARY:Men's Club
DESCRIPTION:Men’s Club
URL:https://templebethdavid.online/event/mens-club-6/
END:VEVENT
BEGIN:VEVENT
DTSTART;TZID=UTC:20261011T093000
DTEND;TZID=UTC:20261011T103000
DTSTAMP:20260422T215822
CREATED:20260212T201731Z
LAST-MODIFIED:20260212T201731Z
UID:4894-1791711000-1791714600@templebethdavid.online
SUMMARY:Adult Hebrew
DESCRIPTION:Adult Hebrew
URL:https://templebethdavid.online/event/adult-hebrew-7/
END:VEVENT
BEGIN:VEVENT
DTSTART;TZID=UTC:20261018T090000
DTEND;TZID=UTC:20261018T093000
DTSTAMP:20260422T215822
CREATED:20260212T202051Z
LAST-MODIFIED:20260212T202051Z
UID:4896-1792314000-1792315800@templebethdavid.online
SUMMARY:Men's Club
DESCRIPTION:
URL:https://templebethdavid.online/event/mens-club-7/
END:VEVENT
BEGIN:VEVENT
DTSTART;TZID=UTC:20261018T093000
DTEND;TZID=UTC:20261018T103000
DTSTAMP:20260422T215822
CREATED:20260212T202123Z
LAST-MODIFIED:20260212T202123Z
UID:4898-1792315800-1792319400@templebethdavid.online
SUMMARY:Adult Hebrew
DESCRIPTION:Adult Hebrew
URL:https://templebethdavid.online/event/adult-hebrew-8/
END:VEVENT
BEGIN:VEVENT
DTSTART;TZID=UTC:20261025T090000
DTEND;TZID=UTC:20261025T093000
DTSTAMP:20260422T215822
CREATED:20260212T202247Z
LAST-MODIFIED:20260212T202247Z
UID:4900-1792918800-1792920600@templebethdavid.online
SUMMARY:Men's Club
DESCRIPTION:
URL:https://templebethdavid.online/event/mens-club-8/
END:VEVENT
BEGIN:VEVENT
DTSTART;TZID=UTC:20261025T093000
DTEND;TZID=UTC:20261025T103000
DTSTAMP:20260422T215822
CREATED:20260212T202429Z
LAST-MODIFIED:20260212T202429Z
UID:4902-1792920600-1792924200@templebethdavid.online
SUMMARY:Adult Hebrew
DESCRIPTION:
URL:https://templebethdavid.online/event/adult-hebrew-9/
END:VEVENT
BEGIN:VEVENT
DTSTART;TZID=UTC:20261101T090000
DTEND;TZID=UTC:20261101T093000
DTSTAMP:20260422T215822
CREATED:20260212T202600Z
LAST-MODIFIED:20260212T202600Z
UID:4904-1793523600-1793525400@templebethdavid.online
SUMMARY:Men's Club
DESCRIPTION:
URL:https://templebethdavid.online/event/mens-club-9/
END:VEVENT
BEGIN:VEVENT
DTSTART;TZID=UTC:20261101T093000
DTEND;TZID=UTC:20261101T103000
DTSTAMP:20260422T215822
CREATED:20260212T205248Z
LAST-MODIFIED:20260212T205248Z
UID:4906-1793525400-1793529000@templebethdavid.online
SUMMARY:Adult Hebrew
DESCRIPTION:
URL:https://templebethdavid.online/event/adult-hebrew-10/
END:VEVENT
BEGIN:VEVENT
DTSTART;TZID=UTC:20261108T090000
DTEND;TZID=UTC:20261108T093000
DTSTAMP:20260422T215822
CREATED:20260212T212314Z
LAST-MODIFIED:20260212T212314Z
UID:4908-1794128400-1794130200@templebethdavid.online
SUMMARY:Men's Club
DESCRIPTION:
URL:https://templebethdavid.online/event/mens-club-10/
END:VEVENT
BEGIN:VEVENT
DTSTART;TZID=UTC:20261108T093000
DTEND;TZID=UTC:20261108T103000
DTSTAMP:20260422T215822
CREATED:20260212T212434Z
LAST-MODIFIED:20260212T212434Z
UID:4910-1794130200-1794133800@templebethdavid.online
SUMMARY:Adult Hebrew
DESCRIPTION:
URL:https://templebethdavid.online/event/adult-hebrew-11/
END:VEVENT
BEGIN:VEVENT
DTSTART;TZID=UTC:20261115T090000
DTEND;TZID=UTC:20261115T093000
DTSTAMP:20260422T215822
CREATED:20260212T212800Z
LAST-MODIFIED:20260212T212800Z
UID:4912-1794733200-1794735000@templebethdavid.online
SUMMARY:Men's Club
DESCRIPTION:Men’s Club
URL:https://templebethdavid.online/event/mens-club-11/
END:VEVENT
BEGIN:VEVENT
DTSTART;TZID=UTC:20261115T093000
DTEND;TZID=UTC:20261115T103000
DTSTAMP:20260422T215822
CREATED:20260212T213328Z
LAST-MODIFIED:20260212T213328Z
UID:4914-1794735000-1794738600@templebethdavid.online
SUMMARY:Adult Hebrew
DESCRIPTION:
URL:https://templebethdavid.online/event/adult-hebrew-12/
END:VEVENT
BEGIN:VEVENT
DTSTART;TZID=UTC:20261122T090000
DTEND;TZID=UTC:20261122T093000
DTSTAMP:20260422T215822
CREATED:20260212T213424Z
LAST-MODIFIED:20260212T213424Z
UID:4916-1795338000-1795339800@templebethdavid.online
SUMMARY:Men's Club
DESCRIPTION:Men’s Club
URL:https://templebethdavid.online/event/mens-club-12/
END:VEVENT
BEGIN:VEVENT
DTSTART;TZID=UTC:20261122T093000
DTEND;TZID=UTC:20261122T103000
DTSTAMP:20260422T215822
CREATED:20260212T213807Z
LAST-MODIFIED:20260212T213807Z
UID:4918-1795339800-1795343400@templebethdavid.online
SUMMARY:Adult Hebrew
DESCRIPTION:
URL:https://templebethdavid.online/event/adult-hebrew-13/
END:VEVENT
BEGIN:VEVENT
DTSTART;TZID=UTC:20261129T090000
DTEND;TZID=UTC:20261129T213000
DTSTAMP:20260422T215822
CREATED:20260212T214405Z
LAST-MODIFIED:20260212T214405Z
UID:4920-1795942800-1795987800@templebethdavid.online
SUMMARY:Men's Club
DESCRIPTION:Men’s Club
URL:https://templebethdavid.online/event/mens-club-13/
END:VEVENT
BEGIN:VEVENT
DTSTART;TZID=UTC:20261129T093000
DTEND;TZID=UTC:20261129T103000
DTSTAMP:20260422T215822
CREATED:20260212T214439Z
LAST-MODIFIED:20260212T214439Z
UID:4922-1795944600-1795948200@templebethdavid.online
SUMMARY:Adult Hebrew
DESCRIPTION:
URL:https://templebethdavid.online/event/adult-hebrew-14/
END:VEVENT
BEGIN:VEVENT
DTSTART;TZID=UTC:20261206T090000
DTEND;TZID=UTC:20261206T093000
DTSTAMP:20260422T215822
CREATED:20260212T215409Z
LAST-MODIFIED:20260212T215409Z
UID:4924-1796547600-1796549400@templebethdavid.online
SUMMARY:Men's Club
DESCRIPTION:
URL:https://templebethdavid.online/event/mens-club-14/
END:VEVENT
BEGIN:VEVENT
DTSTART;TZID=UTC:20261206T093000
DTEND;TZID=UTC:20261206T103000
DTSTAMP:20260422T215822
CREATED:20260212T215452Z
LAST-MODIFIED:20260212T215452Z
UID:4926-1796549400-1796553000@templebethdavid.online
SUMMARY:Adult Hebrew
DESCRIPTION:Adult Hebrew
URL:https://templebethdavid.online/event/adult-hebrew-15/
END:VEVENT
END:VCALENDAR