BEGIN:VCALENDAR
VERSION:2.0
PRODID:-//Temple Beth David - ECPv6.15.20//NONSGML v1.0//EN
CALSCALE:GREGORIAN
METHOD:PUBLISH
X-ORIGINAL-URL:https://templebethdavid.online
X-WR-CALDESC:Events for Temple Beth David
REFRESH-INTERVAL;VALUE=DURATION:PT1H
X-Robots-Tag:noindex
X-PUBLISHED-TTL:PT1H
BEGIN:VTIMEZONE
TZID:UTC
BEGIN:STANDARD
TZOFFSETFROM:+0000
TZOFFSETTO:+0000
TZNAME:UTC
DTSTART:20250101T000000
END:STANDARD
END:VTIMEZONE
BEGIN:VEVENT
DTSTART;TZID=UTC:20260802T084500
DTEND;TZID=UTC:20260802T091500
DTSTAMP:20260422T204305
CREATED:20250729T201436Z
LAST-MODIFIED:20260219T221155Z
UID:4291-1785660300-1785662100@templebethdavid.online
SUMMARY:Men's Club Chat
DESCRIPTION:
URL:https://templebethdavid.online/event/mens-club-chat-88/
END:VEVENT
BEGIN:VEVENT
DTSTART;TZID=UTC:20260802T093000
DTEND;TZID=UTC:20260802T103000
DTSTAMP:20260422T204305
CREATED:20250729T201610Z
LAST-MODIFIED:20250729T201610Z
UID:4293-1785663000-1785666600@templebethdavid.online
SUMMARY:Adult Hebrew Intermediate
DESCRIPTION:
URL:https://templebethdavid.online/event/adult-hebrew-intermediate-79/
END:VEVENT
BEGIN:VEVENT
DTSTART;TZID=UTC:20260807T183000
DTEND;TZID=UTC:20260807T213000
DTSTAMP:20260422T204305
CREATED:20260211T215937Z
LAST-MODIFIED:20260211T215937Z
UID:4879-1786127400-1786138200@templebethdavid.online
SUMMARY:Kinder Shabbat and Main Service
DESCRIPTION:
URL:https://templebethdavid.online/event/kinder-shabbat-and-main-service-5/
END:VEVENT
BEGIN:VEVENT
DTSTART;TZID=UTC:20260809T093000
DTEND;TZID=UTC:20260809T103000
DTSTAMP:20260422T204305
CREATED:20250729T210815Z
LAST-MODIFIED:20250729T210815Z
UID:4297-1786267800-1786271400@templebethdavid.online
SUMMARY:Adult Hebrew Intermediate
DESCRIPTION:
URL:https://templebethdavid.online/event/adult-hebrew-intermediate-80/
END:VEVENT
BEGIN:VEVENT
DTSTART;TZID=UTC:20260814T193000
DTEND;TZID=UTC:20260814T213000
DTSTAMP:20260422T204305
CREATED:20260211T220039Z
LAST-MODIFIED:20260211T220039Z
UID:4881-1786735800-1786743000@templebethdavid.online
SUMMARY:Shabbat Service with Rabbi Ira and Cantor Beth
DESCRIPTION:Shabbat
URL:https://templebethdavid.online/event/shabbat-service-with-rabbi-ira-and-cantor-beth-2/
END:VEVENT
BEGIN:VEVENT
DTSTART;TZID=UTC:20260816T084500
DTEND;TZID=UTC:20260816T091500
DTSTAMP:20260422T204305
CREATED:20250729T205114Z
LAST-MODIFIED:20260219T221451Z
UID:4295-1786869900-1786871700@templebethdavid.online
SUMMARY:Men's Club Chat
DESCRIPTION:
URL:https://templebethdavid.online/event/mens-club-chat-89/
END:VEVENT
BEGIN:VEVENT
DTSTART;TZID=UTC:20260816T090000
DTEND;TZID=UTC:20260816T093000
DTSTAMP:20260422T204305
CREATED:20250729T212134Z
LAST-MODIFIED:20250729T212134Z
UID:4299-1786870800-1786872600@templebethdavid.online
SUMMARY:Men's Club Chat
DESCRIPTION:
URL:https://templebethdavid.online/event/mens-club-chat-90/
END:VEVENT
BEGIN:VEVENT
DTSTART;TZID=UTC:20260816T093000
DTEND;TZID=UTC:20260816T103000
DTSTAMP:20260422T204305
CREATED:20251021T193918Z
LAST-MODIFIED:20251021T193918Z
UID:4646-1786872600-1786876200@templebethdavid.online
SUMMARY:Adult Hebrew Intermediate
DESCRIPTION:
URL:https://templebethdavid.online/event/adult-hebrew-intermediate-82/
END:VEVENT
BEGIN:VEVENT
DTSTART;TZID=UTC:20260823T090000
DTEND;TZID=UTC:20260823T093000
DTSTAMP:20260422T204305
CREATED:20251021T194718Z
LAST-MODIFIED:20251021T194718Z
UID:4648-1787475600-1787477400@templebethdavid.online
SUMMARY:Men's Club Chat
DESCRIPTION:Men’s Club Chat
URL:https://templebethdavid.online/event/mens-club-chat-91/
END:VEVENT
BEGIN:VEVENT
DTSTART;TZID=UTC:20260823T093000
DTEND;TZID=UTC:20260823T103000
DTSTAMP:20260422T204305
CREATED:20251021T194808Z
LAST-MODIFIED:20251021T194808Z
UID:4650-1787477400-1787481000@templebethdavid.online
SUMMARY:Adult Hebrew Intermediate
DESCRIPTION:Adult Hebrew
URL:https://templebethdavid.online/event/adult-hebrew-intermediate-81/
END:VEVENT
BEGIN:VEVENT
DTSTART;TZID=UTC:20260830T084500
DTEND;TZID=UTC:20260830T211500
DTSTAMP:20260422T204305
CREATED:20251021T194944Z
LAST-MODIFIED:20260220T192123Z
UID:4652-1788079500-1788124500@templebethdavid.online
SUMMARY:Men's Club Chat
DESCRIPTION:15Men’s club
URL:https://templebethdavid.online/event/mens-club-chat-92/
END:VEVENT
BEGIN:VEVENT
DTSTART;TZID=UTC:20260830T093000
DTEND;TZID=UTC:20260830T103000
DTSTAMP:20260422T204305
CREATED:20251021T195019Z
LAST-MODIFIED:20251021T195019Z
UID:4654-1788082200-1788085800@templebethdavid.online
SUMMARY:Adult Hebrew Intermediate
DESCRIPTION:
URL:https://templebethdavid.online/event/adult-hebrew-intermediate-83/
END:VEVENT
END:VCALENDAR