BEGIN:VCALENDAR
VERSION:2.0
PRODID:-//Temple Beth David - ECPv6.15.20//NONSGML v1.0//EN
CALSCALE:GREGORIAN
METHOD:PUBLISH
X-WR-CALNAME:Temple Beth David
X-ORIGINAL-URL:https://templebethdavid.online
X-WR-CALDESC:Events for Temple Beth David
REFRESH-INTERVAL;VALUE=DURATION:PT1H
X-Robots-Tag:noindex
X-PUBLISHED-TTL:PT1H
BEGIN:VTIMEZONE
TZID:UTC
BEGIN:STANDARD
TZOFFSETFROM:+0000
TZOFFSETTO:+0000
TZNAME:UTC
DTSTART:20250101T000000
END:STANDARD
END:VTIMEZONE
BEGIN:VEVENT
DTSTART;TZID=UTC:20260102T183000
DTEND;TZID=UTC:20260102T213000
DTSTAMP:20260422T191401
CREATED:20250814T185941Z
LAST-MODIFIED:20251211T202041Z
UID:4411-1767378600-1767389400@templebethdavid.online
SUMMARY:Kinder Shabbat and Shabbat for All Ages on Zoom
DESCRIPTION:
URL:https://templebethdavid.online/event/kinder-shabbat-and-shabbat-for-all-ages-7/
END:VEVENT
BEGIN:VEVENT
DTSTART;TZID=UTC:20260104T090000
DTEND;TZID=UTC:20260104T093000
DTSTAMP:20260422T191401
CREATED:20250709T202901Z
LAST-MODIFIED:20250709T202901Z
UID:4071-1767517200-1767519000@templebethdavid.online
SUMMARY:Men's Club Chat
DESCRIPTION:
URL:https://templebethdavid.online/event/mens-club-chat-57/
END:VEVENT
BEGIN:VEVENT
DTSTART;TZID=UTC:20260104T093000
DTEND;TZID=UTC:20260104T103000
DTSTAMP:20260422T191401
CREATED:20250709T203053Z
LAST-MODIFIED:20250709T203053Z
UID:4073-1767519000-1767522600@templebethdavid.online
SUMMARY:Adult Hebrew Intermediate
DESCRIPTION:
URL:https://templebethdavid.online/event/adult-hebrew-intermediate-42/
END:VEVENT
BEGIN:VEVENT
DTSTART;TZID=UTC:20260104T093000
DTEND;TZID=UTC:20260104T123000
DTSTAMP:20260422T191401
CREATED:20250709T202710Z
LAST-MODIFIED:20250709T202710Z
UID:4069-1767519000-1767529800@templebethdavid.online
SUMMARY:Jewish Adventure School
DESCRIPTION:
URL:https://templebethdavid.online/event/jewish-adventure-school-30/
END:VEVENT
BEGIN:VEVENT
DTSTART;TZID=UTC:20260109T190000
DTEND;TZID=UTC:20260109T210000
DTSTAMP:20260422T191401
CREATED:20250814T193727Z
LAST-MODIFIED:20250814T193727Z
UID:4413-1767985200-1767992400@templebethdavid.online
SUMMARY:Rabbi Ira and Cantor Beth
DESCRIPTION:
URL:https://templebethdavid.online/event/rabbi-ira-and-cantor-beth-8/
END:VEVENT
BEGIN:VEVENT
DTSTART;TZID=UTC:20260111T090000
DTEND;TZID=UTC:20260111T093000
DTSTAMP:20260422T191401
CREATED:20250709T203312Z
LAST-MODIFIED:20250709T203312Z
UID:4077-1768122000-1768123800@templebethdavid.online
SUMMARY:Men's Club Chat
DESCRIPTION:
URL:https://templebethdavid.online/event/mens-club-chat-61/
END:VEVENT
BEGIN:VEVENT
DTSTART;TZID=UTC:20260111T093000
DTEND;TZID=UTC:20260111T103000
DTSTAMP:20260422T191401
CREATED:20250709T203343Z
LAST-MODIFIED:20250709T203343Z
UID:4079-1768123800-1768127400@templebethdavid.online
SUMMARY:Adult Hebrew Intermediate
DESCRIPTION:
URL:https://templebethdavid.online/event/adult-hebrew-intermediate-43/
END:VEVENT
BEGIN:VEVENT
DTSTART;TZID=UTC:20260111T093000
DTEND;TZID=UTC:20260111T123000
DTSTAMP:20260422T191401
CREATED:20250709T203220Z
LAST-MODIFIED:20250709T203220Z
UID:4075-1768123800-1768134600@templebethdavid.online
SUMMARY:Jewish Adventure School
DESCRIPTION:
URL:https://templebethdavid.online/event/jewish-adventure-school-31/
END:VEVENT
BEGIN:VEVENT
DTSTART;TZID=UTC:20260116T193000
DTEND;TZID=UTC:20260116T213000
DTSTAMP:20260422T191401
CREATED:20250814T194517Z
LAST-MODIFIED:20251211T203338Z
UID:4415-1768591800-1768599000@templebethdavid.online
SUMMARY:L'Dor Va'Dor MLK Service - Consecration of new Students
DESCRIPTION:
URL:https://templebethdavid.online/event/ldor-vador-service-8/
END:VEVENT
BEGIN:VEVENT
DTSTART;TZID=UTC:20260118T090000
DTEND;TZID=UTC:20260118T093000
DTSTAMP:20260422T191401
CREATED:20250710T183629Z
LAST-MODIFIED:20250710T183629Z
UID:4113-1768726800-1768728600@templebethdavid.online
SUMMARY:Men's Club Chat
DESCRIPTION:
URL:https://templebethdavid.online/event/mens-club-chat-66/
END:VEVENT
BEGIN:VEVENT
DTSTART;TZID=UTC:20260118T093000
DTEND;TZID=UTC:20260118T103000
DTSTAMP:20260422T191401
CREATED:20250710T183655Z
LAST-MODIFIED:20250710T183655Z
UID:4115-1768728600-1768732200@templebethdavid.online
SUMMARY:Adult Hebrew Intermediate
DESCRIPTION:
URL:https://templebethdavid.online/event/adult-hebrew-intermediate-54/
END:VEVENT
BEGIN:VEVENT
DTSTART;TZID=UTC:20260123T193000
DTEND;TZID=UTC:20260123T213000
DTSTAMP:20260422T191401
CREATED:20251211T204538Z
LAST-MODIFIED:20251211T204538Z
UID:4724-1769196600-1769203800@templebethdavid.online
SUMMARY:Musical Shabbat with Rabbi Ira and Ed Kwiatkowski
DESCRIPTION:
URL:https://templebethdavid.online/event/musical-shabbat-with-rabbi-ira-and-ed-kwiatkowski/
END:VEVENT
BEGIN:VEVENT
DTSTART;TZID=UTC:20260125T090000
DTEND;TZID=UTC:20260125T093000
DTSTAMP:20260422T191401
CREATED:20250709T203517Z
LAST-MODIFIED:20250709T203517Z
UID:4083-1769331600-1769333400@templebethdavid.online
SUMMARY:Men's Club Chat
DESCRIPTION:
URL:https://templebethdavid.online/event/mens-club-chat-62/
END:VEVENT
BEGIN:VEVENT
DTSTART;TZID=UTC:20260125T093000
DTEND;TZID=UTC:20260125T103000
DTSTAMP:20260422T191401
CREATED:20250709T203549Z
LAST-MODIFIED:20250709T203549Z
UID:4085-1769333400-1769337000@templebethdavid.online
SUMMARY:Adult Hebrew Intermediate
DESCRIPTION:
URL:https://templebethdavid.online/event/adult-hebrew-intermediate-44/
END:VEVENT
BEGIN:VEVENT
DTSTART;TZID=UTC:20260125T093000
DTEND;TZID=UTC:20260125T123000
DTSTAMP:20260422T191401
CREATED:20250709T203446Z
LAST-MODIFIED:20250709T203446Z
UID:4081-1769333400-1769344200@templebethdavid.online
SUMMARY:Jewish Adventure School
DESCRIPTION:
URL:https://templebethdavid.online/event/jewish-adventure-school-32/
END:VEVENT
BEGIN:VEVENT
DTSTART;TZID=UTC:20260130T193000
DTEND;TZID=UTC:20260130T213000
DTSTAMP:20260422T191401
CREATED:20251211T204654Z
LAST-MODIFIED:20251211T204654Z
UID:4726-1769801400-1769808600@templebethdavid.online
SUMMARY:Shabbat Tu B'Shevat
DESCRIPTION:
URL:https://templebethdavid.online/event/shabbat-tu-bshevat/
END:VEVENT
END:VCALENDAR