BEGIN:VCALENDAR
VERSION:2.0
PRODID:-//Temple Beth David - ECPv6.15.20//NONSGML v1.0//EN
CALSCALE:GREGORIAN
METHOD:PUBLISH
X-WR-CALNAME:Temple Beth David
X-ORIGINAL-URL:https://templebethdavid.online
X-WR-CALDESC:Events for Temple Beth David
REFRESH-INTERVAL;VALUE=DURATION:PT1H
X-Robots-Tag:noindex
X-PUBLISHED-TTL:PT1H
BEGIN:VTIMEZONE
TZID:UTC
BEGIN:STANDARD
TZOFFSETFROM:+0000
TZOFFSETTO:+0000
TZNAME:UTC
DTSTART:20230101T000000
END:STANDARD
END:VTIMEZONE
BEGIN:VEVENT
DTSTART;TZID=UTC:20240630T130000
DTEND;TZID=UTC:20240630T150000
DTSTAMP:20260425T203459
CREATED:20240613T074809Z
LAST-MODIFIED:20240613T074809Z
UID:1426-1719752400-1719759600@templebethdavid.online
SUMMARY:Sisterhood Stitch & Kvetch
DESCRIPTION:When the TBD ladies get together\, its a blast!  Come to share your latest patterns while kibitzing about everything going on in our lives.  And\, you can check out Arsineh’s Origami demonstration.  Bring some snacks and plan for a fun Sunday afternoon with the girls.
URL:https://templebethdavid.online/event/sisterhood-stitch-kvetch/
ATTACH;FMTTYPE=image/jpeg:https://templebethdavid.online/wp-content/uploads/2024/06/6b9b1efe-df9b-4baa-833a-d2b1ca9c7ff5.jpg
END:VEVENT
BEGIN:VEVENT
DTSTART;TZID=UTC:20240623T140000
DTEND;TZID=UTC:20240623T140000
DTSTAMP:20260425T203459
CREATED:20240609T174549Z
LAST-MODIFIED:20240613T074625Z
UID:1204-1719151200-1719151200@templebethdavid.online
SUMMARY:Men's Club Presents Baseball with the Quakes!
DESCRIPTION:Join the boys for an afternoon of exciting MLB Minor League action with the Dodger’s Quakes in Rancho Cucamonga.  The team will be hosting the Inland Empire 66’ers. \nGreat seats between home plate and 3rd base\, not so kosher Dodger Dogs\, easy parking and lots of fun for the kids and the whole family! \nReserve your tickets by June 22.  Admission just $15\, parking $6.  RSVP Jerry Shutman – (626) 783 6503 – geraldshutman@gmail.com.
URL:https://templebethdavid.online/event/tbd-mens-club-baseball-with-quakes/
ATTACH;FMTTYPE=image/png:https://templebethdavid.online/wp-content/uploads/2024/06/9854aa66-9eb9-4bf6-a33b-ced5efa6db8b.png
END:VEVENT
BEGIN:VEVENT
DTSTART;TZID=UTC:20240614T193000
DTEND;TZID=UTC:20240614T193000
DTSTAMP:20260425T203459
CREATED:20240608T195013Z
LAST-MODIFIED:20240613T074551Z
UID:974-1718393400-1718393400@templebethdavid.online
SUMMARY:Sisterhood Sabbath
DESCRIPTION:In this week’s Torah portion Numbers 4:21−7:89\, the Eternal One spoke to Moses: “Take a census of the Gershonites also\, by their ancestral house and by their clans.” – Numbers 4:21-22 \nThe Sabbath service will be presented by Temple Beth David’s Rabbi Ira Rosenfeld and accompanied by his gracious wife and Cantor Beth Rosenfeld. \nThe Oneg will be sponsor by Temple Beth David Sisterhood. \nWelcome everyone in person or online!
URL:https://templebethdavid.online/event/sisterhood-sabbath/
ATTACH;FMTTYPE=image/jpeg:https://templebethdavid.online/wp-content/uploads/2024/06/07aececd-b62f-41ba-b3e7-a8e8245c6cbb.jpg
END:VEVENT
BEGIN:VEVENT
DTSTART;TZID=UTC:20240531T193000
DTEND;TZID=UTC:20240531T233000
DTSTAMP:20260425T203459
CREATED:20240609T173853Z
LAST-MODIFIED:20240609T181059Z
UID:1202-1717183800-1717198200@templebethdavid.online
SUMMARY:Shabbat Kumsit 2
DESCRIPTION:
URL:https://templebethdavid.online/event/shabbat-kumsit-2/
ATTACH;FMTTYPE=image/png:https://templebethdavid.online/wp-content/uploads/2024/06/b7e5d253-51ff-40f0-80f6-e9f6b142caed.png
END:VEVENT
END:VCALENDAR