BEGIN:VCALENDAR
VERSION:2.0
PRODID:-//Temple Beth David - ECPv6.15.20//NONSGML v1.0//EN
CALSCALE:GREGORIAN
METHOD:PUBLISH
X-WR-CALNAME:Temple Beth David
X-ORIGINAL-URL:https://templebethdavid.online
X-WR-CALDESC:Events for Temple Beth David
REFRESH-INTERVAL;VALUE=DURATION:PT1H
X-Robots-Tag:noindex
X-PUBLISHED-TTL:PT1H
BEGIN:VTIMEZONE
TZID:UTC
BEGIN:STANDARD
TZOFFSETFROM:+0000
TZOFFSETTO:+0000
TZNAME:UTC
DTSTART:20230101T000000
END:STANDARD
END:VTIMEZONE
BEGIN:VEVENT
DTSTART;TZID=UTC:20241110T093000
DTEND;TZID=UTC:20241110T100000
DTSTAMP:20260425T165149
CREATED:20241104T165503Z
LAST-MODIFIED:20241107T173301Z
UID:2536-1731231000-1731232800@templebethdavid.online
SUMMARY:Mindfulness Meditation with Vic Herzfeld
DESCRIPTION:
URL:https://templebethdavid.online/event/mindfullness-meditation-with-vic-herzfeld/
END:VEVENT
BEGIN:VEVENT
DTSTART;TZID=UTC:20241110T090000
DTEND;TZID=UTC:20241110T100000
DTSTAMP:20260425T165149
CREATED:20241101T204214Z
LAST-MODIFIED:20241104T184728Z
UID:2518-1731229200-1731232800@templebethdavid.online
SUMMARY:Adult Hebrew Beginners
DESCRIPTION:
URL:https://templebethdavid.online/event/adult-hebrew-beginners-intermediate/
END:VEVENT
BEGIN:VEVENT
DTSTART;TZID=UTC:20241110T090000
DTEND;TZID=UTC:20241110T093000
DTSTAMP:20260425T165149
CREATED:20241104T165147Z
LAST-MODIFIED:20241104T165147Z
UID:2534-1731229200-1731231000@templebethdavid.online
SUMMARY:Men's Club Chat
DESCRIPTION:
URL:https://templebethdavid.online/event/mens-club-chat/
END:VEVENT
BEGIN:VEVENT
DTSTART;TZID=UTC:20241108T193000
DTEND;TZID=UTC:20241108T210000
DTSTAMP:20260425T165149
CREATED:20240912T153401Z
LAST-MODIFIED:20241107T194447Z
UID:2145-1731094200-1731099600@templebethdavid.online
SUMMARY:Shabbat Service w/ Rabbi Ira and Cantor Beth
DESCRIPTION:
URL:https://templebethdavid.online/event/shabbat-service-w-rabbi-ira-and-cantor-beth/
ATTACH;FMTTYPE=image/jpeg:https://templebethdavid.online/wp-content/uploads/2024/09/vet.jpg
END:VEVENT
BEGIN:VEVENT
DTSTART;TZID=UTC:20241108T093000
DTEND;TZID=UTC:20241108T103000
DTSTAMP:20260425T165149
CREATED:20241108T224253Z
LAST-MODIFIED:20241108T224253Z
UID:3149-1731058200-1731061800@templebethdavid.online
SUMMARY:Adult Hebrew Intermediate
DESCRIPTION:
URL:https://templebethdavid.online/event/adult-hebrew-intermediate-53/
END:VEVENT
BEGIN:VEVENT
DTSTART;TZID=UTC:20241103T093000
DTEND;TZID=UTC:20241103T100000
DTSTAMP:20260425T165149
CREATED:20241101T203836Z
LAST-MODIFIED:20241107T181840Z
UID:2515-1730626200-1730628000@templebethdavid.online
SUMMARY:Mindfulness Meditation with Vic Herzfeld
DESCRIPTION:
URL:https://templebethdavid.online/event/mens-club-chat-mindfullness-mediation-with-vic-herzfeld/
END:VEVENT
BEGIN:VEVENT
DTSTART;TZID=UTC:20241103T091500
DTEND;TZID=UTC:20241103T123000
DTSTAMP:20260425T165149
CREATED:20241101T183400Z
LAST-MODIFIED:20241101T202322Z
UID:2499-1730625300-1730637000@templebethdavid.online
SUMMARY:Jewish Adventure School
DESCRIPTION:
URL:https://templebethdavid.online/event/jewish-adventure-school-3/
END:VEVENT
BEGIN:VEVENT
DTSTART;TZID=UTC:20241103T090000
DTEND;TZID=UTC:20241103T220000
DTSTAMP:20260425T165149
CREATED:20241101T203337Z
LAST-MODIFIED:20241101T204623Z
UID:2512-1730624400-1730671200@templebethdavid.online
SUMMARY:Adult Hebrew-Beginners/Intermediate
DESCRIPTION:
URL:https://templebethdavid.online/event/adult-hebrew-beginners-3/
END:VEVENT
BEGIN:VEVENT
DTSTART;TZID=UTC:20241101T193000
DTEND;TZID=UTC:20241101T203000
DTSTAMP:20260425T165149
CREATED:20240925T222932Z
LAST-MODIFIED:20241101T171939Z
UID:2249-1730489400-1730493000@templebethdavid.online
SUMMARY:Service with Rabbi Ira and Gitai
DESCRIPTION:
URL:https://templebethdavid.online/event/service-with-rabbi-ira-and-gitai-2/
END:VEVENT
BEGIN:VEVENT
DTSTART;TZID=UTC:20241101T183000
DTEND;TZID=UTC:20241101T193000
DTSTAMP:20260425T165149
CREATED:20240912T153122Z
LAST-MODIFIED:20240925T222841Z
UID:2136-1730485800-1730489400@templebethdavid.online
SUMMARY:Kinder Shabbat
DESCRIPTION:
URL:https://templebethdavid.online/event/kinder-shabbat-shabbat-for-all-ages-with-gitai/
END:VEVENT
BEGIN:VEVENT
DTSTART;TZID=UTC:20241029T193000
DTEND;TZID=UTC:20241029T203000
DTSTAMP:20260425T165149
CREATED:20240925T225324Z
LAST-MODIFIED:20240925T225324Z
UID:2276-1730230200-1730233800@templebethdavid.online
SUMMARY:Torah Talk Tuesday
DESCRIPTION:
URL:https://templebethdavid.online/event/torah-talk-tuesday-7/
END:VEVENT
BEGIN:VEVENT
DTSTART;TZID=UTC:20241027T093000
DTEND;TZID=UTC:20241027T123000
DTSTAMP:20260425T165149
CREATED:20241009T233334Z
LAST-MODIFIED:20241009T233334Z
UID:2386-1730021400-1730032200@templebethdavid.online
SUMMARY:Bagel Breakfast
DESCRIPTION:
URL:https://templebethdavid.online/event/bagel-breakfast/
ATTACH;FMTTYPE=image/png:https://templebethdavid.online/wp-content/uploads/2024/10/Heartbreak-of-October-7th-Hamas-Israel-WarR.png
END:VEVENT
BEGIN:VEVENT
DTSTART;TZID=UTC:20241022T193000
DTEND;TZID=UTC:20241022T203000
DTSTAMP:20260425T165149
CREATED:20240925T225257Z
LAST-MODIFIED:20240925T225257Z
UID:2274-1729625400-1729629000@templebethdavid.online
SUMMARY:Torah Talk Tuesday
DESCRIPTION:
URL:https://templebethdavid.online/event/torah-talk-tuesday-6/
END:VEVENT
BEGIN:VEVENT
DTSTART;TZID=UTC:20241020T091500
DTEND;TZID=UTC:20241020T123000
DTSTAMP:20260425T165149
CREATED:20240925T223744Z
LAST-MODIFIED:20241008T211425Z
UID:2264-1729415700-1729427400@templebethdavid.online
SUMMARY:Jewish Adventure School
DESCRIPTION:
URL:https://templebethdavid.online/event/jewish-adventure-school-2/
END:VEVENT
BEGIN:VEVENT
DTSTART;TZID=UTC:20241018T193000
DTEND;TZID=UTC:20241018T203000
DTSTAMP:20260425T165149
CREATED:20240827T224801Z
LAST-MODIFIED:20240925T222612Z
UID:2069-1729279800-1729283400@templebethdavid.online
SUMMARY:L’Dor Va’Dor Service and Sukkot Services
DESCRIPTION:
URL:https://templebethdavid.online/event/ldor-vador-service-and-sukkot-services/
ATTACH;FMTTYPE=image/jpeg:https://templebethdavid.online/wp-content/uploads/2024/08/POM.jpg
END:VEVENT
BEGIN:VEVENT
DTSTART;TZID=UTC:20241015T193000
DTEND;TZID=UTC:20241015T203000
DTSTAMP:20260425T165149
CREATED:20240925T225203Z
LAST-MODIFIED:20240925T225203Z
UID:2272-1729020600-1729024200@templebethdavid.online
SUMMARY:Torah Talk Tuesday
DESCRIPTION:
URL:https://templebethdavid.online/event/torah-talk-tuesday-5/
END:VEVENT
BEGIN:VEVENT
DTSTART;TZID=UTC:20241012T093000
DTEND;TZID=UTC:20241012T193000
DTSTAMP:20260425T165149
CREATED:20240827T224251Z
LAST-MODIFIED:20240827T224251Z
UID:2062-1728725400-1728761400@templebethdavid.online
SUMMARY:YOM KIPPUR DAY
DESCRIPTION:
URL:https://templebethdavid.online/event/yom-kippur-day/
END:VEVENT
BEGIN:VEVENT
DTSTART;TZID=UTC:20241011T193000
DTEND;TZID=UTC:20241011T233000
DTSTAMP:20260425T165149
CREATED:20240827T224158Z
LAST-MODIFIED:20241008T211400Z
UID:2060-1728675000-1728689400@templebethdavid.online
SUMMARY:EREV YOM KIPPUR/ KOL NIDRE
DESCRIPTION:
URL:https://templebethdavid.online/event/erev-yom-kippur-kol-nidre/
END:VEVENT
BEGIN:VEVENT
DTSTART;TZID=UTC:20241008T193000
DTEND;TZID=UTC:20241008T203000
DTSTAMP:20260425T165149
CREATED:20240925T225128Z
LAST-MODIFIED:20240925T225128Z
UID:2270-1728415800-1728419400@templebethdavid.online
SUMMARY:Torah Talk Tuesday
DESCRIPTION:
URL:https://templebethdavid.online/event/torah-talk-tuesday-4/
END:VEVENT
BEGIN:VEVENT
DTSTART;TZID=UTC:20241006T090000
DTEND;TZID=UTC:20241006T123000
DTSTAMP:20260425T165149
CREATED:20240925T223712Z
LAST-MODIFIED:20240925T223712Z
UID:2262-1728205200-1728217800@templebethdavid.online
SUMMARY:Jewish Adventure School
DESCRIPTION:
URL:https://templebethdavid.online/event/jewish-adventure-school/
END:VEVENT
BEGIN:VEVENT
DTSTART;TZID=UTC:20241004T193000
DTEND;TZID=UTC:20241004T203000
DTSTAMP:20260425T165149
CREATED:20240925T221149Z
LAST-MODIFIED:20240925T221820Z
UID:2227-1728070200-1728073800@templebethdavid.online
SUMMARY:Services with Rabbi Ira and Gitai
DESCRIPTION:
URL:https://templebethdavid.online/event/services-with-rabbi-ira-and-gitai/
ATTACH;FMTTYPE=image/jpeg:https://templebethdavid.online/wp-content/uploads/2024/08/Uncanny.jpg
END:VEVENT
BEGIN:VEVENT
DTSTART;TZID=UTC:20241004T183000
DTEND;TZID=UTC:20241004T193000
DTSTAMP:20260425T165149
CREATED:20240827T224734Z
LAST-MODIFIED:20240925T221102Z
UID:2067-1728066600-1728070200@templebethdavid.online
SUMMARY:Kinder Shabbat
DESCRIPTION:
URL:https://templebethdavid.online/event/kinder-shabbat/
ATTACH;FMTTYPE=image/jpeg:https://templebethdavid.online/wp-content/uploads/2024/08/Uncanny.jpg
END:VEVENT
BEGIN:VEVENT
DTSTART;TZID=UTC:20241003T103000
DTEND;TZID=UTC:20241003T130000
DTSTAMP:20260425T165149
CREATED:20240822T040013Z
LAST-MODIFIED:20240827T224010Z
UID:2023-1727951400-1727960400@templebethdavid.online
SUMMARY:Rosh Hashanah Day Service
DESCRIPTION:
URL:https://templebethdavid.online/event/rosh-hashanah-day-service/
ATTACH;FMTTYPE=image/jpeg:https://templebethdavid.online/wp-content/uploads/2024/08/HH24.jpg
END:VEVENT
BEGIN:VEVENT
DTSTART;TZID=UTC:20241003T093000
DTEND;TZID=UTC:20241003T103000
DTSTAMP:20260425T165149
CREATED:20240822T035853Z
LAST-MODIFIED:20240827T224015Z
UID:2021-1727947800-1727951400@templebethdavid.online
SUMMARY:Rosh Hashanah Children's Service
DESCRIPTION:
URL:https://templebethdavid.online/event/rosh-hashanah-childrens-service/
ATTACH;FMTTYPE=image/jpeg:https://templebethdavid.online/wp-content/uploads/2024/08/HH24.jpg
END:VEVENT
BEGIN:VEVENT
DTSTART;TZID=UTC:20241002T193000
DTEND;TZID=UTC:20241002T203000
DTSTAMP:20260425T165149
CREATED:20240822T035804Z
LAST-MODIFIED:20240827T223940Z
UID:2019-1727897400-1727901000@templebethdavid.online
SUMMARY:Rosh Hashanah Eve
DESCRIPTION:
URL:https://templebethdavid.online/event/rosh-hashanah-eve/
END:VEVENT
BEGIN:VEVENT
DTSTART;TZID=UTC:20241001T190000
DTEND;TZID=UTC:20241001T203000
DTSTAMP:20260425T165149
CREATED:20240925T225045Z
LAST-MODIFIED:20240925T225107Z
UID:2268-1727809200-1727814600@templebethdavid.online
SUMMARY:Torah Talk Tuesday
DESCRIPTION:
URL:https://templebethdavid.online/event/torah-talk-tuesday-3/
END:VEVENT
BEGIN:VEVENT
DTSTART;TZID=UTC:20240929T090000
DTEND;TZID=UTC:20240929T123000
DTSTAMP:20260425T165149
CREATED:20240905T081007Z
LAST-MODIFIED:20240925T223007Z
UID:2128-1727600400-1727613000@templebethdavid.online
SUMMARY:Jewish Adventure School
DESCRIPTION:
URL:https://templebethdavid.online/event/jewish-adventure-religious-school-session-4/
END:VEVENT
BEGIN:VEVENT
DTSTART;TZID=UTC:20240928T190000
DTEND;TZID=UTC:20240928T200000
DTSTAMP:20260425T165149
CREATED:20240925T223142Z
LAST-MODIFIED:20240925T223232Z
UID:2259-1727550000-1727553600@templebethdavid.online
SUMMARY:Inter-Congregational S'lichot Service at Temple Sholom\, Ontario
DESCRIPTION:
URL:https://templebethdavid.online/event/inter-congregational-slichot-service-at-temple-sholom-ontario/
ATTACH;FMTTYPE=image/png:https://templebethdavid.online/wp-content/uploads/2024/09/RAM.png
END:VEVENT
BEGIN:VEVENT
DTSTART;TZID=UTC:20240928T083000
DTEND;TZID=UTC:20240928T090000
DTSTAMP:20260425T165149
CREATED:20240912T164250Z
LAST-MODIFIED:20240912T164250Z
UID:2182-1727512200-1727514000@templebethdavid.online
SUMMARY:Men’s Club Breakfast
DESCRIPTION:
URL:https://templebethdavid.online/event/mens-club-breakfast/
ATTACH;FMTTYPE=image/jpeg:https://templebethdavid.online/wp-content/uploads/2024/09/breakfast_flayer-1.jpg
END:VEVENT
BEGIN:VEVENT
DTSTART;TZID=UTC:20240927T193000
DTEND;TZID=UTC:20240927T203000
DTSTAMP:20260425T165149
CREATED:20240822T035621Z
LAST-MODIFIED:20240925T223100Z
UID:2015-1727465400-1727469000@templebethdavid.online
SUMMARY:Slichot Shabbat with Rabbi Ira
DESCRIPTION:
URL:https://templebethdavid.online/event/slichot-shabbat-with-rabbi-ira/
ATTACH;FMTTYPE=image/jpeg:https://templebethdavid.online/wp-content/uploads/2024/08/Steve.jpg
END:VEVENT
END:VCALENDAR