BEGIN:VCALENDAR
VERSION:2.0
PRODID:-//Temple Beth David - ECPv6.15.20//NONSGML v1.0//EN
CALSCALE:GREGORIAN
METHOD:PUBLISH
X-WR-CALNAME:Temple Beth David
X-ORIGINAL-URL:https://templebethdavid.online
X-WR-CALDESC:Events for Temple Beth David
REFRESH-INTERVAL;VALUE=DURATION:PT1H
X-Robots-Tag:noindex
X-PUBLISHED-TTL:PT1H
BEGIN:VTIMEZONE
TZID:UTC
BEGIN:STANDARD
TZOFFSETFROM:+0000
TZOFFSETTO:+0000
TZNAME:UTC
DTSTART:20230101T000000
END:STANDARD
END:VTIMEZONE
BEGIN:VEVENT
DTSTART;TZID=UTC:20241124T093000
DTEND;TZID=UTC:20241124T103000
DTSTAMP:20260425T161433
CREATED:20241104T185052Z
LAST-MODIFIED:20241104T185052Z
UID:2628-1732440600-1732444200@templebethdavid.online
SUMMARY:Adult Hebrew Intermediate
DESCRIPTION:
URL:https://templebethdavid.online/event/adult-hebrew-intermediate-3/
END:VEVENT
BEGIN:VEVENT
DTSTART;TZID=UTC:20241124T093000
DTEND;TZID=UTC:20241124T100000
DTSTAMP:20260425T161433
CREATED:20241104T173625Z
LAST-MODIFIED:20241107T181615Z
UID:2559-1732440600-1732442400@templebethdavid.online
SUMMARY:Mindfulness Meditation with Vic Herzfeld
DESCRIPTION:
URL:https://templebethdavid.online/event/mindfullness-meditation-with-vic-herzfeld-3/
END:VEVENT
BEGIN:VEVENT
DTSTART;TZID=UTC:20241124T093000
DTEND;TZID=UTC:20241124T100000
DTSTAMP:20260425T161433
CREATED:20241104T173542Z
LAST-MODIFIED:20241104T173542Z
UID:2557-1732440600-1732442400@templebethdavid.online
SUMMARY:Men's Club Chat
DESCRIPTION:
URL:https://templebethdavid.online/event/mens-club-chat-3/
END:VEVENT
BEGIN:VEVENT
DTSTART;TZID=UTC:20241124T091500
DTEND;TZID=UTC:20241124T123000
DTSTAMP:20260425T161433
CREATED:20241001T164515Z
LAST-MODIFIED:20241001T164515Z
UID:2325-1732439700-1732451400@templebethdavid.online
SUMMARY:Jewish Adventure School
DESCRIPTION:
URL:https://templebethdavid.online/event/jewish-adventure-school-6/
END:VEVENT
BEGIN:VEVENT
DTSTART;TZID=UTC:20241124T090000
DTEND;TZID=UTC:20241124T130000
DTSTAMP:20260425T161433
CREATED:20241008T210836Z
LAST-MODIFIED:20241111T221722Z
UID:2371-1732438800-1732453200@templebethdavid.online
SUMMARY:Sisterhood Hanukkah and Gift Boutique
DESCRIPTION:
URL:https://templebethdavid.online/event/sisterhood-hannukah-and-gift-boutique/
ATTACH;FMTTYPE=image/jpeg:https://templebethdavid.online/wp-content/uploads/2024/10/thumbnail_Sisterhood.jpg
END:VEVENT
BEGIN:VEVENT
DTSTART;TZID=UTC:20241124T090000
DTEND;TZID=UTC:20241124T100000
DTSTAMP:20260425T161433
CREATED:20241104T172602Z
LAST-MODIFIED:20241104T185021Z
UID:2555-1732438800-1732442400@templebethdavid.online
SUMMARY:Adult Hebrew-Beginners
DESCRIPTION:
URL:https://templebethdavid.online/event/adult-hebrew-beginners-intermediate-3/
END:VEVENT
BEGIN:VEVENT
DTSTART;TZID=UTC:20241122T193000
DTEND;TZID=UTC:20241122T210000
DTSTAMP:20260425T161433
CREATED:20241104T172038Z
LAST-MODIFIED:20241118T085058Z
UID:2553-1732303800-1732309200@templebethdavid.online
SUMMARY:Let's Get Into The G-DZone! Rabbis Tsvi Bar-David & Ira Rosenfeld
DESCRIPTION:
URL:https://templebethdavid.online/event/shabbat-service-featuring-rabbi-tsvi-bar-david-and-rabbi-ira/
ATTACH;FMTTYPE=image/jpeg:https://templebethdavid.online/wp-content/uploads/2024/11/thumb.jpg
END:VEVENT
BEGIN:VEVENT
DTSTART;TZID=UTC:20241117T093000
DTEND;TZID=UTC:20241117T103000
DTSTAMP:20260425T161433
CREATED:20241104T184937Z
LAST-MODIFIED:20241104T184937Z
UID:2625-1731835800-1731839400@templebethdavid.online
SUMMARY:Adult Hebrew Intermediate
DESCRIPTION:
URL:https://templebethdavid.online/event/adult-hebrew-intermediate-2/
END:VEVENT
BEGIN:VEVENT
DTSTART;TZID=UTC:20241117T093000
DTEND;TZID=UTC:20241117T100000
DTSTAMP:20260425T161433
CREATED:20241104T170257Z
LAST-MODIFIED:20241107T181650Z
UID:2546-1731835800-1731837600@templebethdavid.online
SUMMARY:Mindfulness Meditation with Vic Herzfeld
DESCRIPTION:
URL:https://templebethdavid.online/event/mindfullness-meditation-with-vic-herzfeld-2/
END:VEVENT
BEGIN:VEVENT
DTSTART;TZID=UTC:20241117T091500
DTEND;TZID=UTC:20241117T123000
DTSTAMP:20260425T161433
CREATED:20241101T185546Z
LAST-MODIFIED:20241101T202407Z
UID:2503-1731834900-1731846600@templebethdavid.online
SUMMARY:Jewish Adventure School
DESCRIPTION:
URL:https://templebethdavid.online/event/jewish-adventure-school-19/
END:VEVENT
BEGIN:VEVENT
DTSTART;TZID=UTC:20241117T090000
DTEND;TZID=UTC:20241117T100000
DTSTAMP:20260425T161433
CREATED:20241104T170115Z
LAST-MODIFIED:20241104T184859Z
UID:2542-1731834000-1731837600@templebethdavid.online
SUMMARY:Adult Hebrew-Beginners
DESCRIPTION:
URL:https://templebethdavid.online/event/adult-hebrew-beginners-intermediate-2/
END:VEVENT
BEGIN:VEVENT
DTSTART;TZID=UTC:20241117T090000
DTEND;TZID=UTC:20241117T093000
DTSTAMP:20260425T161433
CREATED:20241104T170201Z
LAST-MODIFIED:20241104T170201Z
UID:2544-1731834000-1731835800@templebethdavid.online
SUMMARY:Men's Club Chat
DESCRIPTION:
URL:https://templebethdavid.online/event/mens-club-chat-2/
END:VEVENT
BEGIN:VEVENT
DTSTART;TZID=UTC:20241115T190000
DTEND;TZID=UTC:20241115T203000
DTSTAMP:20260425T161433
CREATED:20241101T211644Z
LAST-MODIFIED:20241118T085105Z
UID:2522-1731697200-1731702600@templebethdavid.online
SUMMARY:L'dor V'dor Shabbat with Consecration for new Jewish Adventure School Students
DESCRIPTION:
URL:https://templebethdavid.online/event/ldor-vdor-shabbat-with-consecration-for-new-jewish-adventure-school-students/
ATTACH;FMTTYPE=image/jpeg:https://templebethdavid.online/wp-content/uploads/2024/11/Bread.jpg
END:VEVENT
BEGIN:VEVENT
DTSTART;TZID=UTC:20241111T090000
DTEND;TZID=UTC:20241111T093000
DTSTAMP:20260425T161433
CREATED:20241111T180310Z
LAST-MODIFIED:20241111T180310Z
UID:3186-1731315600-1731317400@templebethdavid.online
SUMMARY:Men's Club Chat
DESCRIPTION:
URL:https://templebethdavid.online/event/mens-club-chat-56/
END:VEVENT
BEGIN:VEVENT
DTSTART;VALUE=DATE:20241111
DTEND;VALUE=DATE:20241112
DTSTAMP:20260425T161433
CREATED:20241104T171117Z
LAST-MODIFIED:20241104T171417Z
UID:2549-1731283200-1731369599@templebethdavid.online
SUMMARY:Veteran's Day
DESCRIPTION:
URL:https://templebethdavid.online/event/veterans-day/
END:VEVENT
BEGIN:VEVENT
DTSTART;TZID=UTC:20241110T093000
DTEND;TZID=UTC:20241110T103000
DTSTAMP:20260425T161433
CREATED:20241104T184815Z
LAST-MODIFIED:20241104T184815Z
UID:2622-1731231000-1731234600@templebethdavid.online
SUMMARY:Adult Hebrew Intermediate
DESCRIPTION:
URL:https://templebethdavid.online/event/adult-hebrew-intermediate/
END:VEVENT
BEGIN:VEVENT
DTSTART;TZID=UTC:20241110T093000
DTEND;TZID=UTC:20241110T100000
DTSTAMP:20260425T161433
CREATED:20241104T165503Z
LAST-MODIFIED:20241107T173301Z
UID:2536-1731231000-1731232800@templebethdavid.online
SUMMARY:Mindfulness Meditation with Vic Herzfeld
DESCRIPTION:
URL:https://templebethdavid.online/event/mindfullness-meditation-with-vic-herzfeld/
END:VEVENT
BEGIN:VEVENT
DTSTART;TZID=UTC:20241110T090000
DTEND;TZID=UTC:20241110T100000
DTSTAMP:20260425T161433
CREATED:20241101T204214Z
LAST-MODIFIED:20241104T184728Z
UID:2518-1731229200-1731232800@templebethdavid.online
SUMMARY:Adult Hebrew Beginners
DESCRIPTION:
URL:https://templebethdavid.online/event/adult-hebrew-beginners-intermediate/
END:VEVENT
BEGIN:VEVENT
DTSTART;TZID=UTC:20241110T090000
DTEND;TZID=UTC:20241110T093000
DTSTAMP:20260425T161433
CREATED:20241104T165147Z
LAST-MODIFIED:20241104T165147Z
UID:2534-1731229200-1731231000@templebethdavid.online
SUMMARY:Men's Club Chat
DESCRIPTION:
URL:https://templebethdavid.online/event/mens-club-chat/
END:VEVENT
BEGIN:VEVENT
DTSTART;TZID=UTC:20241108T193000
DTEND;TZID=UTC:20241108T210000
DTSTAMP:20260425T161433
CREATED:20240912T153401Z
LAST-MODIFIED:20241107T194447Z
UID:2145-1731094200-1731099600@templebethdavid.online
SUMMARY:Shabbat Service w/ Rabbi Ira and Cantor Beth
DESCRIPTION:
URL:https://templebethdavid.online/event/shabbat-service-w-rabbi-ira-and-cantor-beth/
ATTACH;FMTTYPE=image/jpeg:https://templebethdavid.online/wp-content/uploads/2024/09/vet.jpg
END:VEVENT
BEGIN:VEVENT
DTSTART;TZID=UTC:20241108T093000
DTEND;TZID=UTC:20241108T103000
DTSTAMP:20260425T161433
CREATED:20241108T224253Z
LAST-MODIFIED:20241108T224253Z
UID:3149-1731058200-1731061800@templebethdavid.online
SUMMARY:Adult Hebrew Intermediate
DESCRIPTION:
URL:https://templebethdavid.online/event/adult-hebrew-intermediate-53/
END:VEVENT
BEGIN:VEVENT
DTSTART;TZID=UTC:20241103T093000
DTEND;TZID=UTC:20241103T100000
DTSTAMP:20260425T161433
CREATED:20241101T203836Z
LAST-MODIFIED:20241107T181840Z
UID:2515-1730626200-1730628000@templebethdavid.online
SUMMARY:Mindfulness Meditation with Vic Herzfeld
DESCRIPTION:
URL:https://templebethdavid.online/event/mens-club-chat-mindfullness-mediation-with-vic-herzfeld/
END:VEVENT
BEGIN:VEVENT
DTSTART;TZID=UTC:20241103T091500
DTEND;TZID=UTC:20241103T123000
DTSTAMP:20260425T161433
CREATED:20241101T183400Z
LAST-MODIFIED:20241101T202322Z
UID:2499-1730625300-1730637000@templebethdavid.online
SUMMARY:Jewish Adventure School
DESCRIPTION:
URL:https://templebethdavid.online/event/jewish-adventure-school-3/
END:VEVENT
BEGIN:VEVENT
DTSTART;TZID=UTC:20241103T090000
DTEND;TZID=UTC:20241103T220000
DTSTAMP:20260425T161433
CREATED:20241101T203337Z
LAST-MODIFIED:20241101T204623Z
UID:2512-1730624400-1730671200@templebethdavid.online
SUMMARY:Adult Hebrew-Beginners/Intermediate
DESCRIPTION:
URL:https://templebethdavid.online/event/adult-hebrew-beginners-3/
END:VEVENT
BEGIN:VEVENT
DTSTART;TZID=UTC:20241101T193000
DTEND;TZID=UTC:20241101T203000
DTSTAMP:20260425T161433
CREATED:20240925T222932Z
LAST-MODIFIED:20241101T171939Z
UID:2249-1730489400-1730493000@templebethdavid.online
SUMMARY:Service with Rabbi Ira and Gitai
DESCRIPTION:
URL:https://templebethdavid.online/event/service-with-rabbi-ira-and-gitai-2/
END:VEVENT
BEGIN:VEVENT
DTSTART;TZID=UTC:20241101T183000
DTEND;TZID=UTC:20241101T193000
DTSTAMP:20260425T161433
CREATED:20240912T153122Z
LAST-MODIFIED:20240925T222841Z
UID:2136-1730485800-1730489400@templebethdavid.online
SUMMARY:Kinder Shabbat
DESCRIPTION:
URL:https://templebethdavid.online/event/kinder-shabbat-shabbat-for-all-ages-with-gitai/
END:VEVENT
BEGIN:VEVENT
DTSTART;TZID=UTC:20241029T193000
DTEND;TZID=UTC:20241029T203000
DTSTAMP:20260425T161433
CREATED:20240925T225324Z
LAST-MODIFIED:20240925T225324Z
UID:2276-1730230200-1730233800@templebethdavid.online
SUMMARY:Torah Talk Tuesday
DESCRIPTION:
URL:https://templebethdavid.online/event/torah-talk-tuesday-7/
END:VEVENT
BEGIN:VEVENT
DTSTART;TZID=UTC:20241027T093000
DTEND;TZID=UTC:20241027T123000
DTSTAMP:20260425T161433
CREATED:20241009T233334Z
LAST-MODIFIED:20241009T233334Z
UID:2386-1730021400-1730032200@templebethdavid.online
SUMMARY:Bagel Breakfast
DESCRIPTION:
URL:https://templebethdavid.online/event/bagel-breakfast/
ATTACH;FMTTYPE=image/png:https://templebethdavid.online/wp-content/uploads/2024/10/Heartbreak-of-October-7th-Hamas-Israel-WarR.png
END:VEVENT
BEGIN:VEVENT
DTSTART;TZID=UTC:20241022T193000
DTEND;TZID=UTC:20241022T203000
DTSTAMP:20260425T161433
CREATED:20240925T225257Z
LAST-MODIFIED:20240925T225257Z
UID:2274-1729625400-1729629000@templebethdavid.online
SUMMARY:Torah Talk Tuesday
DESCRIPTION:
URL:https://templebethdavid.online/event/torah-talk-tuesday-6/
END:VEVENT
BEGIN:VEVENT
DTSTART;TZID=UTC:20241020T091500
DTEND;TZID=UTC:20241020T123000
DTSTAMP:20260425T161433
CREATED:20240925T223744Z
LAST-MODIFIED:20241008T211425Z
UID:2264-1729415700-1729427400@templebethdavid.online
SUMMARY:Jewish Adventure School
DESCRIPTION:
URL:https://templebethdavid.online/event/jewish-adventure-school-2/
END:VEVENT
END:VCALENDAR