BEGIN:VCALENDAR
VERSION:2.0
PRODID:-//Temple Beth David - ECPv6.15.20//NONSGML v1.0//EN
CALSCALE:GREGORIAN
METHOD:PUBLISH
X-WR-CALNAME:Temple Beth David
X-ORIGINAL-URL:https://templebethdavid.online
X-WR-CALDESC:Events for Temple Beth David
REFRESH-INTERVAL;VALUE=DURATION:PT1H
X-Robots-Tag:noindex
X-PUBLISHED-TTL:PT1H
BEGIN:VTIMEZONE
TZID:UTC
BEGIN:STANDARD
TZOFFSETFROM:+0000
TZOFFSETTO:+0000
TZNAME:UTC
DTSTART:20240101T000000
END:STANDARD
END:VTIMEZONE
BEGIN:VEVENT
DTSTART;VALUE=DATE:20250922
DTEND;VALUE=DATE:20250923
DTSTAMP:20260423T051723
CREATED:20241111T191046Z
LAST-MODIFIED:20250805T162759Z
UID:3231-1758499200-1758585599@templebethdavid.online
SUMMARY:Erev Rosh Hashanah
DESCRIPTION:
URL:https://templebethdavid.online/event/erev-rosh-hashanah/
ATTACH;FMTTYPE=image/png:https://templebethdavid.online/wp-content/uploads/2024/11/HHD2025Flyer.png
END:VEVENT
BEGIN:VEVENT
DTSTART;TZID=UTC:20250921T101500
DTEND;TZID=UTC:20250921T110000
DTSTAMP:20260423T051723
CREATED:20250911T210143Z
LAST-MODIFIED:20250911T210143Z
UID:4498-1758449700-1758452400@templebethdavid.online
SUMMARY:Adult Hebrew Beginners
DESCRIPTION:
URL:https://templebethdavid.online/event/adult-hebrew-beginners-22/
END:VEVENT
BEGIN:VEVENT
DTSTART;TZID=UTC:20250921T093000
DTEND;TZID=UTC:20250921T123000
DTSTAMP:20260423T051723
CREATED:20250709T185400Z
LAST-MODIFIED:20250709T185400Z
UID:4022-1758447000-1758457800@templebethdavid.online
SUMMARY:Jewish Adventure School
DESCRIPTION:
URL:https://templebethdavid.online/event/jewish-adventure-school-20/
END:VEVENT
BEGIN:VEVENT
DTSTART;TZID=UTC:20250921T090000
DTEND;TZID=UTC:20250921T100000
DTSTAMP:20260423T051723
CREATED:20250709T185507Z
LAST-MODIFIED:20250911T210053Z
UID:4024-1758445200-1758448800@templebethdavid.online
SUMMARY:Adult Hebrew Intermediate
DESCRIPTION:
URL:https://templebethdavid.online/event/adult-hebrew-intermediate-31/
END:VEVENT
BEGIN:VEVENT
DTSTART;TZID=UTC:20250921T090000
DTEND;TZID=UTC:20250921T093000
DTSTAMP:20260423T051723
CREATED:20241108T195721Z
LAST-MODIFIED:20241108T195721Z
UID:3074-1758445200-1758447000@templebethdavid.online
SUMMARY:Men's Club Chat
DESCRIPTION:
URL:https://templebethdavid.online/event/mens-club-chat-45/
END:VEVENT
BEGIN:VEVENT
DTSTART;TZID=UTC:20250919T190000
DTEND;TZID=UTC:20250919T210000
DTSTAMP:20260423T051723
CREATED:20250813T202905Z
LAST-MODIFIED:20250821T160819Z
UID:4386-1758308400-1758315600@templebethdavid.online
SUMMARY:L'Dor Va'Dor Service
DESCRIPTION:
URL:https://templebethdavid.online/event/ldor-vador-service/
ATTACH;FMTTYPE=image/jpeg:https://templebethdavid.online/wp-content/uploads/2025/08/9-19-25Shabbatflyer.jpeg
END:VEVENT
BEGIN:VEVENT
DTSTART;TZID=UTC:20250914T101500
DTEND;TZID=UTC:20250914T110000
DTSTAMP:20260423T051723
CREATED:20250911T205905Z
LAST-MODIFIED:20250911T205905Z
UID:4496-1757844900-1757847600@templebethdavid.online
SUMMARY:Adult Hebrew Beginners
DESCRIPTION:
URL:https://templebethdavid.online/event/adult-hebrew-beginners-21/
END:VEVENT
BEGIN:VEVENT
DTSTART;TZID=UTC:20250914T093000
DTEND;TZID=UTC:20250914T123000
DTSTAMP:20260423T051723
CREATED:20250812T201926Z
LAST-MODIFIED:20250812T201926Z
UID:4374-1757842200-1757853000@templebethdavid.online
SUMMARY:Open House
DESCRIPTION:
URL:https://templebethdavid.online/event/open-house-2/
ATTACH;FMTTYPE=image/png:https://templebethdavid.online/wp-content/uploads/2025/08/OpenHouseFlyer.png
END:VEVENT
BEGIN:VEVENT
DTSTART;TZID=UTC:20250914T093000
DTEND;TZID=UTC:20250914T123000
DTSTAMP:20260423T051723
CREATED:20250709T185255Z
LAST-MODIFIED:20250709T185255Z
UID:4018-1757842200-1757853000@templebethdavid.online
SUMMARY:Jewish Adventure School
DESCRIPTION:
URL:https://templebethdavid.online/event/jewish-adventure-school-5/
END:VEVENT
BEGIN:VEVENT
DTSTART;TZID=UTC:20250914T090000
DTEND;TZID=UTC:20250914T100000
DTSTAMP:20260423T051723
CREATED:20250709T185333Z
LAST-MODIFIED:20250911T205808Z
UID:4020-1757840400-1757844000@templebethdavid.online
SUMMARY:Adult Hebrew Intermediate
DESCRIPTION:
URL:https://templebethdavid.online/event/adult-hebrew-intermediate-30/
END:VEVENT
BEGIN:VEVENT
DTSTART;TZID=UTC:20250914T090000
DTEND;TZID=UTC:20250914T093000
DTSTAMP:20260423T051723
CREATED:20241108T183324Z
LAST-MODIFIED:20241108T183324Z
UID:3065-1757840400-1757842200@templebethdavid.online
SUMMARY:Men's Club Chat
DESCRIPTION:
URL:https://templebethdavid.online/event/mens-club-chat-43/
END:VEVENT
BEGIN:VEVENT
DTSTART;TZID=UTC:20250912T193000
DTEND;TZID=UTC:20250912T213000
DTSTAMP:20260423T051723
CREATED:20241111T191011Z
LAST-MODIFIED:20250821T161238Z
UID:3229-1757705400-1757712600@templebethdavid.online
SUMMARY:Pre-S'lichot Service - Jews Sing the Blues
DESCRIPTION:
URL:https://templebethdavid.online/event/selichot/
ATTACH;FMTTYPE=image/png:https://templebethdavid.online/wp-content/uploads/2025/08/9-12-25Shabbatflyer.png
END:VEVENT
BEGIN:VEVENT
DTSTART;TZID=UTC:20250911T101500
DTEND;TZID=UTC:20250911T110000
DTSTAMP:20260423T051723
CREATED:20250911T210504Z
LAST-MODIFIED:20250911T210504Z
UID:4502-1757585700-1757588400@templebethdavid.online
SUMMARY:Adult Hebrew Beginners
DESCRIPTION:
URL:https://templebethdavid.online/event/adult-hebrew-beginners-24/
END:VEVENT
BEGIN:VEVENT
DTSTART;TZID=UTC:20250907T093000
DTEND;TZID=UTC:20250907T123000
DTSTAMP:20260423T051723
CREATED:20250709T184953Z
LAST-MODIFIED:20250709T184953Z
UID:4014-1757237400-1757248200@templebethdavid.online
SUMMARY:Jewish Adventure School First Day
DESCRIPTION:
URL:https://templebethdavid.online/event/jewish-adventure-school-first-day/
END:VEVENT
BEGIN:VEVENT
DTSTART;TZID=UTC:20250907T093000
DTEND;TZID=UTC:20250907T103000
DTSTAMP:20260423T051723
CREATED:20250709T185110Z
LAST-MODIFIED:20250709T185110Z
UID:4016-1757237400-1757241000@templebethdavid.online
SUMMARY:Adult Hebrew Intermediate
DESCRIPTION:
URL:https://templebethdavid.online/event/adult-hebrew-intermediate-29/
END:VEVENT
BEGIN:VEVENT
DTSTART;TZID=UTC:20250907T090000
DTEND;TZID=UTC:20250907T093000
DTSTAMP:20260423T051723
CREATED:20241108T182749Z
LAST-MODIFIED:20241108T182749Z
UID:3058-1757235600-1757237400@templebethdavid.online
SUMMARY:Men's Club Chat
DESCRIPTION:
URL:https://templebethdavid.online/event/mens-club-chat-44/
END:VEVENT
BEGIN:VEVENT
DTSTART;TZID=UTC:20250905T183000
DTEND;TZID=UTC:20250905T213000
DTSTAMP:20260423T051723
CREATED:20250813T202514Z
LAST-MODIFIED:20250821T160130Z
UID:4382-1757097000-1757107800@templebethdavid.online
SUMMARY:Kinder Shabbat and Shabbat for All Ages
DESCRIPTION:
URL:https://templebethdavid.online/event/kinder-shabbat-and-shabbat-for-all-ages-3/
ATTACH;FMTTYPE=image/jpeg:https://templebethdavid.online/wp-content/uploads/2025/08/9-5-25shabbat.jpeg
END:VEVENT
BEGIN:VEVENT
DTSTART;TZID=UTC:20250831T090000
DTEND;TZID=UTC:20250831T093000
DTSTAMP:20260423T051723
CREATED:20241107T223008Z
LAST-MODIFIED:20241107T223008Z
UID:3024-1756630800-1756632600@templebethdavid.online
SUMMARY:Men's Club Chat
DESCRIPTION:
URL:https://templebethdavid.online/event/mens-club-chat-42/
END:VEVENT
BEGIN:VEVENT
DTSTART;TZID=UTC:20250829T193000
DTEND;TZID=UTC:20250829T210000
DTSTAMP:20260423T051723
CREATED:20250717T171525Z
LAST-MODIFIED:20250717T171525Z
UID:4138-1756495800-1756501200@templebethdavid.online
SUMMARY:Zoom Only Shabbat Service
DESCRIPTION:
URL:https://templebethdavid.online/event/zoom-only-shabbat-service/
ATTACH;FMTTYPE=image/png:https://templebethdavid.online/wp-content/uploads/2025/07/Shabbatflyer8-29-25.png
END:VEVENT
BEGIN:VEVENT
DTSTART;TZID=UTC:20250824T103000
DTEND;TZID=UTC:20250824T130000
DTSTAMP:20260423T051723
CREATED:20250819T195107Z
LAST-MODIFIED:20250820T173441Z
UID:4428-1756031400-1756040400@templebethdavid.online
SUMMARY:Congregational Meeting
DESCRIPTION:
URL:https://templebethdavid.online/event/congregational-meeting-2/
ATTACH;FMTTYPE=image/jpeg:https://templebethdavid.online/wp-content/uploads/2025/08/TBDCongregationalmeeting1-1.jpg
END:VEVENT
BEGIN:VEVENT
DTSTART;TZID=UTC:20250824T090000
DTEND;TZID=UTC:20250824T093000
DTSTAMP:20260423T051723
CREATED:20241107T222754Z
LAST-MODIFIED:20241107T222754Z
UID:3016-1756026000-1756027800@templebethdavid.online
SUMMARY:Men's Club Chat
DESCRIPTION:
URL:https://templebethdavid.online/event/mens-club-chat-40/
END:VEVENT
BEGIN:VEVENT
DTSTART;TZID=UTC:20250822T193000
DTEND;TZID=UTC:20250822T213000
DTSTAMP:20260423T051723
CREATED:20250717T171325Z
LAST-MODIFIED:20250717T171325Z
UID:4136-1755891000-1755898200@templebethdavid.online
SUMMARY:Shabbat Service Featuring Special Guest Composer/Pianist Ryan Whyman
DESCRIPTION:
URL:https://templebethdavid.online/event/shabbat-service-featuring-special-guest-composer-pianist-ryan-whyman/
ATTACH;FMTTYPE=image/jpeg:https://templebethdavid.online/wp-content/uploads/2025/07/Shabbatflyer8-22-25.jpg
END:VEVENT
BEGIN:VEVENT
DTSTART;TZID=UTC:20250817T093000
DTEND;TZID=UTC:20250817T113000
DTSTAMP:20260423T051723
CREATED:20250722T155445Z
LAST-MODIFIED:20250722T155445Z
UID:4196-1755423000-1755430200@templebethdavid.online
SUMMARY:Jerry Schwartz Adult Education Bagel Breakfast
DESCRIPTION:
URL:https://templebethdavid.online/event/jerry-schwartz-adult-education-bagel-breakfast/
END:VEVENT
BEGIN:VEVENT
DTSTART;TZID=UTC:20250817T093000
DTEND;TZID=UTC:20250817T103000
DTSTAMP:20260423T051723
CREATED:20241107T201140Z
LAST-MODIFIED:20241107T201140Z
UID:3011-1755423000-1755426600@templebethdavid.online
SUMMARY:Men's Club Chat
DESCRIPTION:
URL:https://templebethdavid.online/event/mens-club-chat-41/
END:VEVENT
BEGIN:VEVENT
DTSTART;TZID=UTC:20250815T190000
DTEND;TZID=UTC:20250815T210000
DTSTAMP:20260423T051723
CREATED:20250717T171154Z
LAST-MODIFIED:20250717T171154Z
UID:4134-1755284400-1755291600@templebethdavid.online
SUMMARY:L'Dor Vador - Pet Shabbat
DESCRIPTION:
URL:https://templebethdavid.online/event/ldor-vador-pet-shabbat/
ATTACH;FMTTYPE=image/jpeg:https://templebethdavid.online/wp-content/uploads/2025/07/Shabbatflyer8-15-25.jpg
END:VEVENT
BEGIN:VEVENT
DTSTART;TZID=UTC:20250810T090000
DTEND;TZID=UTC:20250810T093000
DTSTAMP:20260423T051723
CREATED:20241107T192152Z
LAST-MODIFIED:20241107T192152Z
UID:2988-1754816400-1754818200@templebethdavid.online
SUMMARY:Men's Club Chat
DESCRIPTION:
URL:https://templebethdavid.online/event/mens-club-chat-39/
END:VEVENT
BEGIN:VEVENT
DTSTART;TZID=UTC:20250809T170000
DTEND;TZID=UTC:20250809T210000
DTSTAMP:20260423T051723
CREATED:20250723T202804Z
LAST-MODIFIED:20250723T202804Z
UID:4212-1754758800-1754773200@templebethdavid.online
SUMMARY:Beer Tasting Event -2025
DESCRIPTION:
URL:https://templebethdavid.online/event/beer-tasting-event-2025/
ATTACH;FMTTYPE=image/png:https://templebethdavid.online/wp-content/uploads/2025/07/BeerTasting2025.png1_.png
END:VEVENT
BEGIN:VEVENT
DTSTART;VALUE=DATE:20250809
DTEND;VALUE=DATE:20250810
DTSTAMP:20260423T051723
CREATED:20241111T190946Z
LAST-MODIFIED:20241111T190946Z
UID:3227-1754697600-1754783999@templebethdavid.online
SUMMARY:Tu B'Av
DESCRIPTION:
URL:https://templebethdavid.online/event/tu-bav/
END:VEVENT
BEGIN:VEVENT
DTSTART;TZID=UTC:20250808T193000
DTEND;TZID=UTC:20250808T210000
DTSTAMP:20260423T051723
CREATED:20250717T171012Z
LAST-MODIFIED:20250717T171012Z
UID:4132-1754681400-1754686800@templebethdavid.online
SUMMARY:Tu B'Av Service - The Shabbat of Love
DESCRIPTION:
URL:https://templebethdavid.online/event/tu-bav-service-the-shabbat-of-love/
ATTACH;FMTTYPE=image/jpeg:https://templebethdavid.online/wp-content/uploads/2025/07/Shabbatflyer8-8-25.jpg
END:VEVENT
BEGIN:VEVENT
DTSTART;TZID=UTC:20250803T093000
DTEND;TZID=UTC:20250803T103000
DTSTAMP:20260423T051723
CREATED:20241107T191208Z
LAST-MODIFIED:20241107T191208Z
UID:2978-1754213400-1754217000@templebethdavid.online
SUMMARY:Men's Club Chat
DESCRIPTION:
URL:https://templebethdavid.online/event/mens-club-chat-38/
END:VEVENT
END:VCALENDAR