BEGIN:VCALENDAR
VERSION:2.0
PRODID:-//Temple Beth David - ECPv6.15.20//NONSGML v1.0//EN
CALSCALE:GREGORIAN
METHOD:PUBLISH
X-ORIGINAL-URL:https://templebethdavid.online
X-WR-CALDESC:Events for Temple Beth David
REFRESH-INTERVAL;VALUE=DURATION:PT1H
X-Robots-Tag:noindex
X-PUBLISHED-TTL:PT1H
BEGIN:VTIMEZONE
TZID:UTC
BEGIN:STANDARD
TZOFFSETFROM:+0000
TZOFFSETTO:+0000
TZNAME:UTC
DTSTART:20250101T000000
END:STANDARD
END:VTIMEZONE
BEGIN:VEVENT
DTSTART;TZID=UTC:20260329T093000
DTEND;TZID=UTC:20260329T123000
DTSTAMP:20260422T221659
CREATED:20250721T193830Z
LAST-MODIFIED:20250721T193830Z
UID:4188-1774776600-1774787400@templebethdavid.online
SUMMARY:Jewish Adventure School
DESCRIPTION:
URL:https://templebethdavid.online/event/jewish-adventure-school-40/
END:VEVENT
BEGIN:VEVENT
DTSTART;TZID=UTC:20260403T180000
DTEND;TZID=UTC:20260403T210000
DTSTAMP:20260422T221659
CREATED:20251212T182414Z
LAST-MODIFIED:20260303T185127Z
UID:4751-1775239200-1775250000@templebethdavid.online
SUMMARY:Community Passover Seder Dinner
DESCRIPTION:
URL:https://templebethdavid.online/event/kinder-shabbat-and-main-service-2/
END:VEVENT
BEGIN:VEVENT
DTSTART;TZID=UTC:20260405T084500
DTEND;TZID=UTC:20260405T091500
DTSTAMP:20260422T221659
CREATED:20250722T161614Z
LAST-MODIFIED:20260325T191507Z
UID:4198-1775378700-1775380500@templebethdavid.online
SUMMARY:Men's Club Chat
DESCRIPTION:
URL:https://templebethdavid.online/event/mens-club-chat-72/
END:VEVENT
BEGIN:VEVENT
DTSTART;TZID=UTC:20260405T093000
DTEND;TZID=UTC:20260405T103000
DTSTAMP:20260422T221659
CREATED:20250722T161644Z
LAST-MODIFIED:20250722T161644Z
UID:4200-1775381400-1775385000@templebethdavid.online
SUMMARY:Adult Hebrew Intermediate
DESCRIPTION:
URL:https://templebethdavid.online/event/adult-hebrew-intermediate-61/
END:VEVENT
BEGIN:VEVENT
DTSTART;TZID=UTC:20260410T193000
DTEND;TZID=UTC:20260410T213000
DTSTAMP:20260422T221659
CREATED:20251212T182543Z
LAST-MODIFIED:20251212T182543Z
UID:4753-1775849400-1775856600@templebethdavid.online
SUMMARY:Rabbi Ira and Cantor Beth
DESCRIPTION:
URL:https://templebethdavid.online/event/rabbi-ira-and-cantor-beth-9/
END:VEVENT
BEGIN:VEVENT
DTSTART;TZID=UTC:20260412T084500
DTEND;TZID=UTC:20260412T091500
DTSTAMP:20260422T221659
CREATED:20250722T162648Z
LAST-MODIFIED:20260325T191539Z
UID:4202-1775983500-1775985300@templebethdavid.online
SUMMARY:Men's Club Chat
DESCRIPTION:
URL:https://templebethdavid.online/event/mens-club-chat-73/
END:VEVENT
BEGIN:VEVENT
DTSTART;TZID=UTC:20260412T093000
DTEND;TZID=UTC:20260412T103000
DTSTAMP:20260422T221659
CREATED:20250722T162727Z
LAST-MODIFIED:20250722T162727Z
UID:4204-1775986200-1775989800@templebethdavid.online
SUMMARY:Adult Hebrew Intermediate
DESCRIPTION:
URL:https://templebethdavid.online/event/adult-hebrew-intermediate-62/
END:VEVENT
BEGIN:VEVENT
DTSTART;TZID=UTC:20260417T190000
DTEND;TZID=UTC:20260417T210000
DTSTAMP:20260422T221659
CREATED:20251212T182721Z
LAST-MODIFIED:20251212T182721Z
UID:4755-1776452400-1776459600@templebethdavid.online
SUMMARY:L'Dor VaDor Kokhavim Class
DESCRIPTION:
URL:https://templebethdavid.online/event/ldor-vador-kokhavim-class/
END:VEVENT
BEGIN:VEVENT
DTSTART;TZID=UTC:20260418T170000
DTEND;TZID=UTC:20260418T200000
DTSTAMP:20260422T221659
CREATED:20260202T203044Z
LAST-MODIFIED:20260202T203044Z
UID:4844-1776531600-1776542400@templebethdavid.online
SUMMARY:Movie Night
DESCRIPTION:
URL:https://templebethdavid.online/event/movie-night/
END:VEVENT
BEGIN:VEVENT
DTSTART;TZID=UTC:20260419T084500
DTEND;TZID=UTC:20260419T091500
DTSTAMP:20260422T221659
CREATED:20250722T171751Z
LAST-MODIFIED:20260218T220739Z
UID:4206-1776588300-1776590100@templebethdavid.online
SUMMARY:Men's Club Chat
DESCRIPTION:
URL:https://templebethdavid.online/event/mens-club-chat-74/
END:VEVENT
BEGIN:VEVENT
DTSTART;TZID=UTC:20260419T093000
DTEND;TZID=UTC:20260419T103000
DTSTAMP:20260422T221659
CREATED:20250722T173626Z
LAST-MODIFIED:20250722T173626Z
UID:4210-1776591000-1776594600@templebethdavid.online
SUMMARY:Adult Hebrew Intermediate
DESCRIPTION:
URL:https://templebethdavid.online/event/adult-hebrew-intermediate-63/
END:VEVENT
BEGIN:VEVENT
DTSTART;TZID=UTC:20260419T093000
DTEND;TZID=UTC:20260419T123000
DTSTAMP:20260422T221659
CREATED:20250722T172236Z
LAST-MODIFIED:20250722T172236Z
UID:4208-1776591000-1776601800@templebethdavid.online
SUMMARY:Jewish Adventure School
DESCRIPTION:
URL:https://templebethdavid.online/event/jewish-adventure-school-41/
END:VEVENT
BEGIN:VEVENT
DTSTART;TZID=UTC:20260426T084500
DTEND;TZID=UTC:20260426T091500
DTSTAMP:20260422T221659
CREATED:20250724T171808Z
LAST-MODIFIED:20260218T220902Z
UID:4215-1777193100-1777194900@templebethdavid.online
SUMMARY:Men's Club Chat
DESCRIPTION:
URL:https://templebethdavid.online/event/mens-club-chat-75/
END:VEVENT
BEGIN:VEVENT
DTSTART;TZID=UTC:20260426T093000
DTEND;TZID=UTC:20260426T123000
DTSTAMP:20260422T221659
CREATED:20250724T171914Z
LAST-MODIFIED:20250724T171914Z
UID:4217-1777195800-1777206600@templebethdavid.online
SUMMARY:Jewish Adventure School
DESCRIPTION:
URL:https://templebethdavid.online/event/jewish-adventure-school-42/
END:VEVENT
BEGIN:VEVENT
DTSTART;TZID=UTC:20260503T084500
DTEND;TZID=UTC:20260503T091500
DTSTAMP:20260422T221659
CREATED:20250724T172911Z
LAST-MODIFIED:20260325T191602Z
UID:4221-1777797900-1777799700@templebethdavid.online
SUMMARY:Men's Club Chat
DESCRIPTION:
URL:https://templebethdavid.online/event/mens-club-chat-76/
END:VEVENT
BEGIN:VEVENT
DTSTART;TZID=UTC:20260503T093000
DTEND;TZID=UTC:20260503T103000
DTSTAMP:20260422T221659
CREATED:20250724T172959Z
LAST-MODIFIED:20250724T172959Z
UID:4225-1777800600-1777804200@templebethdavid.online
SUMMARY:Adult Hebrew Intermediate
DESCRIPTION:
URL:https://templebethdavid.online/event/adult-hebrew-intermediate-65/
END:VEVENT
BEGIN:VEVENT
DTSTART;TZID=UTC:20260503T093000
DTEND;TZID=UTC:20260503T123000
DTSTAMP:20260422T221659
CREATED:20250724T172934Z
LAST-MODIFIED:20250724T172934Z
UID:4223-1777800600-1777811400@templebethdavid.online
SUMMARY:Jewish Adventure School
DESCRIPTION:
URL:https://templebethdavid.online/event/jewish-adventure-school-43/
END:VEVENT
BEGIN:VEVENT
DTSTART;TZID=UTC:20260508T193000
DTEND;TZID=UTC:20260508T213000
DTSTAMP:20260422T221659
CREATED:20251212T183031Z
LAST-MODIFIED:20251212T183031Z
UID:4759-1778268600-1778275800@templebethdavid.online
SUMMARY:Rabbi Ira and Cantor Beth - Mother's Day
DESCRIPTION:
URL:https://templebethdavid.online/event/rabbi-ira-and-cantor-beth-mothers-day/
END:VEVENT
BEGIN:VEVENT
DTSTART;TZID=UTC:20260510T084500
DTEND;TZID=UTC:20260510T091500
DTSTAMP:20260422T221659
CREATED:20250724T180915Z
LAST-MODIFIED:20260325T191633Z
UID:4227-1778402700-1778404500@templebethdavid.online
SUMMARY:Men's Club Chat
DESCRIPTION:
URL:https://templebethdavid.online/event/mens-club-chat-77/
END:VEVENT
BEGIN:VEVENT
DTSTART;TZID=UTC:20260510T093000
DTEND;TZID=UTC:20260510T103000
DTSTAMP:20260422T221659
CREATED:20250724T181500Z
LAST-MODIFIED:20250724T181500Z
UID:4229-1778405400-1778409000@templebethdavid.online
SUMMARY:Adult Hebrew Intermediate
DESCRIPTION:
URL:https://templebethdavid.online/event/adult-hebrew-intermediate-66/
END:VEVENT
BEGIN:VEVENT
DTSTART;TZID=UTC:20260515T190000
DTEND;TZID=UTC:20260515T210000
DTSTAMP:20260422T221659
CREATED:20251212T204319Z
LAST-MODIFIED:20251212T204319Z
UID:4762-1778871600-1778878800@templebethdavid.online
SUMMARY:L'Dor VaDor - Yom Yerushalayim
DESCRIPTION:
URL:https://templebethdavid.online/event/ldor-vador-yom-yerushalayim/
END:VEVENT
BEGIN:VEVENT
DTSTART;TZID=UTC:20260517T084500
DTEND;TZID=UTC:20260517T091500
DTSTAMP:20260422T221659
CREATED:20250724T184004Z
LAST-MODIFIED:20260218T221149Z
UID:4231-1779007500-1779009300@templebethdavid.online
SUMMARY:Men's Club Chat
DESCRIPTION:
URL:https://templebethdavid.online/event/mens-club-chat-78/
END:VEVENT
BEGIN:VEVENT
DTSTART;TZID=UTC:20260517T093000
DTEND;TZID=UTC:20260517T103000
DTSTAMP:20260422T221659
CREATED:20250724T184727Z
LAST-MODIFIED:20250724T184727Z
UID:4235-1779010200-1779013800@templebethdavid.online
SUMMARY:Adult Hebrew Intermediate
DESCRIPTION:
URL:https://templebethdavid.online/event/adult-hebrew-intermediate-67/
END:VEVENT
BEGIN:VEVENT
DTSTART;TZID=UTC:20260517T093000
DTEND;TZID=UTC:20260517T123000
DTSTAMP:20260422T221659
CREATED:20250724T184454Z
LAST-MODIFIED:20250724T184454Z
UID:4233-1779010200-1779021000@templebethdavid.online
SUMMARY:Jewish Adventure School
DESCRIPTION:
URL:https://templebethdavid.online/event/jewish-adventure-school-44/
END:VEVENT
BEGIN:VEVENT
DTSTART;TZID=UTC:20260522T193000
DTEND;TZID=UTC:20260522T213000
DTSTAMP:20260422T221659
CREATED:20251212T204446Z
LAST-MODIFIED:20251212T204446Z
UID:4764-1779478200-1779485400@templebethdavid.online
SUMMARY:Shavuot
DESCRIPTION:
URL:https://templebethdavid.online/event/shavuot/
END:VEVENT
BEGIN:VEVENT
DTSTART;TZID=UTC:20260524T084500
DTEND;TZID=UTC:20260524T091500
DTSTAMP:20260422T221659
CREATED:20250724T190614Z
LAST-MODIFIED:20260325T191720Z
UID:4237-1779612300-1779614100@templebethdavid.online
SUMMARY:Men's Club Chat
DESCRIPTION:
URL:https://templebethdavid.online/event/mens-club-chat-79/
END:VEVENT
BEGIN:VEVENT
DTSTART;TZID=UTC:20260524T093000
DTEND;TZID=UTC:20260524T103000
DTSTAMP:20260422T221659
CREATED:20250724T190745Z
LAST-MODIFIED:20250724T190745Z
UID:4239-1779615000-1779618600@templebethdavid.online
SUMMARY:Adult Hebrew Intermediate
DESCRIPTION:
URL:https://templebethdavid.online/event/adult-hebrew-intermediate-68/
END:VEVENT
BEGIN:VEVENT
DTSTART;TZID=UTC:20260531T084500
DTEND;TZID=UTC:20260531T091500
DTSTAMP:20260422T221659
CREATED:20250724T191056Z
LAST-MODIFIED:20260325T191752Z
UID:4241-1780217100-1780218900@templebethdavid.online
SUMMARY:Men's Club Chat
DESCRIPTION:
URL:https://templebethdavid.online/event/mens-club-chat-80/
END:VEVENT
BEGIN:VEVENT
DTSTART;TZID=UTC:20260531T093000
DTEND;TZID=UTC:20260531T103000
DTSTAMP:20260422T221659
CREATED:20250724T191209Z
LAST-MODIFIED:20250724T191209Z
UID:4245-1780219800-1780223400@templebethdavid.online
SUMMARY:Adult Hebrew Intermediate
DESCRIPTION:
URL:https://templebethdavid.online/event/adult-hebrew-intermediate-69/
END:VEVENT
BEGIN:VEVENT
DTSTART;TZID=UTC:20260531T093000
DTEND;TZID=UTC:20260531T123000
DTSTAMP:20260422T221659
CREATED:20250724T191145Z
LAST-MODIFIED:20250724T191145Z
UID:4243-1780219800-1780230600@templebethdavid.online
SUMMARY:Jewish Adventure School
DESCRIPTION:
URL:https://templebethdavid.online/event/jewish-adventure-school-45/
END:VEVENT
END:VCALENDAR