BEGIN:VCALENDAR
VERSION:2.0
PRODID:-//Temple Beth David - ECPv6.15.20//NONSGML v1.0//EN
CALSCALE:GREGORIAN
METHOD:PUBLISH
X-WR-CALNAME:Temple Beth David
X-ORIGINAL-URL:https://templebethdavid.online
X-WR-CALDESC:Events for Temple Beth David
REFRESH-INTERVAL;VALUE=DURATION:PT1H
X-Robots-Tag:noindex
X-PUBLISHED-TTL:PT1H
BEGIN:VTIMEZONE
TZID:UTC
BEGIN:STANDARD
TZOFFSETFROM:+0000
TZOFFSETTO:+0000
TZNAME:UTC
DTSTART:20240101T000000
END:STANDARD
END:VTIMEZONE
BEGIN:VEVENT
DTSTART;TZID=UTC:20251212T193000
DTEND;TZID=UTC:20251212T213000
DTSTAMP:20260423T010139
CREATED:20250813T204014Z
LAST-MODIFIED:20250813T204014Z
UID:4404-1765567800-1765575000@templebethdavid.online
SUMMARY:Rabbi Ira and Cantor Beth
DESCRIPTION:
URL:https://templebethdavid.online/event/rabbi-ira-and-cantor-beth-7/
END:VEVENT
BEGIN:VEVENT
DTSTART;TZID=UTC:20251207T093000
DTEND;TZID=UTC:20251207T123000
DTSTAMP:20260423T010139
CREATED:20250709T202242Z
LAST-MODIFIED:20250709T202242Z
UID:4061-1765099800-1765110600@templebethdavid.online
SUMMARY:Jewish Adventure School
DESCRIPTION:
URL:https://templebethdavid.online/event/jewish-adventure-school-28/
END:VEVENT
BEGIN:VEVENT
DTSTART;TZID=UTC:20251207T093000
DTEND;TZID=UTC:20251207T120000
DTSTAMP:20260423T010139
CREATED:20251119T181652Z
LAST-MODIFIED:20251119T181652Z
UID:4698-1765099800-1765108800@templebethdavid.online
SUMMARY:Bagel Breakfast on Senior Scam Awareness hosted by Renee Rose
DESCRIPTION:
URL:https://templebethdavid.online/event/bagel-breakfast-on-senior-scam-awareness-hosted-by-renee-rose/
ATTACH;FMTTYPE=image/jpeg:https://templebethdavid.online/wp-content/uploads/2025/11/BagelBreakfast12-25.jpg
END:VEVENT
BEGIN:VEVENT
DTSTART;TZID=UTC:20251207T093000
DTEND;TZID=UTC:20251207T103000
DTSTAMP:20260423T010139
CREATED:20250709T202322Z
LAST-MODIFIED:20250709T202322Z
UID:4063-1765099800-1765103400@templebethdavid.online
SUMMARY:Adult Hebrew Intermediate
DESCRIPTION:
URL:https://templebethdavid.online/event/adult-hebrew-intermediate-40/
END:VEVENT
BEGIN:VEVENT
DTSTART;TZID=UTC:20251207T090000
DTEND;TZID=UTC:20251207T093000
DTSTAMP:20260423T010139
CREATED:20241111T180022Z
LAST-MODIFIED:20241111T180022Z
UID:3178-1765098000-1765099800@templebethdavid.online
SUMMARY:Men's Club Chat
DESCRIPTION:
URL:https://templebethdavid.online/event/mens-club-chat-55/
END:VEVENT
BEGIN:VEVENT
DTSTART;TZID=UTC:20251205T183000
DTEND;TZID=UTC:20251205T213000
DTSTAMP:20260423T010139
CREATED:20250813T203937Z
LAST-MODIFIED:20251113T154557Z
UID:4402-1764959400-1764970200@templebethdavid.online
SUMMARY:Kinder Shabbat and Shabbat for All Ages
DESCRIPTION:
URL:https://templebethdavid.online/event/kinder-shabbat-and-shabbat-for-all-ages-6/
ATTACH;FMTTYPE=image/png:https://templebethdavid.online/wp-content/uploads/2025/08/Shabbat12-5-25.png
END:VEVENT
BEGIN:VEVENT
DTSTART;TZID=UTC:20251130T093000
DTEND;TZID=UTC:20251130T103000
DTSTAMP:20260423T010139
CREATED:20250709T202107Z
LAST-MODIFIED:20250709T202107Z
UID:4059-1764495000-1764498600@templebethdavid.online
SUMMARY:Adult Hebrew Intermediate
DESCRIPTION:
URL:https://templebethdavid.online/event/adult-hebrew-intermediate-39/
END:VEVENT
BEGIN:VEVENT
DTSTART;TZID=UTC:20251130T090000
DTEND;TZID=UTC:20251130T093000
DTSTAMP:20260423T010139
CREATED:20241111T174450Z
LAST-MODIFIED:20241111T174450Z
UID:3170-1764493200-1764495000@templebethdavid.online
SUMMARY:Men's Club Chat
DESCRIPTION:
URL:https://templebethdavid.online/event/mens-club-chat-53/
END:VEVENT
BEGIN:VEVENT
DTSTART;TZID=UTC:20251128T193000
DTEND;TZID=UTC:20251128T213000
DTSTAMP:20260423T010139
CREATED:20251013T191832Z
LAST-MODIFIED:20251013T191832Z
UID:4627-1764358200-1764365400@templebethdavid.online
SUMMARY:Day After Thanksgiving- Zoom Only
DESCRIPTION:
URL:https://templebethdavid.online/event/day-after-thanksgiving-zoom-only/
ATTACH;FMTTYPE=image/png:https://templebethdavid.online/wp-content/uploads/2025/10/Shabbat11-28-25.png
END:VEVENT
BEGIN:VEVENT
DTSTART;TZID=UTC:20251123T093000
DTEND;TZID=UTC:20251123T123000
DTSTAMP:20260423T010139
CREATED:20250709T200246Z
LAST-MODIFIED:20250709T200440Z
UID:4053-1763890200-1763901000@templebethdavid.online
SUMMARY:Jewish Adventure School
DESCRIPTION:
URL:https://templebethdavid.online/event/jewish-adventure-school-27/
END:VEVENT
BEGIN:VEVENT
DTSTART;TZID=UTC:20251123T093000
DTEND;TZID=UTC:20251123T103000
DTSTAMP:20260423T010139
CREATED:20250709T202024Z
LAST-MODIFIED:20250709T202024Z
UID:4057-1763890200-1763893800@templebethdavid.online
SUMMARY:Adult Hebrew Intermediate
DESCRIPTION:
URL:https://templebethdavid.online/event/adult-hebrew-intermediate-37/
END:VEVENT
BEGIN:VEVENT
DTSTART;TZID=UTC:20251123T090000
DTEND;TZID=UTC:20251123T093000
DTSTAMP:20260423T010139
CREATED:20241111T173845Z
LAST-MODIFIED:20241111T173845Z
UID:3165-1763888400-1763890200@templebethdavid.online
SUMMARY:Men's Club Chat
DESCRIPTION:
URL:https://templebethdavid.online/event/mens-club-chat-54/
END:VEVENT
BEGIN:VEVENT
DTSTART;TZID=UTC:20251121T190000
DTEND;TZID=UTC:20251121T210000
DTSTAMP:20260423T010139
CREATED:20251013T191105Z
LAST-MODIFIED:20251013T191105Z
UID:4625-1763751600-1763758800@templebethdavid.online
SUMMARY:L'Dor Va'Dor Shabbat Service
DESCRIPTION:L’
URL:https://templebethdavid.online/event/ldor-vador-shabbat-service-2/
ATTACH;FMTTYPE=image/jpeg:https://templebethdavid.online/wp-content/uploads/2025/10/FRIDAYShabbat11-21.jpg
END:VEVENT
BEGIN:VEVENT
DTSTART;TZID=UTC:20251116T093000
DTEND;TZID=UTC:20251116T103000
DTSTAMP:20260423T010139
CREATED:20250709T201611Z
LAST-MODIFIED:20250709T201611Z
UID:4055-1763285400-1763289000@templebethdavid.online
SUMMARY:Adult Hebrew Intermediate
DESCRIPTION:
URL:https://templebethdavid.online/event/adult-hebrew-intermediate-38/
END:VEVENT
BEGIN:VEVENT
DTSTART;TZID=UTC:20251116T093000
DTEND;TZID=UTC:20251116T103000
DTSTAMP:20260423T010139
CREATED:20250709T195911Z
LAST-MODIFIED:20250709T195911Z
UID:4049-1763285400-1763289000@templebethdavid.online
SUMMARY:Jewish Adventure School
DESCRIPTION:
URL:https://templebethdavid.online/event/jewish-adventure-school-26/
END:VEVENT
BEGIN:VEVENT
DTSTART;TZID=UTC:20251116T090000
DTEND;TZID=UTC:20251116T130000
DTSTAMP:20260423T010139
CREATED:20250908T175148Z
LAST-MODIFIED:20251006T180914Z
UID:4480-1763283600-1763298000@templebethdavid.online
SUMMARY:Hanukkah Boutique & Craft Faire
DESCRIPTION:
URL:https://templebethdavid.online/event/hanukkah-boutique-craft-faire/
ATTACH;FMTTYPE=image/jpeg:https://templebethdavid.online/wp-content/uploads/2025/09/IMG_20250910_110938.jpg
END:VEVENT
BEGIN:VEVENT
DTSTART;TZID=UTC:20251116T090000
DTEND;TZID=UTC:20251116T093000
DTSTAMP:20260423T010139
CREATED:20241108T224222Z
LAST-MODIFIED:20241108T224222Z
UID:3147-1763283600-1763285400@templebethdavid.online
SUMMARY:Men's Chat Club
DESCRIPTION:
URL:https://templebethdavid.online/event/mens-chat-club-2/
END:VEVENT
BEGIN:VEVENT
DTSTART;TZID=UTC:20251114T193000
DTEND;TZID=UTC:20251114T213000
DTSTAMP:20260423T010139
CREATED:20251013T191004Z
LAST-MODIFIED:20251013T191004Z
UID:4623-1763148600-1763155800@templebethdavid.online
SUMMARY:Blessing of the New Moon - Cantor Beth and Rabbi Ira
DESCRIPTION:
URL:https://templebethdavid.online/event/blessing-of-the-new-moon-cantor-beth-and-rabbi-ira/
ATTACH;FMTTYPE=image/jpeg:https://templebethdavid.online/wp-content/uploads/2025/10/Purple-and-Yellow-Moon-Mid-Autumn-Fall-Festival-Poster.png.jpeg
END:VEVENT
BEGIN:VEVENT
DTSTART;TZID=UTC:20251109T093000
DTEND;TZID=UTC:20251109T103000
DTSTAMP:20260423T010139
CREATED:20250710T173011Z
LAST-MODIFIED:20250710T173011Z
UID:4107-1762680600-1762684200@templebethdavid.online
SUMMARY:Adult Hebrew Intermediate
DESCRIPTION:
URL:https://templebethdavid.online/event/adult-hebrew-intermediate-50/
END:VEVENT
BEGIN:VEVENT
DTSTART;TZID=UTC:20251109T093000
DTEND;TZID=UTC:20251109T100000
DTSTAMP:20260423T010139
CREATED:20241108T223931Z
LAST-MODIFIED:20241108T223931Z
UID:3139-1762680600-1762682400@templebethdavid.online
SUMMARY:Men's Club Chat
DESCRIPTION:
URL:https://templebethdavid.online/event/mens-club-chat-52/
END:VEVENT
BEGIN:VEVENT
DTSTART;TZID=UTC:20251107T183000
DTEND;TZID=UTC:20251107T213000
DTSTAMP:20260423T010139
CREATED:20251013T184344Z
LAST-MODIFIED:20251013T214523Z
UID:4617-1762540200-1762551000@templebethdavid.online
SUMMARY:Kinder Shabbat and Main Service with Gitai and Rabbi Ira
DESCRIPTION:
URL:https://templebethdavid.online/event/kinder-shabbat-and-main-service/
ATTACH;FMTTYPE=image/jpeg:https://templebethdavid.online/wp-content/uploads/2025/10/Blue-Red-001.jpg
END:VEVENT
BEGIN:VEVENT
DTSTART;TZID=UTC:20251102T093000
DTEND;TZID=UTC:20251102T123000
DTSTAMP:20260423T010139
CREATED:20250709T195158Z
LAST-MODIFIED:20250709T195158Z
UID:4047-1762075800-1762086600@templebethdavid.online
SUMMARY:Jewish Adventure School
DESCRIPTION:
URL:https://templebethdavid.online/event/jewish-adventure-school-24/
END:VEVENT
BEGIN:VEVENT
DTSTART;TZID=UTC:20251102T093000
DTEND;TZID=UTC:20251102T103000
DTSTAMP:20260423T010139
CREATED:20250710T172848Z
LAST-MODIFIED:20250710T172848Z
UID:4105-1762075800-1762079400@templebethdavid.online
SUMMARY:Adult Hebrew Intermediate
DESCRIPTION:
URL:https://templebethdavid.online/event/adult-hebrew-intermediate-49/
END:VEVENT
BEGIN:VEVENT
DTSTART;TZID=UTC:20251102T090000
DTEND;TZID=UTC:20251102T093000
DTSTAMP:20260423T010139
CREATED:20241108T223525Z
LAST-MODIFIED:20241108T223525Z
UID:3131-1762074000-1762075800@templebethdavid.online
SUMMARY:Men's Club Chat
DESCRIPTION:
URL:https://templebethdavid.online/event/mens-club-chat-51/
END:VEVENT
BEGIN:VEVENT
DTSTART;TZID=UTC:20251026T103000
DTEND;TZID=UTC:20251026T130000
DTSTAMP:20260423T010139
CREATED:20251002T195720Z
LAST-MODIFIED:20251002T195720Z
UID:4590-1761474600-1761483600@templebethdavid.online
SUMMARY:Bagel Brunch with Senator Sasha Renee Perez
DESCRIPTION:
URL:https://templebethdavid.online/event/bagel-brunch-with-senator-sasha-renee-perez/
ATTACH;FMTTYPE=image/jpeg:https://templebethdavid.online/wp-content/uploads/2025/10/BagelBreakfast2025.jpg
END:VEVENT
BEGIN:VEVENT
DTSTART;TZID=UTC:20251026T093000
DTEND;TZID=UTC:20251026T123000
DTSTAMP:20260423T010139
CREATED:20250709T193512Z
LAST-MODIFIED:20250709T193630Z
UID:4042-1761471000-1761481800@templebethdavid.online
SUMMARY:Jewish Adventure School
DESCRIPTION:
URL:https://templebethdavid.online/event/jewish-adventure-school-25/
END:VEVENT
BEGIN:VEVENT
DTSTART;TZID=UTC:20251026T093000
DTEND;TZID=UTC:20251026T103000
DTSTAMP:20260423T010139
CREATED:20250709T194945Z
LAST-MODIFIED:20250709T194945Z
UID:4045-1761471000-1761474600@templebethdavid.online
SUMMARY:Adult Hebrew Intermediate
DESCRIPTION:
URL:https://templebethdavid.online/event/adult-hebrew-intermediate-36/
END:VEVENT
BEGIN:VEVENT
DTSTART;TZID=UTC:20251026T090000
DTEND;TZID=UTC:20251026T093000
DTSTAMP:20260423T010139
CREATED:20241108T210018Z
LAST-MODIFIED:20241108T210018Z
UID:3114-1761469200-1761471000@templebethdavid.online
SUMMARY:Men's Club Chat
DESCRIPTION:
URL:https://templebethdavid.online/event/mens-club-chat-49/
END:VEVENT
BEGIN:VEVENT
DTSTART;TZID=UTC:20251024T193000
DTEND;TZID=UTC:20251024T213000
DTSTAMP:20260423T010139
CREATED:20250813T203246Z
LAST-MODIFIED:20251023T201657Z
UID:4394-1761334200-1761341400@templebethdavid.online
SUMMARY:Friday Shabbat Service with Paul Kleiman and Rabbi Ira
DESCRIPTION:
URL:https://templebethdavid.online/event/special-service/
ATTACH;FMTTYPE=image/png:https://templebethdavid.online/wp-content/uploads/2025/08/Oct24ShabbatFlyer1.png
END:VEVENT
BEGIN:VEVENT
DTSTART;TZID=UTC:20251019T093000
DTEND;TZID=UTC:20251019T123000
DTSTAMP:20260423T010139
CREATED:20250709T191008Z
LAST-MODIFIED:20250709T191008Z
UID:4034-1760866200-1760877000@templebethdavid.online
SUMMARY:Jewish Adventure School
DESCRIPTION:
URL:https://templebethdavid.online/event/jewish-adventure-school-23/
END:VEVENT
END:VCALENDAR