BEGIN:VCALENDAR
VERSION:2.0
PRODID:-//Temple Beth David - ECPv6.15.20//NONSGML v1.0//EN
CALSCALE:GREGORIAN
METHOD:PUBLISH
X-WR-CALNAME:Temple Beth David
X-ORIGINAL-URL:https://templebethdavid.online
X-WR-CALDESC:Events for Temple Beth David
REFRESH-INTERVAL;VALUE=DURATION:PT1H
X-Robots-Tag:noindex
X-PUBLISHED-TTL:PT1H
BEGIN:VTIMEZONE
TZID:UTC
BEGIN:STANDARD
TZOFFSETFROM:+0000
TZOFFSETTO:+0000
TZNAME:UTC
DTSTART:20230101T000000
END:STANDARD
END:VTIMEZONE
BEGIN:VEVENT
DTSTART;TZID=UTC:20250105T093000
DTEND;TZID=UTC:20250105T103000
DTSTAMP:20260424T055140
CREATED:20241104T185635Z
LAST-MODIFIED:20241104T185635Z
UID:2646-1736069400-1736073000@templebethdavid.online
SUMMARY:Adult Hebrew Intermediate
DESCRIPTION:
URL:https://templebethdavid.online/event/adult-hebrew-intermediate-9/
END:VEVENT
BEGIN:VEVENT
DTSTART;TZID=UTC:20250105T093000
DTEND;TZID=UTC:20250105T100000
DTSTAMP:20260424T055140
CREATED:20241104T175655Z
LAST-MODIFIED:20241107T181245Z
UID:2595-1736069400-1736071200@templebethdavid.online
SUMMARY:Mindfulness Meditation with Vic Herzfeld
DESCRIPTION:
URL:https://templebethdavid.online/event/mindfullness-meditation-with-vic-herzfeld-9/
END:VEVENT
BEGIN:VEVENT
DTSTART;TZID=UTC:20250105T091500
DTEND;TZID=UTC:20250105T123000
DTSTAMP:20260424T055140
CREATED:20241025T080137Z
LAST-MODIFIED:20241025T080137Z
UID:2407-1736068500-1736080200@templebethdavid.online
SUMMARY:Jewish Adventure School
DESCRIPTION:
URL:https://templebethdavid.online/event/jewish-adventure-school-4/
END:VEVENT
BEGIN:VEVENT
DTSTART;TZID=UTC:20250105T090000
DTEND;TZID=UTC:20250105T100000
DTSTAMP:20260424T055140
CREATED:20241104T175517Z
LAST-MODIFIED:20241104T185715Z
UID:2591-1736067600-1736071200@templebethdavid.online
SUMMARY:Adult Hebrew Beginners
DESCRIPTION:
URL:https://templebethdavid.online/event/adult-hebrew-beginners-intermediate-9/
END:VEVENT
BEGIN:VEVENT
DTSTART;TZID=UTC:20250105T090000
DTEND;TZID=UTC:20250105T093000
DTSTAMP:20260424T055140
CREATED:20241104T175548Z
LAST-MODIFIED:20241104T175548Z
UID:2593-1736067600-1736069400@templebethdavid.online
SUMMARY:Men's Club Chat
DESCRIPTION:
URL:https://templebethdavid.online/event/mens-club-chat-9/
END:VEVENT
BEGIN:VEVENT
DTSTART;TZID=UTC:20250103T183000
DTEND;TZID=UTC:20250103T210000
DTSTAMP:20260424T055140
CREATED:20241104T192015Z
LAST-MODIFIED:20241217T175908Z
UID:2669-1735929000-1735938000@templebethdavid.online
SUMMARY:Kinder Shabbat and Shabbat for All Ages
DESCRIPTION:
URL:https://templebethdavid.online/event/kinder-shabbat-and-shabbat-for-all-ages/
ATTACH;FMTTYPE=image/png:https://templebethdavid.online/wp-content/uploads/2024/11/TBD-1-3-25-Flyer.png
END:VEVENT
BEGIN:VEVENT
DTSTART;TZID=UTC:20250103T183000
DTEND;TZID=UTC:20250103T203000
DTSTAMP:20260424T055140
CREATED:20250105T044931Z
LAST-MODIFIED:20250105T044931Z
UID:3357-1735929000-1735936200@templebethdavid.online
SUMMARY:First Shabbat Service of 2025
DESCRIPTION:
URL:https://templebethdavid.online/event/first-shabbat-service-of-2025/
ATTACH;FMTTYPE=image/png:https://templebethdavid.online/wp-content/uploads/2025/01/First.png
END:VEVENT
BEGIN:VEVENT
DTSTART;TZID=UTC:20241229T093000
DTEND;TZID=UTC:20241229T103000
DTSTAMP:20260424T055140
CREATED:20241104T185542Z
LAST-MODIFIED:20241104T185542Z
UID:2643-1735464600-1735468200@templebethdavid.online
SUMMARY:Adult Hebrew Intermediate
DESCRIPTION:
URL:https://templebethdavid.online/event/adult-hebrew-intermediate-8/
END:VEVENT
BEGIN:VEVENT
DTSTART;TZID=UTC:20241229T093000
DTEND;TZID=UTC:20241229T100000
DTSTAMP:20260424T055140
CREATED:20241104T175323Z
LAST-MODIFIED:20241107T181314Z
UID:2589-1735464600-1735466400@templebethdavid.online
SUMMARY:Mindfulness Meditation with Vic Herzfeld
DESCRIPTION:
URL:https://templebethdavid.online/event/mindfullness-meditation-with-vic-herzfeld-8/
END:VEVENT
BEGIN:VEVENT
DTSTART;TZID=UTC:20241229T090000
DTEND;TZID=UTC:20241229T100000
DTSTAMP:20260424T055140
CREATED:20241104T175215Z
LAST-MODIFIED:20241104T185656Z
UID:2585-1735462800-1735466400@templebethdavid.online
SUMMARY:Adult Hebrew Beginners
DESCRIPTION:
URL:https://templebethdavid.online/event/adult-hebrew-beginners-intermediate-8/
END:VEVENT
BEGIN:VEVENT
DTSTART;TZID=UTC:20241229T090000
DTEND;TZID=UTC:20241229T093000
DTSTAMP:20260424T055140
CREATED:20241104T175248Z
LAST-MODIFIED:20241104T175248Z
UID:2587-1735462800-1735464600@templebethdavid.online
SUMMARY:Men's Club Chat
DESCRIPTION:
URL:https://templebethdavid.online/event/mens-club-chat-8/
END:VEVENT
BEGIN:VEVENT
DTSTART;TZID=UTC:20241227T181500
DTEND;TZID=UTC:20241227T210000
DTSTAMP:20260424T055140
CREATED:20241121T202623Z
LAST-MODIFIED:20241206T160930Z
UID:3301-1735323300-1735333200@templebethdavid.online
SUMMARY:Hanukkah Celebration
DESCRIPTION:
URL:https://templebethdavid.online/event/hanukkah-celebration/
ATTACH;FMTTYPE=image/jpeg:https://templebethdavid.online/wp-content/uploads/2024/11/Hanukkahflyer3.jpg
END:VEVENT
BEGIN:VEVENT
DTSTART;TZID=UTC:20241225T190000
DTEND;TZID=UTC:20241225T210000
DTSTAMP:20260424T055140
CREATED:20240912T162900Z
LAST-MODIFIED:20241107T194732Z
UID:2157-1735153200-1735160400@templebethdavid.online
SUMMARY:Hanukkah First Candle
DESCRIPTION:
URL:https://templebethdavid.online/event/hanukkah/
END:VEVENT
BEGIN:VEVENT
DTSTART;TZID=UTC:20241222T093000
DTEND;TZID=UTC:20241222T103000
DTSTAMP:20260424T055140
CREATED:20241104T185446Z
LAST-MODIFIED:20241104T185446Z
UID:2640-1734859800-1734863400@templebethdavid.online
SUMMARY:Adult Hebrew Intermediate
DESCRIPTION:
URL:https://templebethdavid.online/event/adult-hebrew-intermediate-7/
END:VEVENT
BEGIN:VEVENT
DTSTART;TZID=UTC:20241222T093000
DTEND;TZID=UTC:20241222T100000
DTSTAMP:20260424T055140
CREATED:20241104T175101Z
LAST-MODIFIED:20241107T181335Z
UID:2583-1734859800-1734861600@templebethdavid.online
SUMMARY:Mindfulness Meditation with Vic Herzfeld
DESCRIPTION:
URL:https://templebethdavid.online/event/mindfullness-meditation-with-vic-herzfeld-7/
END:VEVENT
BEGIN:VEVENT
DTSTART;TZID=UTC:20241222T091500
DTEND;TZID=UTC:20241222T123000
DTSTAMP:20260424T055140
CREATED:20241001T164743Z
LAST-MODIFIED:20241001T164743Z
UID:2331-1734858900-1734870600@templebethdavid.online
SUMMARY:Jewish Adventure School
DESCRIPTION:
URL:https://templebethdavid.online/event/jewish-adventure-school-9/
END:VEVENT
BEGIN:VEVENT
DTSTART;TZID=UTC:20241222T090000
DTEND;TZID=UTC:20241222T100000
DTSTAMP:20260424T055140
CREATED:20241104T174947Z
LAST-MODIFIED:20241104T185420Z
UID:2579-1734858000-1734861600@templebethdavid.online
SUMMARY:Adult Hebrew-Beginners
DESCRIPTION:
URL:https://templebethdavid.online/event/adult-hebrew-beginners-intermediate-7/
END:VEVENT
BEGIN:VEVENT
DTSTART;TZID=UTC:20241222T090000
DTEND;TZID=UTC:20241222T093000
DTSTAMP:20260424T055140
CREATED:20241104T175026Z
LAST-MODIFIED:20241104T175026Z
UID:2581-1734858000-1734859800@templebethdavid.online
SUMMARY:Men's Club Chat
DESCRIPTION:
URL:https://templebethdavid.online/event/mens-club-chat-7/
END:VEVENT
BEGIN:VEVENT
DTSTART;TZID=UTC:20241220T190000
DTEND;TZID=UTC:20241220T210000
DTSTAMP:20260424T055140
CREATED:20241119T165448Z
LAST-MODIFIED:20241119T165448Z
UID:3293-1734721200-1734728400@templebethdavid.online
SUMMARY:Pre-Hanukkah L'Dor VaDor
DESCRIPTION:
URL:https://templebethdavid.online/event/pre-hanukkah-ldor-vador/
ATTACH;FMTTYPE=image/jpeg:https://templebethdavid.online/wp-content/uploads/2024/11/Dec-20-24ShabbatFlyer.jpg
END:VEVENT
BEGIN:VEVENT
DTSTART;TZID=UTC:20241215T093000
DTEND;TZID=UTC:20241215T123000
DTSTAMP:20260424T055140
CREATED:20241016T225806Z
LAST-MODIFIED:20241016T225806Z
UID:2393-1734255000-1734265800@templebethdavid.online
SUMMARY:Latke Mix Pick Up
DESCRIPTION:
URL:https://templebethdavid.online/event/latke-mix-pick-up/
ATTACH;FMTTYPE=image/jpeg:https://templebethdavid.online/wp-content/uploads/2024/10/latke.jpg
END:VEVENT
BEGIN:VEVENT
DTSTART;TZID=UTC:20241215T093000
DTEND;TZID=UTC:20241215T103000
DTSTAMP:20260424T055140
CREATED:20241104T185400Z
LAST-MODIFIED:20241104T185400Z
UID:2637-1734255000-1734258600@templebethdavid.online
SUMMARY:Adult Hebrew Intermediate
DESCRIPTION:
URL:https://templebethdavid.online/event/adult-hebrew-intermediate-6/
END:VEVENT
BEGIN:VEVENT
DTSTART;TZID=UTC:20241215T093000
DTEND;TZID=UTC:20241215T100000
DTSTAMP:20260424T055140
CREATED:20241104T174805Z
LAST-MODIFIED:20241107T181402Z
UID:2577-1734255000-1734256800@templebethdavid.online
SUMMARY:Mindfulness Meditation with Vic Herzfeld
DESCRIPTION:
URL:https://templebethdavid.online/event/mindfullness-meditation-with-vic-herzfeld-6/
END:VEVENT
BEGIN:VEVENT
DTSTART;TZID=UTC:20241215T091500
DTEND;TZID=UTC:20241215T123000
DTSTAMP:20260424T055140
CREATED:20241001T164717Z
LAST-MODIFIED:20241001T164717Z
UID:2329-1734254100-1734265800@templebethdavid.online
SUMMARY:Jewish Adventure School
DESCRIPTION:
URL:https://templebethdavid.online/event/jewish-adventure-school-8/
END:VEVENT
BEGIN:VEVENT
DTSTART;TZID=UTC:20241215T090000
DTEND;TZID=UTC:20241215T100000
DTSTAMP:20260424T055140
CREATED:20241104T174611Z
LAST-MODIFIED:20241104T185333Z
UID:2573-1734253200-1734256800@templebethdavid.online
SUMMARY:Adult Hebrew-Beginners
DESCRIPTION:
URL:https://templebethdavid.online/event/adult-hebrew-beginners-intermediate-6/
END:VEVENT
BEGIN:VEVENT
DTSTART;TZID=UTC:20241215T090000
DTEND;TZID=UTC:20241215T093000
DTSTAMP:20260424T055140
CREATED:20241104T174720Z
LAST-MODIFIED:20241104T174720Z
UID:2575-1734253200-1734255000@templebethdavid.online
SUMMARY:Men's Club Chat
DESCRIPTION:
URL:https://templebethdavid.online/event/mens-club-chat-6/
END:VEVENT
BEGIN:VEVENT
DTSTART;TZID=UTC:20241213T193000
DTEND;TZID=UTC:20241213T213000
DTSTAMP:20260424T055140
CREATED:20241119T164011Z
LAST-MODIFIED:20241119T165328Z
UID:3291-1734118200-1734125400@templebethdavid.online
SUMMARY:Cantor Beth Returns with Rabbi Ira - How Jacob Became Israel
DESCRIPTION:
URL:https://templebethdavid.online/event/cantor-beth-returns-with-rabbi-ira-how-jacob-became-israel/
ATTACH;FMTTYPE=image/jpeg:https://templebethdavid.online/wp-content/uploads/2024/11/Dec-13-24ShabbatFlyer.jpg
END:VEVENT
BEGIN:VEVENT
DTSTART;TZID=UTC:20241212T190000
DTEND;TZID=UTC:20241212T210000
DTSTAMP:20260424T055140
CREATED:20241016T225908Z
LAST-MODIFIED:20241115T170414Z
UID:2396-1734030000-1734037200@templebethdavid.online
SUMMARY:Jewish Book Festival featuring Micah Siva
DESCRIPTION:
URL:https://templebethdavid.online/event/jewish-book-festival-featuring-micah-siva/
ATTACH;FMTTYPE=image/jpeg:https://templebethdavid.online/wp-content/uploads/2024/11/MicahSivaflyer.jpg
END:VEVENT
BEGIN:VEVENT
DTSTART;TZID=UTC:20241212T093000
DTEND;TZID=UTC:20241212T120000
DTSTAMP:20260424T055140
CREATED:20241031T070037Z
LAST-MODIFIED:20241107T195042Z
UID:2478-1733995800-1734004800@templebethdavid.online
SUMMARY:Sisterhood Latke Order Deadline
DESCRIPTION:
URL:https://templebethdavid.online/event/sisterhood-latke-order-deadline/
ATTACH;FMTTYPE=image/jpeg:https://templebethdavid.online/wp-content/uploads/2024/10/latke-1.jpg
END:VEVENT
BEGIN:VEVENT
DTSTART;TZID=UTC:20241208T093000
DTEND;TZID=UTC:20241208T103000
DTSTAMP:20260424T055140
CREATED:20241104T185259Z
LAST-MODIFIED:20241104T185259Z
UID:2634-1733650200-1733653800@templebethdavid.online
SUMMARY:Adult Hebrew Intermediate
DESCRIPTION:
URL:https://templebethdavid.online/event/adult-hebrew-intermediate-5/
END:VEVENT
BEGIN:VEVENT
DTSTART;TZID=UTC:20241208T093000
DTEND;TZID=UTC:20241208T100000
DTSTAMP:20260424T055140
CREATED:20241104T174332Z
LAST-MODIFIED:20241107T181453Z
UID:2571-1733650200-1733652000@templebethdavid.online
SUMMARY:Mindfulness Meditation with Vic Herzfeld
DESCRIPTION:
URL:https://templebethdavid.online/event/mindfullness-meditation-with-vic-herzfeld-5/
END:VEVENT
END:VCALENDAR