BEGIN:VCALENDAR
VERSION:2.0
PRODID:-//Temple Beth David - ECPv6.15.20//NONSGML v1.0//EN
CALSCALE:GREGORIAN
METHOD:PUBLISH
X-WR-CALNAME:Temple Beth David
X-ORIGINAL-URL:https://templebethdavid.online
X-WR-CALDESC:Events for Temple Beth David
REFRESH-INTERVAL;VALUE=DURATION:PT1H
X-Robots-Tag:noindex
X-PUBLISHED-TTL:PT1H
BEGIN:VTIMEZONE
TZID:UTC
BEGIN:STANDARD
TZOFFSETFROM:+0000
TZOFFSETTO:+0000
TZNAME:UTC
DTSTART:20240101T000000
END:STANDARD
END:VTIMEZONE
BEGIN:VEVENT
DTSTART;TZID=UTC:20250228T193000
DTEND;TZID=UTC:20250228T213000
DTSTAMP:20260423T215032
CREATED:20250120T190937Z
LAST-MODIFIED:20250120T190937Z
UID:3416-1740771000-1740778200@templebethdavid.online
SUMMARY:Shabbat Service with Rabbi Ira & New TBD Choir Member Congregant Alan Simpson
DESCRIPTION:
URL:https://templebethdavid.online/event/shabbat-service-with-rabbi-ira-new-tbd-choir-member-congregant-alan-simpson/
ATTACH;FMTTYPE=image/png:https://templebethdavid.online/wp-content/uploads/2025/01/2-28-25-Flyer-Final.png
END:VEVENT
BEGIN:VEVENT
DTSTART;TZID=UTC:20250225T183000
DTEND;TZID=UTC:20250225T203000
DTSTAMP:20260423T215032
CREATED:20250225T075426Z
LAST-MODIFIED:20250225T075426Z
UID:3532-1740508200-1740515400@templebethdavid.online
SUMMARY:Kinder Shabbat
DESCRIPTION:
URL:https://templebethdavid.online/event/kinder-shabbat-2/
ATTACH;FMTTYPE=image/png:https://templebethdavid.online/wp-content/uploads/2025/02/Green.png
END:VEVENT
BEGIN:VEVENT
DTSTART;TZID=UTC:20250223T093000
DTEND;TZID=UTC:20250223T103000
DTSTAMP:20260423T215032
CREATED:20241104T200401Z
LAST-MODIFIED:20241104T200401Z
UID:2707-1740303000-1740306600@templebethdavid.online
SUMMARY:Adult Hebrew Intermediate
DESCRIPTION:
URL:https://templebethdavid.online/event/adult-hebrew-intermediate-16/
END:VEVENT
BEGIN:VEVENT
DTSTART;TZID=UTC:20250223T091500
DTEND;TZID=UTC:20250223T123000
DTSTAMP:20260423T215032
CREATED:20241025T080432Z
LAST-MODIFIED:20241025T080432Z
UID:2417-1740302100-1740313800@templebethdavid.online
SUMMARY:Jewish Adventure School
DESCRIPTION:
URL:https://templebethdavid.online/event/jewish-adventure-school-14/
END:VEVENT
BEGIN:VEVENT
DTSTART;TZID=UTC:20250223T090000
DTEND;TZID=UTC:20250223T100000
DTSTAMP:20260423T215032
CREATED:20241104T200244Z
LAST-MODIFIED:20241104T200244Z
UID:2703-1740301200-1740304800@templebethdavid.online
SUMMARY:Adult Hebrew Beginners
DESCRIPTION:
URL:https://templebethdavid.online/event/adult-hebrew-beginners-7/
END:VEVENT
BEGIN:VEVENT
DTSTART;TZID=UTC:20250223T090000
DTEND;TZID=UTC:20250223T093000
DTSTAMP:20260423T215032
CREATED:20241104T200331Z
LAST-MODIFIED:20241104T200331Z
UID:2705-1740301200-1740303000@templebethdavid.online
SUMMARY:Men's Club Chat
DESCRIPTION:
URL:https://templebethdavid.online/event/mens-club-chat-16/
END:VEVENT
BEGIN:VEVENT
DTSTART;TZID=UTC:20250221T190000
DTEND;TZID=UTC:20250221T210000
DTSTAMP:20260423T215032
CREATED:20250120T190723Z
LAST-MODIFIED:20250120T190723Z
UID:3413-1740164400-1740171600@templebethdavid.online
SUMMARY:L'Dor Va'Dor Shabbat Service
DESCRIPTION:
URL:https://templebethdavid.online/event/ldor-vador-shabbat-service/
ATTACH;FMTTYPE=image/png:https://templebethdavid.online/wp-content/uploads/2025/01/2-21-25-Flyer.png
END:VEVENT
BEGIN:VEVENT
DTSTART;TZID=UTC:20250216T093000
DTEND;TZID=UTC:20250216T103000
DTSTAMP:20260423T215032
CREATED:20241104T195906Z
LAST-MODIFIED:20241104T195906Z
UID:2699-1739698200-1739701800@templebethdavid.online
SUMMARY:Adult Hebrew Intermediate
DESCRIPTION:
URL:https://templebethdavid.online/event/adult-hebrew-intermediate-15/
END:VEVENT
BEGIN:VEVENT
DTSTART;TZID=UTC:20250216T090000
DTEND;TZID=UTC:20250216T100000
DTSTAMP:20260423T215032
CREATED:20241104T195801Z
LAST-MODIFIED:20241104T195801Z
UID:2695-1739696400-1739700000@templebethdavid.online
SUMMARY:Adult Hebrew Beginners
DESCRIPTION:
URL:https://templebethdavid.online/event/adult-hebrew-beginners-6/
END:VEVENT
BEGIN:VEVENT
DTSTART;TZID=UTC:20250216T090000
DTEND;TZID=UTC:20250216T093000
DTSTAMP:20260423T215032
CREATED:20241104T195827Z
LAST-MODIFIED:20241104T195827Z
UID:2697-1739696400-1739698200@templebethdavid.online
SUMMARY:Men's Club Chat
DESCRIPTION:
URL:https://templebethdavid.online/event/mens-club-chat-15/
END:VEVENT
BEGIN:VEVENT
DTSTART;TZID=UTC:20250215T153000
DTEND;TZID=UTC:20250215T173000
DTSTAMP:20260423T215032
CREATED:20250107T212409Z
LAST-MODIFIED:20250214T182618Z
UID:3383-1739633400-1739640600@templebethdavid.online
SUMMARY:Stephanie & Vincent Roberts B'Nai Mitzvah
DESCRIPTION:
URL:https://templebethdavid.online/event/vincent-roberts-bnai-mitzvah/
END:VEVENT
BEGIN:VEVENT
DTSTART;TZID=UTC:20250214T193000
DTEND;TZID=UTC:20250214T213000
DTSTAMP:20260423T215032
CREATED:20250120T190545Z
LAST-MODIFIED:20250120T190545Z
UID:3410-1739561400-1739568600@templebethdavid.online
SUMMARY:Tu'B'Shevat\, Sweethearts' Day & President's Weekend
DESCRIPTION:
URL:https://templebethdavid.online/event/tubshevat-sweethearts-day-presidents-weekend/
ATTACH;FMTTYPE=image/png:https://templebethdavid.online/wp-content/uploads/2025/01/2-14-Flyer.png
END:VEVENT
BEGIN:VEVENT
DTSTART;TZID=UTC:20250209T150000
DTEND;TZID=UTC:20250209T200000
DTSTAMP:20260423T215032
CREATED:20250115T170538Z
LAST-MODIFIED:20250115T170538Z
UID:3403-1739113200-1739131200@templebethdavid.online
SUMMARY:Sisterhood Super Bowl Party - Crafting
DESCRIPTION:
URL:https://templebethdavid.online/event/sisterhood-super-bowl-party-crafting/
ATTACH;FMTTYPE=image/jpeg:https://templebethdavid.online/wp-content/uploads/2025/01/Screenshot_2025-01-11-18-14-14-60_c0d35d5c8ea536686f7fb1c9f2f8f274.jpg
END:VEVENT
BEGIN:VEVENT
DTSTART;TZID=UTC:20250209T150000
DTEND;TZID=UTC:20250209T200000
DTSTAMP:20260423T215032
CREATED:20250103T210953Z
LAST-MODIFIED:20250117T183253Z
UID:3354-1739113200-1739131200@templebethdavid.online
SUMMARY:Super Bowl LIX 2025 Watch Party
DESCRIPTION:
URL:https://templebethdavid.online/event/super-bowl-lix-2025-watch-party/
ATTACH;FMTTYPE=image/jpeg:https://templebethdavid.online/wp-content/uploads/2025/01/SUPERBOWL-WATCH-PARTY-1.jpg
END:VEVENT
BEGIN:VEVENT
DTSTART;TZID=UTC:20250209T113000
DTEND;TZID=UTC:20250209T123000
DTSTAMP:20260423T215032
CREATED:20241111T183459Z
LAST-MODIFIED:20250203T220835Z
UID:3201-1739100600-1739104200@templebethdavid.online
SUMMARY:Tu B'Shevat Seder
DESCRIPTION:
URL:https://templebethdavid.online/event/tu-bshvat/
ATTACH;FMTTYPE=image/png:https://templebethdavid.online/wp-content/uploads/2024/11/TU-BShevatSeder-1.png
END:VEVENT
BEGIN:VEVENT
DTSTART;TZID=UTC:20250209T093000
DTEND;TZID=UTC:20250209T103000
DTSTAMP:20260423T215032
CREATED:20241104T195507Z
LAST-MODIFIED:20241104T195507Z
UID:2691-1739093400-1739097000@templebethdavid.online
SUMMARY:Adult Hebrew Intermediate
DESCRIPTION:
URL:https://templebethdavid.online/event/adult-hebrew-intermediate-14/
END:VEVENT
BEGIN:VEVENT
DTSTART;TZID=UTC:20250209T091500
DTEND;TZID=UTC:20250209T123000
DTSTAMP:20260423T215032
CREATED:20241025T080409Z
LAST-MODIFIED:20241025T080409Z
UID:2415-1739092500-1739104200@templebethdavid.online
SUMMARY:Jewish Adventure School
DESCRIPTION:
URL:https://templebethdavid.online/event/jewish-adventure-school-13/
END:VEVENT
BEGIN:VEVENT
DTSTART;TZID=UTC:20250209T090000
DTEND;TZID=UTC:20250209T100000
DTSTAMP:20260423T215032
CREATED:20241104T195139Z
LAST-MODIFIED:20241104T195139Z
UID:2687-1739091600-1739095200@templebethdavid.online
SUMMARY:Adult Hebrew Beginners
DESCRIPTION:
URL:https://templebethdavid.online/event/adult-hebrew-beginners-5/
END:VEVENT
BEGIN:VEVENT
DTSTART;TZID=UTC:20250209T090000
DTEND;TZID=UTC:20250209T093000
DTSTAMP:20260423T215032
CREATED:20241104T195400Z
LAST-MODIFIED:20241104T195400Z
UID:2689-1739091600-1739093400@templebethdavid.online
SUMMARY:Men's Club Chat
DESCRIPTION:
URL:https://templebethdavid.online/event/mens-club-chat-14/
END:VEVENT
BEGIN:VEVENT
DTSTART;TZID=UTC:20250207T183000
DTEND;TZID=UTC:20250207T213000
DTSTAMP:20260423T215032
CREATED:20250120T185535Z
LAST-MODIFIED:20250121T165426Z
UID:3407-1738953000-1738963800@templebethdavid.online
SUMMARY:Kinder Shabbat and Shabbat Service
DESCRIPTION:
URL:https://templebethdavid.online/event/kinder-shabbat-and-shabbat-service/
ATTACH;FMTTYPE=image/jpeg:https://templebethdavid.online/wp-content/uploads/2025/01/Double-Header.png.jpg
END:VEVENT
BEGIN:VEVENT
DTSTART;TZID=UTC:20250202T093000
DTEND;TZID=UTC:20250202T103000
DTSTAMP:20260423T215032
CREATED:20241104T194242Z
LAST-MODIFIED:20241104T194242Z
UID:2683-1738488600-1738492200@templebethdavid.online
SUMMARY:Adult Hebrew Intermediate
DESCRIPTION:
URL:https://templebethdavid.online/event/adult-hebrew-intermediate-13/
END:VEVENT
BEGIN:VEVENT
DTSTART;TZID=UTC:20250202T091500
DTEND;TZID=UTC:20250202T123000
DTSTAMP:20260423T215032
CREATED:20241025T080337Z
LAST-MODIFIED:20241025T080337Z
UID:2413-1738487700-1738499400@templebethdavid.online
SUMMARY:Jewish Adventure School
DESCRIPTION:
URL:https://templebethdavid.online/event/jewish-adventure-school-12/
END:VEVENT
BEGIN:VEVENT
DTSTART;TZID=UTC:20250202T090000
DTEND;TZID=UTC:20250202T100000
DTSTAMP:20260423T215032
CREATED:20241104T194053Z
LAST-MODIFIED:20241104T194053Z
UID:2679-1738486800-1738490400@templebethdavid.online
SUMMARY:Adult Hebrew Beginners
DESCRIPTION:
URL:https://templebethdavid.online/event/adult-hebrew-beginners-4/
END:VEVENT
BEGIN:VEVENT
DTSTART;TZID=UTC:20250202T090000
DTEND;TZID=UTC:20250202T093000
DTSTAMP:20260423T215032
CREATED:20241104T194212Z
LAST-MODIFIED:20241104T194212Z
UID:2681-1738486800-1738488600@templebethdavid.online
SUMMARY:Men's Club Chat
DESCRIPTION:
URL:https://templebethdavid.online/event/mens-club-chat-13/
END:VEVENT
BEGIN:VEVENT
DTSTART;TZID=UTC:20250131T193000
DTEND;TZID=UTC:20250131T213000
DTSTAMP:20260423T215032
CREATED:20241107T195421Z
LAST-MODIFIED:20241219T200909Z
UID:2995-1738351800-1738359000@templebethdavid.online
SUMMARY:Shan He on the Guzheng with Rabbi Ira
DESCRIPTION:
URL:https://templebethdavid.online/event/musical-service/
ATTACH;FMTTYPE=image/png:https://templebethdavid.online/wp-content/uploads/2024/11/TBD-1-31-25-Flyer.png
END:VEVENT
BEGIN:VEVENT
DTSTART;VALUE=DATE:20250127
DTEND;VALUE=DATE:20250128
DTSTAMP:20260423T215032
CREATED:20241111T183410Z
LAST-MODIFIED:20241111T183410Z
UID:3199-1737936000-1738022399@templebethdavid.online
SUMMARY:International Holocaust Remembrance Day
DESCRIPTION:
URL:https://templebethdavid.online/event/international-holocaust-remembrance-day/
END:VEVENT
BEGIN:VEVENT
DTSTART;TZID=UTC:20250126T093000
DTEND;TZID=UTC:20250126T103000
DTSTAMP:20260423T215032
CREATED:20241104T191032Z
LAST-MODIFIED:20241104T191032Z
UID:2663-1737883800-1737887400@templebethdavid.online
SUMMARY:Adult Hebrew Intermediate
DESCRIPTION:
URL:https://templebethdavid.online/event/adult-hebrew-intermediate-12/
END:VEVENT
BEGIN:VEVENT
DTSTART;TZID=UTC:20250126T093000
DTEND;TZID=UTC:20250126T100000
DTSTAMP:20260423T215032
CREATED:20241104T191615Z
LAST-MODIFIED:20241107T175910Z
UID:2667-1737883800-1737885600@templebethdavid.online
SUMMARY:Mindfulness Meditation with Vic Herzfeld
DESCRIPTION:
URL:https://templebethdavid.online/event/mindfulness-meditation-with-vic-herzfeld-3/
END:VEVENT
BEGIN:VEVENT
DTSTART;TZID=UTC:20250126T091500
DTEND;TZID=UTC:20250126T123000
DTSTAMP:20260423T215032
CREATED:20241025T080300Z
LAST-MODIFIED:20241025T080300Z
UID:2411-1737882900-1737894600@templebethdavid.online
SUMMARY:Jewish Adventure School
DESCRIPTION:
URL:https://templebethdavid.online/event/jewish-adventure-school-11/
END:VEVENT
BEGIN:VEVENT
DTSTART;TZID=UTC:20250126T090000
DTEND;TZID=UTC:20250126T100000
DTSTAMP:20260423T215032
CREATED:20241104T185959Z
LAST-MODIFIED:20241104T185959Z
UID:2653-1737882000-1737885600@templebethdavid.online
SUMMARY:Adult Hebrew Beginners
DESCRIPTION:
URL:https://templebethdavid.online/event/adult-hebrew-beginners/
END:VEVENT
END:VCALENDAR