BEGIN:VCALENDAR
VERSION:2.0
PRODID:-//Temple Beth David - ECPv6.15.20//NONSGML v1.0//EN
CALSCALE:GREGORIAN
METHOD:PUBLISH
X-WR-CALNAME:Temple Beth David
X-ORIGINAL-URL:https://templebethdavid.online
X-WR-CALDESC:Events for Temple Beth David
REFRESH-INTERVAL;VALUE=DURATION:PT1H
X-Robots-Tag:noindex
X-PUBLISHED-TTL:PT1H
BEGIN:VTIMEZONE
TZID:UTC
BEGIN:STANDARD
TZOFFSETFROM:+0000
TZOFFSETTO:+0000
TZNAME:UTC
DTSTART:20240101T000000
END:STANDARD
END:VTIMEZONE
BEGIN:VEVENT
DTSTART;TZID=UTC:20250727T093000
DTEND;TZID=UTC:20250727T103000
DTSTAMP:20260423T092014
CREATED:20250728T213238Z
LAST-MODIFIED:20250728T213238Z
UID:4285-1753608600-1753612200@templebethdavid.online
SUMMARY:Adult Hebrew Intermediate
DESCRIPTION:
URL:https://templebethdavid.online/event/adult-hebrew-intermediate-77/
END:VEVENT
BEGIN:VEVENT
DTSTART;TZID=UTC:20250727T090000
DTEND;TZID=UTC:20250727T093000
DTSTAMP:20260423T092014
CREATED:20241106T220938Z
LAST-MODIFIED:20241106T220938Z
UID:2951-1753606800-1753608600@templebethdavid.online
SUMMARY:Men's Club Chat
DESCRIPTION:
URL:https://templebethdavid.online/event/mens-club-chat-37/
END:VEVENT
BEGIN:VEVENT
DTSTART;TZID=UTC:20250725T193000
DTEND;TZID=UTC:20250725T213000
DTSTAMP:20260423T092014
CREATED:20250623T161136Z
LAST-MODIFIED:20250623T161136Z
UID:4006-1753471800-1753479000@templebethdavid.online
SUMMARY:Shabbat Service
DESCRIPTION:
URL:https://templebethdavid.online/event/shabbat-service/
ATTACH;FMTTYPE=image/jpeg:https://templebethdavid.online/wp-content/uploads/2025/06/7-25-25.jpg
END:VEVENT
BEGIN:VEVENT
DTSTART;TZID=UTC:20250724T093000
DTEND;TZID=UTC:20250724T103000
DTSTAMP:20260423T092014
CREATED:20250724T171948Z
LAST-MODIFIED:20250724T171948Z
UID:4219-1753349400-1753353000@templebethdavid.online
SUMMARY:Adult Hebrew Intermediate
DESCRIPTION:
URL:https://templebethdavid.online/event/adult-hebrew-intermediate-64/
END:VEVENT
BEGIN:VEVENT
DTSTART;TZID=UTC:20250720T090000
DTEND;TZID=UTC:20250720T093000
DTSTAMP:20260423T092014
CREATED:20241106T220633Z
LAST-MODIFIED:20241106T220633Z
UID:2943-1753002000-1753003800@templebethdavid.online
SUMMARY:Men's Club Chat
DESCRIPTION:
URL:https://templebethdavid.online/event/mens-club-chat-36/
END:VEVENT
BEGIN:VEVENT
DTSTART;TZID=UTC:20250718T190000
DTEND;TZID=UTC:20250718T210000
DTSTAMP:20260423T092014
CREATED:20241106T221645Z
LAST-MODIFIED:20250617T165118Z
UID:2961-1752865200-1752872400@templebethdavid.online
SUMMARY:L'Dor Va'Dor Shabbat Service with Blessing of the New Moon
DESCRIPTION:
URL:https://templebethdavid.online/event/ldor-vador-service-5/
ATTACH;FMTTYPE=image/jpeg:https://templebethdavid.online/wp-content/uploads/2024/11/7-18-25.jpg
END:VEVENT
BEGIN:VEVENT
DTSTART;TZID=UTC:20250713T130000
DTEND;TZID=UTC:20250713T160000
DTSTAMP:20260423T092014
CREATED:20250616T190708Z
LAST-MODIFIED:20250617T160550Z
UID:3966-1752411600-1752422400@templebethdavid.online
SUMMARY:Kibbitz & Craft Event
DESCRIPTION:
URL:https://templebethdavid.online/event/kibbitz-craft/
ATTACH;FMTTYPE=image/jpeg:https://templebethdavid.online/wp-content/uploads/2025/06/Sisterhood-KibbitzCraftFlyer-2.jpg
END:VEVENT
BEGIN:VEVENT
DTSTART;TZID=UTC:20250713T090000
DTEND;TZID=UTC:20250713T093000
DTSTAMP:20260423T092014
CREATED:20241106T220256Z
LAST-MODIFIED:20241106T220256Z
UID:2935-1752397200-1752399000@templebethdavid.online
SUMMARY:Men's Club Chat
DESCRIPTION:
URL:https://templebethdavid.online/event/mens-club-chat-35/
END:VEVENT
BEGIN:VEVENT
DTSTART;TZID=UTC:20250711T193000
DTEND;TZID=UTC:20250711T213000
DTSTAMP:20260423T092014
CREATED:20250617T160844Z
LAST-MODIFIED:20250617T160844Z
UID:3978-1752262200-1752269400@templebethdavid.online
SUMMARY:Shabbat Service with Rabbi Ira & Cantor Beth
DESCRIPTION:
URL:https://templebethdavid.online/event/shabbat-service-with-rabbi-ira-cantor-beth/
ATTACH;FMTTYPE=image/jpeg:https://templebethdavid.online/wp-content/uploads/2025/06/7-11-25.jpg
END:VEVENT
BEGIN:VEVENT
DTSTART;TZID=UTC:20250706T090000
DTEND;TZID=UTC:20250706T093000
DTSTAMP:20260423T092014
CREATED:20241106T215403Z
LAST-MODIFIED:20241106T215403Z
UID:2925-1751792400-1751794200@templebethdavid.online
SUMMARY:Men's Club Chat
DESCRIPTION:
URL:https://templebethdavid.online/event/mens-club-chat-34/
END:VEVENT
BEGIN:VEVENT
DTSTART;TZID=UTC:20250704T190000
DTEND;TZID=UTC:20250704T210000
DTSTAMP:20260423T092014
CREATED:20250617T160647Z
LAST-MODIFIED:20250617T160647Z
UID:3975-1751655600-1751662800@templebethdavid.online
SUMMARY:Shabbat Zoom Service
DESCRIPTION:
URL:https://templebethdavid.online/event/shabbat-zoom-service/
ATTACH;FMTTYPE=image/png:https://templebethdavid.online/wp-content/uploads/2025/06/7-4-25Flyer.png
END:VEVENT
BEGIN:VEVENT
DTSTART;TZID=UTC:20250630T190000
DTEND;TZID=UTC:20250630T200000
DTSTAMP:20260423T092014
CREATED:20250617T161754Z
LAST-MODIFIED:20250617T161754Z
UID:3981-1751310000-1751313600@templebethdavid.online
SUMMARY:Sirota Sings Again!
DESCRIPTION:
URL:https://templebethdavid.online/event/sirota-sings-again/
ATTACH;FMTTYPE=image/jpeg:https://templebethdavid.online/wp-content/uploads/2025/06/MikeSirotaflyer.jpg
END:VEVENT
BEGIN:VEVENT
DTSTART;TZID=UTC:20250629T090000
DTEND;TZID=UTC:20250629T093000
DTSTAMP:20260423T092014
CREATED:20241111T192613Z
LAST-MODIFIED:20241111T192613Z
UID:3243-1751187600-1751189400@templebethdavid.online
SUMMARY:Men's Club Chat
DESCRIPTION:
URL:https://templebethdavid.online/event/mens-club-chat-58/
END:VEVENT
BEGIN:VEVENT
DTSTART;TZID=UTC:20250627T190000
DTEND;TZID=UTC:20250627T210000
DTSTAMP:20260423T092014
CREATED:20241106T205452Z
LAST-MODIFIED:20250527T170556Z
UID:2912-1751050800-1751058000@templebethdavid.online
SUMMARY:Rosh Chodesh Tammuz/Shabbat Service
DESCRIPTION:
URL:https://templebethdavid.online/event/special-service-4/
ATTACH;FMTTYPE=image/jpeg:https://templebethdavid.online/wp-content/uploads/2024/11/6-27-25Flyer.jpg
END:VEVENT
BEGIN:VEVENT
DTSTART;TZID=UTC:20250622T140000
DTEND;TZID=UTC:20250622T170000
DTSTAMP:20260423T092014
CREATED:20250520T210332Z
LAST-MODIFIED:20250602T151407Z
UID:3954-1750600800-1750611600@templebethdavid.online
SUMMARY:Men's Club Quakes Baseball
DESCRIPTION:
URL:https://templebethdavid.online/event/mens-club-quakers-baseball/
ATTACH;FMTTYPE=image/jpeg:https://templebethdavid.online/wp-content/uploads/2025/05/TBDQuakesFlyer-1.jpg
END:VEVENT
BEGIN:VEVENT
DTSTART;TZID=UTC:20250622T090000
DTEND;TZID=UTC:20250622T093000
DTSTAMP:20260423T092014
CREATED:20241106T204505Z
LAST-MODIFIED:20241106T204505Z
UID:2894-1750582800-1750584600@templebethdavid.online
SUMMARY:Men's Club Chat
DESCRIPTION:
URL:https://templebethdavid.online/event/mens-club-chat-33/
END:VEVENT
BEGIN:VEVENT
DTSTART;TZID=UTC:20250621T183000
DTEND;TZID=UTC:20250621T213000
DTSTAMP:20260423T092014
CREATED:20250501T190302Z
LAST-MODIFIED:20250501T190302Z
UID:3938-1750530600-1750541400@templebethdavid.online
SUMMARY:Summer Fun Music Series
DESCRIPTION:
URL:https://templebethdavid.online/event/summer-fun-music-series-4/
ATTACH;FMTTYPE=image/png:https://templebethdavid.online/wp-content/uploads/2025/05/June21Summerconcert.png
END:VEVENT
BEGIN:VEVENT
DTSTART;TZID=UTC:20250620T190000
DTEND;TZID=UTC:20250620T210000
DTSTAMP:20260423T092014
CREATED:20241106T205412Z
LAST-MODIFIED:20250527T170455Z
UID:2910-1750446000-1750453200@templebethdavid.online
SUMMARY:L'Dor Va'Dor Service
DESCRIPTION:
URL:https://templebethdavid.online/event/ldor-vador-service-4/
ATTACH;FMTTYPE=image/png:https://templebethdavid.online/wp-content/uploads/2024/11/6-20-25Flyer.png
END:VEVENT
BEGIN:VEVENT
DTSTART;TZID=UTC:20250615T090000
DTEND;TZID=UTC:20250615T093000
DTSTAMP:20260423T092014
CREATED:20241106T203648Z
LAST-MODIFIED:20241106T203648Z
UID:2886-1749978000-1749979800@templebethdavid.online
SUMMARY:Men's Club Chat
DESCRIPTION:
URL:https://templebethdavid.online/event/mens-club-chat-32/
END:VEVENT
BEGIN:VEVENT
DTSTART;VALUE=DATE:20250615
DTEND;VALUE=DATE:20250616
DTSTAMP:20260423T092014
CREATED:20241111T190828Z
LAST-MODIFIED:20241111T190828Z
UID:3221-1749945600-1750031999@templebethdavid.online
SUMMARY:Father's Day
DESCRIPTION:
URL:https://templebethdavid.online/event/fathers-day/
END:VEVENT
BEGIN:VEVENT
DTSTART;TZID=UTC:20250613T193000
DTEND;TZID=UTC:20250613T210000
DTSTAMP:20260423T092014
CREATED:20250421T194919Z
LAST-MODIFIED:20250507T182010Z
UID:3929-1749843000-1749848400@templebethdavid.online
SUMMARY:TBD Shabbat Sisterhood Shabbat
DESCRIPTION:
URL:https://templebethdavid.online/event/tbd-shabbat-sisterhood-shabbat/
ATTACH;FMTTYPE=image/jpeg:https://templebethdavid.online/wp-content/uploads/2025/04/IMG_20250506_121223.jpg
END:VEVENT
BEGIN:VEVENT
DTSTART;TZID=UTC:20250608T110000
DTEND;TZID=UTC:20250608T140000
DTSTAMP:20260423T092014
CREATED:20250520T210143Z
LAST-MODIFIED:20250520T210143Z
UID:3952-1749380400-1749391200@templebethdavid.online
SUMMARY:Congregational Meeting
DESCRIPTION:
URL:https://templebethdavid.online/event/congregational-meeting/
END:VEVENT
BEGIN:VEVENT
DTSTART;TZID=UTC:20250608T090000
DTEND;TZID=UTC:20250608T093000
DTSTAMP:20260423T092014
CREATED:20241106T202638Z
LAST-MODIFIED:20241106T202638Z
UID:2878-1749373200-1749375000@templebethdavid.online
SUMMARY:Men's Club Chat
DESCRIPTION:
URL:https://templebethdavid.online/event/mens-club-chat-31/
END:VEVENT
BEGIN:VEVENT
DTSTART;TZID=UTC:20250606T183000
DTEND;TZID=UTC:20250606T210000
DTSTAMP:20260423T092014
CREATED:20241106T205216Z
LAST-MODIFIED:20250527T170407Z
UID:2906-1749234600-1749243600@templebethdavid.online
SUMMARY:Kinder Shabbat and Shabbat for All Ages
DESCRIPTION:
URL:https://templebethdavid.online/event/kinder-shabbat-and-shabbat-for-all-ages-4/
ATTACH;FMTTYPE=image/png:https://templebethdavid.online/wp-content/uploads/2024/11/6-6-25Flyer.png
END:VEVENT
BEGIN:VEVENT
DTSTART;TZID=UTC:20250601T093000
DTEND;TZID=UTC:20250601T123000
DTSTAMP:20260423T092014
CREATED:20250519T161822Z
LAST-MODIFIED:20250519T161822Z
UID:3949-1748770200-1748781000@templebethdavid.online
SUMMARY:Jewish Adventure School Last Day & BBQ
DESCRIPTION:
URL:https://templebethdavid.online/event/jewish-adventure-school-last-day-bbq/
ATTACH;FMTTYPE=image/jpeg:https://templebethdavid.online/wp-content/uploads/2025/05/6-1-25BBQFlyer.jpg
END:VEVENT
BEGIN:VEVENT
DTSTART;TZID=UTC:20250601T090000
DTEND;TZID=UTC:20250601T093000
DTSTAMP:20260423T092014
CREATED:20241106T200138Z
LAST-MODIFIED:20241106T200138Z
UID:2869-1748768400-1748770200@templebethdavid.online
SUMMARY:Men's Club Chat
DESCRIPTION:
URL:https://templebethdavid.online/event/mens-club-chat-30/
END:VEVENT
BEGIN:VEVENT
DTSTART;TZID=UTC:20250531T160000
DTEND;TZID=UTC:20250531T200000
DTSTAMP:20260423T092014
CREATED:20250107T212531Z
LAST-MODIFIED:20250107T212531Z
UID:3387-1748707200-1748721600@templebethdavid.online
SUMMARY:Aurelio Sosa Bar Mitzvah
DESCRIPTION:
URL:https://templebethdavid.online/event/aurelio-sosa-bar-mitzvah/
END:VEVENT
BEGIN:VEVENT
DTSTART;TZID=UTC:20250530T193000
DTEND;TZID=UTC:20250530T210000
DTSTAMP:20260423T092014
CREATED:20250423T170704Z
LAST-MODIFIED:20250423T170704Z
UID:3933-1748633400-1748638800@templebethdavid.online
SUMMARY:Shabbat/Shavuot Service
DESCRIPTION:
URL:https://templebethdavid.online/event/shabbat-shavuot-service/
ATTACH;FMTTYPE=image/jpeg:https://templebethdavid.online/wp-content/uploads/2025/04/5-30-25Flyer.jpg
END:VEVENT
BEGIN:VEVENT
DTSTART;VALUE=DATE:20250526
DTEND;VALUE=DATE:20250527
DTSTAMP:20260423T092014
CREATED:20241111T190740Z
LAST-MODIFIED:20241111T190740Z
UID:3217-1748217600-1748303999@templebethdavid.online
SUMMARY:Memorial Day
DESCRIPTION:
URL:https://templebethdavid.online/event/memorial-day/
END:VEVENT
BEGIN:VEVENT
DTSTART;TZID=UTC:20250525T093000
DTEND;TZID=UTC:20250525T103000
DTSTAMP:20260423T092014
CREATED:20241106T192059Z
LAST-MODIFIED:20241106T192059Z
UID:2852-1748165400-1748169000@templebethdavid.online
SUMMARY:Adult Hebrew Intermediate
DESCRIPTION:
URL:https://templebethdavid.online/event/adult-hebrew-intermediate-28/
END:VEVENT
END:VCALENDAR