BEGIN:VCALENDAR
VERSION:2.0
PRODID:-//Temple Beth David - ECPv6.15.20//NONSGML v1.0//EN
CALSCALE:GREGORIAN
METHOD:PUBLISH
X-ORIGINAL-URL:https://templebethdavid.online
X-WR-CALDESC:Events for Temple Beth David
REFRESH-INTERVAL;VALUE=DURATION:PT1H
X-Robots-Tag:noindex
X-PUBLISHED-TTL:PT1H
BEGIN:VTIMEZONE
TZID:UTC
BEGIN:STANDARD
TZOFFSETFROM:+0000
TZOFFSETTO:+0000
TZNAME:UTC
DTSTART:20250101T000000
END:STANDARD
END:VTIMEZONE
BEGIN:VEVENT
DTSTART;TZID=UTC:20260920T084500
DTEND;TZID=UTC:20260920T091500
DTSTAMP:20260422T230752
CREATED:20251027T210642Z
LAST-MODIFIED:20260220T192726Z
UID:4676-1789893900-1789895700@templebethdavid.online
SUMMARY:Men's Club
DESCRIPTION:
URL:https://templebethdavid.online/event/mens-club-3/
END:VEVENT
BEGIN:VEVENT
DTSTART;TZID=UTC:20260920T093000
DTEND;TZID=UTC:20260920T103000
DTSTAMP:20260422T230752
CREATED:20251027T213656Z
LAST-MODIFIED:20251027T213656Z
UID:4678-1789896600-1789900200@templebethdavid.online
SUMMARY:Adult Hebrew
DESCRIPTION:
URL:https://templebethdavid.online/event/adult-hebrew-4/
END:VEVENT
END:VCALENDAR