BEGIN:VCALENDAR
VERSION:2.0
PRODID:-//Temple Beth David - ECPv6.15.20//NONSGML v1.0//EN
CALSCALE:GREGORIAN
METHOD:PUBLISH
X-ORIGINAL-URL:https://templebethdavid.online
X-WR-CALDESC:Events for Temple Beth David
REFRESH-INTERVAL;VALUE=DURATION:PT1H
X-Robots-Tag:noindex
X-PUBLISHED-TTL:PT1H
BEGIN:VTIMEZONE
TZID:UTC
BEGIN:STANDARD
TZOFFSETFROM:+0000
TZOFFSETTO:+0000
TZNAME:UTC
DTSTART:20250101T000000
END:STANDARD
END:VTIMEZONE
BEGIN:VEVENT
DTSTART;TZID=UTC:20260712T084500
DTEND;TZID=UTC:20260712T091500
DTSTAMP:20260422T215823
CREATED:20250725T214527Z
LAST-MODIFIED:20260219T204715Z
UID:4277-1783845900-1783847700@templebethdavid.online
SUMMARY:Men's Club Chat
DESCRIPTION:
URL:https://templebethdavid.online/event/mens-club-chat-87/
END:VEVENT
BEGIN:VEVENT
DTSTART;TZID=UTC:20260712T093000
DTEND;TZID=UTC:20260712T103000
DTSTAMP:20260422T215823
CREATED:20250725T214304Z
LAST-MODIFIED:20250725T214304Z
UID:4275-1783848600-1783852200@templebethdavid.online
SUMMARY:Adult Hebrew Intermediate
DESCRIPTION:
URL:https://templebethdavid.online/event/adult-hebrew-intermediate-75/
END:VEVENT
END:VCALENDAR