BEGIN:VCALENDAR
VERSION:2.0
PRODID:-//Temple Beth David - ECPv6.15.20//NONSGML v1.0//EN
CALSCALE:GREGORIAN
METHOD:PUBLISH
X-ORIGINAL-URL:https://templebethdavid.online
X-WR-CALDESC:Events for Temple Beth David
REFRESH-INTERVAL;VALUE=DURATION:PT1H
X-Robots-Tag:noindex
X-PUBLISHED-TTL:PT1H
BEGIN:VTIMEZONE
TZID:UTC
BEGIN:STANDARD
TZOFFSETFROM:+0000
TZOFFSETTO:+0000
TZNAME:UTC
DTSTART:20250101T000000
END:STANDARD
END:VTIMEZONE
BEGIN:VEVENT
DTSTART;TZID=UTC:20260705T084500
DTEND;TZID=UTC:20260705T091500
DTSTAMP:20260422T191405
CREATED:20250725T185628Z
LAST-MODIFIED:20260219T204502Z
UID:4269-1783241100-1783242900@templebethdavid.online
SUMMARY:Men's Club Chat
DESCRIPTION:15
URL:https://templebethdavid.online/event/mens-club-chat-85/
END:VEVENT
BEGIN:VEVENT
DTSTART;TZID=UTC:20260705T093000
DTEND;TZID=UTC:20260705T103000
DTSTAMP:20260422T191405
CREATED:20250725T185721Z
LAST-MODIFIED:20250725T185721Z
UID:4271-1783243800-1783247400@templebethdavid.online
SUMMARY:Adult Hebrew Intermediate
DESCRIPTION:
URL:https://templebethdavid.online/event/adult-hebrew-intermediate-74/
END:VEVENT
END:VCALENDAR