BEGIN:VCALENDAR
VERSION:2.0
PRODID:-//Temple Beth David - ECPv6.15.20//NONSGML v1.0//EN
CALSCALE:GREGORIAN
METHOD:PUBLISH
X-ORIGINAL-URL:https://templebethdavid.online
X-WR-CALDESC:Events for Temple Beth David
REFRESH-INTERVAL;VALUE=DURATION:PT1H
X-Robots-Tag:noindex
X-PUBLISHED-TTL:PT1H
BEGIN:VTIMEZONE
TZID:UTC
BEGIN:STANDARD
TZOFFSETFROM:+0000
TZOFFSETTO:+0000
TZNAME:UTC
DTSTART:20250101T000000
END:STANDARD
END:VTIMEZONE
BEGIN:VEVENT
DTSTART;TZID=UTC:20260628T084500
DTEND;TZID=UTC:20260628T091500
DTSTAMP:20260422T190935
CREATED:20250725T185349Z
LAST-MODIFIED:20260325T191907Z
UID:4265-1782636300-1782638100@templebethdavid.online
SUMMARY:Men's Club Chat
DESCRIPTION:
URL:https://templebethdavid.online/event/mens-club-chat-84/
END:VEVENT
BEGIN:VEVENT
DTSTART;TZID=UTC:20260628T093000
DTEND;TZID=UTC:20260628T103000
DTSTAMP:20260422T190935
CREATED:20250725T185450Z
LAST-MODIFIED:20250725T185450Z
UID:4267-1782639000-1782642600@templebethdavid.online
SUMMARY:Adult Hebrew Intermediate
DESCRIPTION:
URL:https://templebethdavid.online/event/adult-hebrew-intermediate-73/
END:VEVENT
BEGIN:VEVENT
DTSTART;TZID=UTC:20260628T100000
DTEND;TZID=UTC:20260628T163000
DTSTAMP:20260422T190935
CREATED:20260331T190139Z
LAST-MODIFIED:20260331T190139Z
UID:5069-1782640800-1782664200@templebethdavid.online
SUMMARY:Luco Kashper Bar Mitzvah
DESCRIPTION:
URL:https://templebethdavid.online/event/luco-kashper-bar-mitzvah/
END:VEVENT
END:VCALENDAR