BEGIN:VCALENDAR
VERSION:2.0
PRODID:-//Temple Beth David - ECPv6.15.20//NONSGML v1.0//EN
CALSCALE:GREGORIAN
METHOD:PUBLISH
X-WR-CALNAME:Temple Beth David
X-ORIGINAL-URL:https://templebethdavid.online
X-WR-CALDESC:Events for Temple Beth David
REFRESH-INTERVAL;VALUE=DURATION:PT1H
X-Robots-Tag:noindex
X-PUBLISHED-TTL:PT1H
BEGIN:VTIMEZONE
TZID:UTC
BEGIN:STANDARD
TZOFFSETFROM:+0000
TZOFFSETTO:+0000
TZNAME:UTC
DTSTART:20250101T000000
END:STANDARD
END:VTIMEZONE
BEGIN:VEVENT
DTSTART;TZID=UTC:20260627T170000
DTEND;TZID=UTC:20260627T220000
DTSTAMP:20260422T190804
CREATED:20260202T203257Z
LAST-MODIFIED:20260202T203257Z
UID:4848-1782579600-1782597600@templebethdavid.online
SUMMARY:Roxann Rysin Bat Mitzvah
DESCRIPTION:
URL:https://templebethdavid.online/event/roxann-rysin-bat-mitzvah/
END:VEVENT
END:VCALENDAR