BEGIN:VCALENDAR
VERSION:2.0
PRODID:-//Temple Beth David - ECPv6.15.20//NONSGML v1.0//EN
CALSCALE:GREGORIAN
METHOD:PUBLISH
X-ORIGINAL-URL:https://templebethdavid.online
X-WR-CALDESC:Events for Temple Beth David
REFRESH-INTERVAL;VALUE=DURATION:PT1H
X-Robots-Tag:noindex
X-PUBLISHED-TTL:PT1H
BEGIN:VTIMEZONE
TZID:UTC
BEGIN:STANDARD
TZOFFSETFROM:+0000
TZOFFSETTO:+0000
TZNAME:UTC
DTSTART:20250101T000000
END:STANDARD
END:VTIMEZONE
BEGIN:VEVENT
DTSTART;TZID=UTC:20260621T084500
DTEND;TZID=UTC:20260621T091500
DTSTAMP:20260422T191406
CREATED:20250724T210842Z
LAST-MODIFIED:20260219T194952Z
UID:4255-1782031500-1782033300@templebethdavid.online
SUMMARY:Men's Club Chat
DESCRIPTION:
URL:https://templebethdavid.online/event/mens-club-chat-83/
END:VEVENT
BEGIN:VEVENT
DTSTART;TZID=UTC:20260621T093000
DTEND;TZID=UTC:20260621T103000
DTSTAMP:20260422T191406
CREATED:20250724T211046Z
LAST-MODIFIED:20250724T211046Z
UID:4257-1782034200-1782037800@templebethdavid.online
SUMMARY:Adult Hebrew Intermediate
DESCRIPTION:
URL:https://templebethdavid.online/event/adult-hebrew-intermediate-72/
END:VEVENT
END:VCALENDAR