BEGIN:VCALENDAR
VERSION:2.0
PRODID:-//Temple Beth David - ECPv6.15.20//NONSGML v1.0//EN
CALSCALE:GREGORIAN
METHOD:PUBLISH
X-ORIGINAL-URL:https://templebethdavid.online
X-WR-CALDESC:Events for Temple Beth David
REFRESH-INTERVAL;VALUE=DURATION:PT1H
X-Robots-Tag:noindex
X-PUBLISHED-TTL:PT1H
BEGIN:VTIMEZONE
TZID:UTC
BEGIN:STANDARD
TZOFFSETFROM:+0000
TZOFFSETTO:+0000
TZNAME:UTC
DTSTART:20250101T000000
END:STANDARD
END:VTIMEZONE
BEGIN:VEVENT
DTSTART;TZID=UTC:20260118T090000
DTEND;TZID=UTC:20260118T093000
DTSTAMP:20260422T203237
CREATED:20250710T183629Z
LAST-MODIFIED:20250710T183629Z
UID:4113-1768726800-1768728600@templebethdavid.online
SUMMARY:Men's Club Chat
DESCRIPTION:
URL:https://templebethdavid.online/event/mens-club-chat-66/
END:VEVENT
BEGIN:VEVENT
DTSTART;TZID=UTC:20260118T093000
DTEND;TZID=UTC:20260118T103000
DTSTAMP:20260422T203238
CREATED:20250710T183655Z
LAST-MODIFIED:20250710T183655Z
UID:4115-1768728600-1768732200@templebethdavid.online
SUMMARY:Adult Hebrew Intermediate
DESCRIPTION:
URL:https://templebethdavid.online/event/adult-hebrew-intermediate-54/
END:VEVENT
END:VCALENDAR