BEGIN:VCALENDAR
VERSION:2.0
PRODID:-//Temple Beth David - ECPv6.15.20//NONSGML v1.0//EN
CALSCALE:GREGORIAN
METHOD:PUBLISH
X-WR-CALNAME:Temple Beth David
X-ORIGINAL-URL:https://templebethdavid.online
X-WR-CALDESC:Events for Temple Beth David
REFRESH-INTERVAL;VALUE=DURATION:PT1H
X-Robots-Tag:noindex
X-PUBLISHED-TTL:PT1H
BEGIN:VTIMEZONE
TZID:UTC
BEGIN:STANDARD
TZOFFSETFROM:+0000
TZOFFSETTO:+0000
TZNAME:UTC
DTSTART:20240101T000000
END:STANDARD
END:VTIMEZONE
BEGIN:VEVENT
DTSTART;TZID=UTC:20251207T090000
DTEND;TZID=UTC:20251207T093000
DTSTAMP:20260422T215213
CREATED:20241111T180022Z
LAST-MODIFIED:20241111T180022Z
UID:3178-1765098000-1765099800@templebethdavid.online
SUMMARY:Men's Club Chat
DESCRIPTION:
URL:https://templebethdavid.online/event/mens-club-chat-55/
END:VEVENT
BEGIN:VEVENT
DTSTART;TZID=UTC:20251207T093000
DTEND;TZID=UTC:20251207T103000
DTSTAMP:20260422T215213
CREATED:20250709T202322Z
LAST-MODIFIED:20250709T202322Z
UID:4063-1765099800-1765103400@templebethdavid.online
SUMMARY:Adult Hebrew Intermediate
DESCRIPTION:
URL:https://templebethdavid.online/event/adult-hebrew-intermediate-40/
END:VEVENT
BEGIN:VEVENT
DTSTART;TZID=UTC:20251207T093000
DTEND;TZID=UTC:20251207T120000
DTSTAMP:20260422T215213
CREATED:20251119T181652Z
LAST-MODIFIED:20251119T181652Z
UID:4698-1765099800-1765108800@templebethdavid.online
SUMMARY:Bagel Breakfast on Senior Scam Awareness hosted by Renee Rose
DESCRIPTION:
URL:https://templebethdavid.online/event/bagel-breakfast-on-senior-scam-awareness-hosted-by-renee-rose/
ATTACH;FMTTYPE=image/jpeg:https://templebethdavid.online/wp-content/uploads/2025/11/BagelBreakfast12-25.jpg
END:VEVENT
BEGIN:VEVENT
DTSTART;TZID=UTC:20251207T093000
DTEND;TZID=UTC:20251207T123000
DTSTAMP:20260422T215213
CREATED:20250709T202242Z
LAST-MODIFIED:20250709T202242Z
UID:4061-1765099800-1765110600@templebethdavid.online
SUMMARY:Jewish Adventure School
DESCRIPTION:
URL:https://templebethdavid.online/event/jewish-adventure-school-28/
END:VEVENT
END:VCALENDAR