BEGIN:VCALENDAR
VERSION:2.0
PRODID:-//Temple Beth David - ECPv6.15.20//NONSGML v1.0//EN
CALSCALE:GREGORIAN
METHOD:PUBLISH
X-WR-CALNAME:Temple Beth David
X-ORIGINAL-URL:https://templebethdavid.online
X-WR-CALDESC:Events for Temple Beth David
REFRESH-INTERVAL;VALUE=DURATION:PT1H
X-Robots-Tag:noindex
X-PUBLISHED-TTL:PT1H
BEGIN:VTIMEZONE
TZID:UTC
BEGIN:STANDARD
TZOFFSETFROM:+0000
TZOFFSETTO:+0000
TZNAME:UTC
DTSTART:20240101T000000
END:STANDARD
END:VTIMEZONE
BEGIN:VEVENT
DTSTART;TZID=UTC:20251114T193000
DTEND;TZID=UTC:20251114T213000
DTSTAMP:20260422T233438
CREATED:20251013T191004Z
LAST-MODIFIED:20251013T191004Z
UID:4623-1763148600-1763155800@templebethdavid.online
SUMMARY:Blessing of the New Moon - Cantor Beth and Rabbi Ira
DESCRIPTION:
URL:https://templebethdavid.online/event/blessing-of-the-new-moon-cantor-beth-and-rabbi-ira/
ATTACH;FMTTYPE=image/jpeg:https://templebethdavid.online/wp-content/uploads/2025/10/Purple-and-Yellow-Moon-Mid-Autumn-Fall-Festival-Poster.png.jpeg
END:VEVENT
END:VCALENDAR