BEGIN:VCALENDAR
VERSION:2.0
PRODID:-//Temple Beth David - ECPv6.15.20//NONSGML v1.0//EN
CALSCALE:GREGORIAN
METHOD:PUBLISH
X-WR-CALNAME:Temple Beth David
X-ORIGINAL-URL:https://templebethdavid.online
X-WR-CALDESC:Events for Temple Beth David
REFRESH-INTERVAL;VALUE=DURATION:PT1H
X-Robots-Tag:noindex
X-PUBLISHED-TTL:PT1H
BEGIN:VTIMEZONE
TZID:UTC
BEGIN:STANDARD
TZOFFSETFROM:+0000
TZOFFSETTO:+0000
TZNAME:UTC
DTSTART:20240101T000000
END:STANDARD
END:VTIMEZONE
BEGIN:VEVENT
DTSTART;TZID=UTC:20251102T090000
DTEND;TZID=UTC:20251102T093000
DTSTAMP:20260422T233336
CREATED:20241108T223525Z
LAST-MODIFIED:20241108T223525Z
UID:3131-1762074000-1762075800@templebethdavid.online
SUMMARY:Men's Club Chat
DESCRIPTION:
URL:https://templebethdavid.online/event/mens-club-chat-51/
END:VEVENT
BEGIN:VEVENT
DTSTART;TZID=UTC:20251102T093000
DTEND;TZID=UTC:20251102T103000
DTSTAMP:20260422T233336
CREATED:20250710T172848Z
LAST-MODIFIED:20250710T172848Z
UID:4105-1762075800-1762079400@templebethdavid.online
SUMMARY:Adult Hebrew Intermediate
DESCRIPTION:
URL:https://templebethdavid.online/event/adult-hebrew-intermediate-49/
END:VEVENT
BEGIN:VEVENT
DTSTART;TZID=UTC:20251102T093000
DTEND;TZID=UTC:20251102T123000
DTSTAMP:20260422T233336
CREATED:20250709T195158Z
LAST-MODIFIED:20250709T195158Z
UID:4047-1762075800-1762086600@templebethdavid.online
SUMMARY:Jewish Adventure School
DESCRIPTION:
URL:https://templebethdavid.online/event/jewish-adventure-school-24/
END:VEVENT
END:VCALENDAR