BEGIN:VCALENDAR
VERSION:2.0
PRODID:-//Temple Beth David - ECPv6.15.20//NONSGML v1.0//EN
CALSCALE:GREGORIAN
METHOD:PUBLISH
X-WR-CALNAME:Temple Beth David
X-ORIGINAL-URL:https://templebethdavid.online
X-WR-CALDESC:Events for Temple Beth David
REFRESH-INTERVAL;VALUE=DURATION:PT1H
X-Robots-Tag:noindex
X-PUBLISHED-TTL:PT1H
BEGIN:VTIMEZONE
TZID:UTC
BEGIN:STANDARD
TZOFFSETFROM:+0000
TZOFFSETTO:+0000
TZNAME:UTC
DTSTART:20240101T000000
END:STANDARD
END:VTIMEZONE
BEGIN:VEVENT
DTSTART;TZID=UTC:20251026T090000
DTEND;TZID=UTC:20251026T093000
DTSTAMP:20260423T005852
CREATED:20241108T210018Z
LAST-MODIFIED:20241108T210018Z
UID:3114-1761469200-1761471000@templebethdavid.online
SUMMARY:Men's Club Chat
DESCRIPTION:
URL:https://templebethdavid.online/event/mens-club-chat-49/
END:VEVENT
BEGIN:VEVENT
DTSTART;TZID=UTC:20251026T093000
DTEND;TZID=UTC:20251026T103000
DTSTAMP:20260423T005852
CREATED:20250709T194945Z
LAST-MODIFIED:20250709T194945Z
UID:4045-1761471000-1761474600@templebethdavid.online
SUMMARY:Adult Hebrew Intermediate
DESCRIPTION:
URL:https://templebethdavid.online/event/adult-hebrew-intermediate-36/
END:VEVENT
BEGIN:VEVENT
DTSTART;TZID=UTC:20251026T093000
DTEND;TZID=UTC:20251026T123000
DTSTAMP:20260423T005852
CREATED:20250709T193512Z
LAST-MODIFIED:20250709T193630Z
UID:4042-1761471000-1761481800@templebethdavid.online
SUMMARY:Jewish Adventure School
DESCRIPTION:
URL:https://templebethdavid.online/event/jewish-adventure-school-25/
END:VEVENT
BEGIN:VEVENT
DTSTART;TZID=UTC:20251026T103000
DTEND;TZID=UTC:20251026T130000
DTSTAMP:20260423T005852
CREATED:20251002T195720Z
LAST-MODIFIED:20251002T195720Z
UID:4590-1761474600-1761483600@templebethdavid.online
SUMMARY:Bagel Brunch with Senator Sasha Renee Perez
DESCRIPTION:
URL:https://templebethdavid.online/event/bagel-brunch-with-senator-sasha-renee-perez/
ATTACH;FMTTYPE=image/jpeg:https://templebethdavid.online/wp-content/uploads/2025/10/BagelBreakfast2025.jpg
END:VEVENT
END:VCALENDAR