BEGIN:VCALENDAR
VERSION:2.0
PRODID:-//Temple Beth David - ECPv6.15.20//NONSGML v1.0//EN
CALSCALE:GREGORIAN
METHOD:PUBLISH
X-ORIGINAL-URL:https://templebethdavid.online
X-WR-CALDESC:Events for Temple Beth David
REFRESH-INTERVAL;VALUE=DURATION:PT1H
X-Robots-Tag:noindex
X-PUBLISHED-TTL:PT1H
BEGIN:VTIMEZONE
TZID:UTC
BEGIN:STANDARD
TZOFFSETFROM:+0000
TZOFFSETTO:+0000
TZNAME:UTC
DTSTART:20240101T000000
END:STANDARD
END:VTIMEZONE
BEGIN:VEVENT
DTSTART;TZID=UTC:20251017T190000
DTEND;TZID=UTC:20251017T210000
DTSTAMP:20260423T005300
CREATED:20250813T203206Z
LAST-MODIFIED:20250813T203206Z
UID:4392-1760727600-1760734800@templebethdavid.online
SUMMARY:L'Dor Va'Dor Service
DESCRIPTION:
URL:https://templebethdavid.online/event/ldor-vador-service-2/
END:VEVENT
BEGIN:VEVENT
DTSTART;TZID=UTC:20251017T190000
DTEND;TZID=UTC:20251017T210000
DTSTAMP:20260423T005300
CREATED:20250922T170444Z
LAST-MODIFIED:20250922T170444Z
UID:4543-1760727600-1760734800@templebethdavid.online
SUMMARY:Celebrate Shabbat and Simchat Torah with Us!
DESCRIPTION:
URL:https://templebethdavid.online/event/celebrate-shabbat-and-simchat-torah-with-us/
ATTACH;FMTTYPE=image/jpeg:https://templebethdavid.online/wp-content/uploads/2025/09/Oct17thShabbatFlyer.jpg
END:VEVENT
END:VCALENDAR