BEGIN:VCALENDAR
VERSION:2.0
PRODID:-//Temple Beth David - ECPv6.15.20//NONSGML v1.0//EN
CALSCALE:GREGORIAN
METHOD:PUBLISH
X-ORIGINAL-URL:https://templebethdavid.online
X-WR-CALDESC:Events for Temple Beth David
REFRESH-INTERVAL;VALUE=DURATION:PT1H
X-Robots-Tag:noindex
X-PUBLISHED-TTL:PT1H
BEGIN:VTIMEZONE
TZID:UTC
BEGIN:STANDARD
TZOFFSETFROM:+0000
TZOFFSETTO:+0000
TZNAME:UTC
DTSTART:20240101T000000
END:STANDARD
END:VTIMEZONE
BEGIN:VEVENT
DTSTART;TZID=UTC:20251012T090000
DTEND;TZID=UTC:20251012T093000
DTSTAMP:20260423T005900
CREATED:20241108T201335Z
LAST-MODIFIED:20241108T201335Z
UID:3098-1760259600-1760261400@templebethdavid.online
SUMMARY:Men's Chat Club
DESCRIPTION:
URL:https://templebethdavid.online/event/mens-chat-club/
END:VEVENT
BEGIN:VEVENT
DTSTART;TZID=UTC:20251012T090000
DTEND;TZID=UTC:20251012T100000
DTSTAMP:20260423T005900
CREATED:20250709T191107Z
LAST-MODIFIED:20250911T210844Z
UID:4036-1760259600-1760263200@templebethdavid.online
SUMMARY:Adult Hebrew Intermediate
DESCRIPTION:
URL:https://templebethdavid.online/event/adult-hebrew-intermediate-34/
END:VEVENT
BEGIN:VEVENT
DTSTART;TZID=UTC:20251012T101500
DTEND;TZID=UTC:20251012T110000
DTSTAMP:20260423T005900
CREATED:20250911T210908Z
LAST-MODIFIED:20250911T210908Z
UID:4507-1760264100-1760266800@templebethdavid.online
SUMMARY:Adult Hebrew Beginners
DESCRIPTION:
URL:https://templebethdavid.online/event/adult-hebrew-beginners-25/
END:VEVENT
END:VCALENDAR