BEGIN:VCALENDAR
VERSION:2.0
PRODID:-//Temple Beth David - ECPv6.15.20//NONSGML v1.0//EN
CALSCALE:GREGORIAN
METHOD:PUBLISH
X-ORIGINAL-URL:https://templebethdavid.online
X-WR-CALDESC:Events for Temple Beth David
REFRESH-INTERVAL;VALUE=DURATION:PT1H
X-Robots-Tag:noindex
X-PUBLISHED-TTL:PT1H
BEGIN:VTIMEZONE
TZID:UTC
BEGIN:STANDARD
TZOFFSETFROM:+0000
TZOFFSETTO:+0000
TZNAME:UTC
DTSTART:20240101T000000
END:STANDARD
END:VTIMEZONE
BEGIN:VEVENT
DTSTART;TZID=UTC:20250926T193000
DTEND;TZID=UTC:20250926T213000
DTSTAMP:20260423T021613
CREATED:20250813T203002Z
LAST-MODIFIED:20250821T161052Z
UID:4388-1758915000-1758922200@templebethdavid.online
SUMMARY:The Days of Awe Shabbat Service
DESCRIPTION:
URL:https://templebethdavid.online/event/special-service-shabbat-shuvah/
ATTACH;FMTTYPE=image/jpeg:https://templebethdavid.online/wp-content/uploads/2025/08/9-25-25Shabbatflyer.jpeg
END:VEVENT
END:VCALENDAR