BEGIN:VCALENDAR
VERSION:2.0
PRODID:-//Temple Beth David - ECPv6.15.20//NONSGML v1.0//EN
CALSCALE:GREGORIAN
METHOD:PUBLISH
X-ORIGINAL-URL:https://templebethdavid.online
X-WR-CALDESC:Events for Temple Beth David
REFRESH-INTERVAL;VALUE=DURATION:PT1H
X-Robots-Tag:noindex
X-PUBLISHED-TTL:PT1H
BEGIN:VTIMEZONE
TZID:UTC
BEGIN:STANDARD
TZOFFSETFROM:+0000
TZOFFSETTO:+0000
TZNAME:UTC
DTSTART:20240101T000000
END:STANDARD
END:VTIMEZONE
BEGIN:VEVENT
DTSTART;TZID=UTC:20250817T093000
DTEND;TZID=UTC:20250817T103000
DTSTAMP:20260423T033058
CREATED:20241107T201140Z
LAST-MODIFIED:20241107T201140Z
UID:3011-1755423000-1755426600@templebethdavid.online
SUMMARY:Men's Club Chat
DESCRIPTION:
URL:https://templebethdavid.online/event/mens-club-chat-41/
END:VEVENT
BEGIN:VEVENT
DTSTART;TZID=UTC:20250817T093000
DTEND;TZID=UTC:20250817T113000
DTSTAMP:20260423T033058
CREATED:20250722T155445Z
LAST-MODIFIED:20250722T155445Z
UID:4196-1755423000-1755430200@templebethdavid.online
SUMMARY:Jerry Schwartz Adult Education Bagel Breakfast
DESCRIPTION:
URL:https://templebethdavid.online/event/jerry-schwartz-adult-education-bagel-breakfast/
END:VEVENT
END:VCALENDAR