BEGIN:VCALENDAR
VERSION:2.0
PRODID:-//Temple Beth David - ECPv6.15.20//NONSGML v1.0//EN
CALSCALE:GREGORIAN
METHOD:PUBLISH
X-ORIGINAL-URL:https://templebethdavid.online
X-WR-CALDESC:Events for Temple Beth David
REFRESH-INTERVAL;VALUE=DURATION:PT1H
X-Robots-Tag:noindex
X-PUBLISHED-TTL:PT1H
BEGIN:VTIMEZONE
TZID:UTC
BEGIN:STANDARD
TZOFFSETFROM:+0000
TZOFFSETTO:+0000
TZNAME:UTC
DTSTART:20240101T000000
END:STANDARD
END:VTIMEZONE
BEGIN:VEVENT
DTSTART;TZID=UTC:20250711T193000
DTEND;TZID=UTC:20250711T213000
DTSTAMP:20260423T050724
CREATED:20250617T160844Z
LAST-MODIFIED:20250617T160844Z
UID:3978-1752262200-1752269400@templebethdavid.online
SUMMARY:Shabbat Service with Rabbi Ira & Cantor Beth
DESCRIPTION:
URL:https://templebethdavid.online/event/shabbat-service-with-rabbi-ira-cantor-beth/
ATTACH;FMTTYPE=image/jpeg:https://templebethdavid.online/wp-content/uploads/2025/06/7-11-25.jpg
END:VEVENT
END:VCALENDAR