BEGIN:VCALENDAR
VERSION:2.0
PRODID:-//Temple Beth David - ECPv6.15.20//NONSGML v1.0//EN
CALSCALE:GREGORIAN
METHOD:PUBLISH
X-WR-CALNAME:Temple Beth David
X-ORIGINAL-URL:https://templebethdavid.online
X-WR-CALDESC:Events for Temple Beth David
REFRESH-INTERVAL;VALUE=DURATION:PT1H
X-Robots-Tag:noindex
X-PUBLISHED-TTL:PT1H
BEGIN:VTIMEZONE
TZID:UTC
BEGIN:STANDARD
TZOFFSETFROM:+0000
TZOFFSETTO:+0000
TZNAME:UTC
DTSTART:20240101T000000
END:STANDARD
END:VTIMEZONE
BEGIN:VEVENT
DTSTART;TZID=UTC:20250621T183000
DTEND;TZID=UTC:20250621T213000
DTSTAMP:20260423T064713
CREATED:20250501T190302Z
LAST-MODIFIED:20250501T190302Z
UID:3938-1750530600-1750541400@templebethdavid.online
SUMMARY:Summer Fun Music Series
DESCRIPTION:
URL:https://templebethdavid.online/event/summer-fun-music-series-4/
ATTACH;FMTTYPE=image/png:https://templebethdavid.online/wp-content/uploads/2025/05/June21Summerconcert.png
END:VEVENT
END:VCALENDAR