BEGIN:VCALENDAR
VERSION:2.0
PRODID:-//Temple Beth David - ECPv6.15.20//NONSGML v1.0//EN
CALSCALE:GREGORIAN
METHOD:PUBLISH
X-WR-CALNAME:Temple Beth David
X-ORIGINAL-URL:https://templebethdavid.online
X-WR-CALDESC:Events for Temple Beth David
REFRESH-INTERVAL;VALUE=DURATION:PT1H
X-Robots-Tag:noindex
X-PUBLISHED-TTL:PT1H
BEGIN:VTIMEZONE
TZID:UTC
BEGIN:STANDARD
TZOFFSETFROM:+0000
TZOFFSETTO:+0000
TZNAME:UTC
DTSTART:20240101T000000
END:STANDARD
END:VTIMEZONE
BEGIN:VEVENT
DTSTART;TZID=UTC:20250608T090000
DTEND;TZID=UTC:20250608T093000
DTSTAMP:20260423T063515
CREATED:20241106T202638Z
LAST-MODIFIED:20241106T202638Z
UID:2878-1749373200-1749375000@templebethdavid.online
SUMMARY:Men's Club Chat
DESCRIPTION:
URL:https://templebethdavid.online/event/mens-club-chat-31/
END:VEVENT
BEGIN:VEVENT
DTSTART;TZID=UTC:20250608T110000
DTEND;TZID=UTC:20250608T140000
DTSTAMP:20260423T063515
CREATED:20250520T210143Z
LAST-MODIFIED:20250520T210143Z
UID:3952-1749380400-1749391200@templebethdavid.online
SUMMARY:Congregational Meeting
DESCRIPTION:
URL:https://templebethdavid.online/event/congregational-meeting/
END:VEVENT
END:VCALENDAR