BEGIN:VCALENDAR
VERSION:2.0
PRODID:-//Temple Beth David - ECPv6.15.20//NONSGML v1.0//EN
CALSCALE:GREGORIAN
METHOD:PUBLISH
X-ORIGINAL-URL:https://templebethdavid.online
X-WR-CALDESC:Events for Temple Beth David
REFRESH-INTERVAL;VALUE=DURATION:PT1H
X-Robots-Tag:noindex
X-PUBLISHED-TTL:PT1H
BEGIN:VTIMEZONE
TZID:UTC
BEGIN:STANDARD
TZOFFSETFROM:+0000
TZOFFSETTO:+0000
TZNAME:UTC
DTSTART:20240101T000000
END:STANDARD
END:VTIMEZONE
BEGIN:VEVENT
DTSTART;TZID=UTC:20250601T090000
DTEND;TZID=UTC:20250601T093000
DTSTAMP:20260423T064050
CREATED:20241106T200138Z
LAST-MODIFIED:20241106T200138Z
UID:2869-1748768400-1748770200@templebethdavid.online
SUMMARY:Men's Club Chat
DESCRIPTION:
URL:https://templebethdavid.online/event/mens-club-chat-30/
END:VEVENT
BEGIN:VEVENT
DTSTART;TZID=UTC:20250601T093000
DTEND;TZID=UTC:20250601T123000
DTSTAMP:20260423T064050
CREATED:20250519T161822Z
LAST-MODIFIED:20250519T161822Z
UID:3949-1748770200-1748781000@templebethdavid.online
SUMMARY:Jewish Adventure School Last Day & BBQ
DESCRIPTION:
URL:https://templebethdavid.online/event/jewish-adventure-school-last-day-bbq/
ATTACH;FMTTYPE=image/jpeg:https://templebethdavid.online/wp-content/uploads/2025/05/6-1-25BBQFlyer.jpg
END:VEVENT
END:VCALENDAR