BEGIN:VCALENDAR
VERSION:2.0
PRODID:-//Temple Beth David - ECPv6.15.20//NONSGML v1.0//EN
CALSCALE:GREGORIAN
METHOD:PUBLISH
X-WR-CALNAME:Temple Beth David
X-ORIGINAL-URL:https://templebethdavid.online
X-WR-CALDESC:Events for Temple Beth David
REFRESH-INTERVAL;VALUE=DURATION:PT1H
X-Robots-Tag:noindex
X-PUBLISHED-TTL:PT1H
BEGIN:VTIMEZONE
TZID:UTC
BEGIN:STANDARD
TZOFFSETFROM:+0000
TZOFFSETTO:+0000
TZNAME:UTC
DTSTART:20240101T000000
END:STANDARD
END:VTIMEZONE
BEGIN:VEVENT
DTSTART;TZID=UTC:20250425T193000
DTEND;TZID=UTC:20250425T213000
DTSTAMP:20260425T110314
CREATED:20250321T164211Z
LAST-MODIFIED:20250321T164211Z
UID:3840-1745609400-1745616600@templebethdavid.online
SUMMARY:The Kumzitz with Mickey Adelman and Rabbi Ira
DESCRIPTION:
URL:https://templebethdavid.online/event/the-kumzitz-with-mickey-adelman-and-rabbi-ira/
ATTACH;FMTTYPE=image/jpeg:https://templebethdavid.online/wp-content/uploads/2025/03/4-25-25flyer.jpg
END:VEVENT
END:VCALENDAR