BEGIN:VCALENDAR
VERSION:2.0
PRODID:-//Temple Beth David - ECPv6.15.20//NONSGML v1.0//EN
CALSCALE:GREGORIAN
METHOD:PUBLISH
X-ORIGINAL-URL:https://templebethdavid.online
X-WR-CALDESC:Events for Temple Beth David
REFRESH-INTERVAL;VALUE=DURATION:PT1H
X-Robots-Tag:noindex
X-PUBLISHED-TTL:PT1H
BEGIN:VTIMEZONE
TZID:UTC
BEGIN:STANDARD
TZOFFSETFROM:+0000
TZOFFSETTO:+0000
TZNAME:UTC
DTSTART:20240101T000000
END:STANDARD
END:VTIMEZONE
BEGIN:VEVENT
DTSTART;TZID=UTC:20250413T090000
DTEND;TZID=UTC:20250413T093000
DTSTAMP:20260425T110513
CREATED:20241105T194624Z
LAST-MODIFIED:20241105T194624Z
UID:2781-1744534800-1744536600@templebethdavid.online
SUMMARY:Men's Club Chat
DESCRIPTION:
URL:https://templebethdavid.online/event/mens-club-chat-23/
END:VEVENT
BEGIN:VEVENT
DTSTART;TZID=UTC:20250413T090000
DTEND;TZID=UTC:20250413T100000
DTSTAMP:20260425T110513
CREATED:20241105T194452Z
LAST-MODIFIED:20241105T194452Z
UID:2779-1744534800-1744538400@templebethdavid.online
SUMMARY:Adult Hebrew Beginners
DESCRIPTION:
URL:https://templebethdavid.online/event/adult-hebrew-beginners-14/
END:VEVENT
BEGIN:VEVENT
DTSTART;TZID=UTC:20250413T090000
DTEND;TZID=UTC:20250413T113000
DTSTAMP:20260425T110513
CREATED:20241106T190415Z
LAST-MODIFIED:20241106T190415Z
UID:2813-1744534800-1744543800@templebethdavid.online
SUMMARY:2nd Seder
DESCRIPTION:
URL:https://templebethdavid.online/event/2nd-seder/
END:VEVENT
BEGIN:VEVENT
DTSTART;TZID=UTC:20250413T093000
DTEND;TZID=UTC:20250413T103000
DTSTAMP:20260425T110513
CREATED:20241105T195353Z
LAST-MODIFIED:20241105T195353Z
UID:2784-1744536600-1744540200@templebethdavid.online
SUMMARY:Adult Hebrew Intermediate
DESCRIPTION:
URL:https://templebethdavid.online/event/adult-hebrew-intermediate-23/
END:VEVENT
END:VCALENDAR