BEGIN:VCALENDAR
VERSION:2.0
PRODID:-//Temple Beth David - ECPv6.15.20//NONSGML v1.0//EN
CALSCALE:GREGORIAN
METHOD:PUBLISH
X-ORIGINAL-URL:https://templebethdavid.online
X-WR-CALDESC:Events for Temple Beth David
REFRESH-INTERVAL;VALUE=DURATION:PT1H
X-Robots-Tag:noindex
X-PUBLISHED-TTL:PT1H
BEGIN:VTIMEZONE
TZID:UTC
BEGIN:STANDARD
TZOFFSETFROM:+0000
TZOFFSETTO:+0000
TZNAME:UTC
DTSTART:20240101T000000
END:STANDARD
END:VTIMEZONE
BEGIN:VEVENT
DTSTART;TZID=UTC:20250404T183000
DTEND;TZID=UTC:20250404T210000
DTSTAMP:20260425T111102
CREATED:20250321T163825Z
LAST-MODIFIED:20250321T163825Z
UID:3837-1743791400-1743800400@templebethdavid.online
SUMMARY:Kinder Percussion Shabbat and Main Service
DESCRIPTION:
URL:https://templebethdavid.online/event/kinder-percussion-shabbat-and-main-service/
ATTACH;FMTTYPE=image/png:https://templebethdavid.online/wp-content/uploads/2025/03/4-4-25flyer.png
END:VEVENT
END:VCALENDAR