BEGIN:VCALENDAR
VERSION:2.0
PRODID:-//Temple Beth David - ECPv6.15.20//NONSGML v1.0//EN
CALSCALE:GREGORIAN
METHOD:PUBLISH
X-WR-CALNAME:Temple Beth David
X-ORIGINAL-URL:https://templebethdavid.online
X-WR-CALDESC:Events for Temple Beth David
REFRESH-INTERVAL;VALUE=DURATION:PT1H
X-Robots-Tag:noindex
X-PUBLISHED-TTL:PT1H
BEGIN:VTIMEZONE
TZID:UTC
BEGIN:STANDARD
TZOFFSETFROM:+0000
TZOFFSETTO:+0000
TZNAME:UTC
DTSTART:20240101T000000
END:STANDARD
END:VTIMEZONE
BEGIN:VEVENT
DTSTART;TZID=UTC:20250328T193000
DTEND;TZID=UTC:20250328T213000
DTSTAMP:20260425T124447
CREATED:20250228T165405Z
LAST-MODIFIED:20250228T165405Z
UID:3542-1743190200-1743197400@templebethdavid.online
SUMMARY:TBD All Star Band & Friends
DESCRIPTION:
URL:https://templebethdavid.online/event/tbd-all-star-band-friends/
ATTACH;FMTTYPE=image/png:https://templebethdavid.online/wp-content/uploads/2025/02/3-28-25flyer.png
END:VEVENT
END:VCALENDAR