BEGIN:VCALENDAR
VERSION:2.0
PRODID:-//Temple Beth David - ECPv6.15.20//NONSGML v1.0//EN
CALSCALE:GREGORIAN
METHOD:PUBLISH
X-WR-CALNAME:Temple Beth David
X-ORIGINAL-URL:https://templebethdavid.online
X-WR-CALDESC:Events for Temple Beth David
REFRESH-INTERVAL;VALUE=DURATION:PT1H
X-Robots-Tag:noindex
X-PUBLISHED-TTL:PT1H
BEGIN:VTIMEZONE
TZID:UTC
BEGIN:STANDARD
TZOFFSETFROM:+0000
TZOFFSETTO:+0000
TZNAME:UTC
DTSTART:20240101T000000
END:STANDARD
END:VTIMEZONE
BEGIN:VEVENT
DTSTART;TZID=UTC:20250316T090000
DTEND;TZID=UTC:20250316T093000
DTSTAMP:20260425T125039
CREATED:20241105T174144Z
LAST-MODIFIED:20241105T174144Z
UID:2738-1742115600-1742117400@templebethdavid.online
SUMMARY:Men's Club Chat
DESCRIPTION:
URL:https://templebethdavid.online/event/mens-club-chat-19/
END:VEVENT
BEGIN:VEVENT
DTSTART;TZID=UTC:20250316T090000
DTEND;TZID=UTC:20250316T100000
DTSTAMP:20260425T125039
CREATED:20241105T172336Z
LAST-MODIFIED:20241105T172336Z
UID:2736-1742115600-1742119200@templebethdavid.online
SUMMARY:Adult Hebrew Beginners
DESCRIPTION:
URL:https://templebethdavid.online/event/adult-hebrew-beginners-10/
END:VEVENT
BEGIN:VEVENT
DTSTART;TZID=UTC:20250316T091500
DTEND;TZID=UTC:20250316T123000
DTSTAMP:20260425T125039
CREATED:20241025T080604Z
LAST-MODIFIED:20241025T080604Z
UID:2424-1742116500-1742128200@templebethdavid.online
SUMMARY:Jewish Adventure School
DESCRIPTION:
URL:https://templebethdavid.online/event/jewish-adventure-school-17/
END:VEVENT
BEGIN:VEVENT
DTSTART;TZID=UTC:20250316T093000
DTEND;TZID=UTC:20250316T103000
DTSTAMP:20260425T125039
CREATED:20241105T175912Z
LAST-MODIFIED:20241105T175912Z
UID:2740-1742117400-1742121000@templebethdavid.online
SUMMARY:Adult Hebrew Intermediate
DESCRIPTION:
URL:https://templebethdavid.online/event/adult-hebrew-intermediate-19/
END:VEVENT
END:VCALENDAR