BEGIN:VCALENDAR
VERSION:2.0
PRODID:-//Temple Beth David - ECPv6.15.20//NONSGML v1.0//EN
CALSCALE:GREGORIAN
METHOD:PUBLISH
X-ORIGINAL-URL:https://templebethdavid.online
X-WR-CALDESC:Events for Temple Beth David
REFRESH-INTERVAL;VALUE=DURATION:PT1H
X-Robots-Tag:noindex
X-PUBLISHED-TTL:PT1H
BEGIN:VTIMEZONE
TZID:UTC
BEGIN:STANDARD
TZOFFSETFROM:+0000
TZOFFSETTO:+0000
TZNAME:UTC
DTSTART:20240101T000000
END:STANDARD
END:VTIMEZONE
BEGIN:VEVENT
DTSTART;TZID=UTC:20250124T193000
DTEND;TZID=UTC:20250124T210000
DTSTAMP:20260425T155934
CREATED:20241114T184419Z
LAST-MODIFIED:20241218T181001Z
UID:3261-1737747000-1737752400@templebethdavid.online
SUMMARY:Special Service-Cantorial Soloist Julie Nolte
DESCRIPTION:
URL:https://templebethdavid.online/event/special-service-cantorial-soloist-julie-nolte/
ATTACH;FMTTYPE=image/png:https://templebethdavid.online/wp-content/uploads/2024/11/1-24-25.png
END:VEVENT
END:VCALENDAR