BEGIN:VCALENDAR
VERSION:2.0
PRODID:-//Temple Beth David - ECPv6.15.20//NONSGML v1.0//EN
CALSCALE:GREGORIAN
METHOD:PUBLISH
X-WR-CALNAME:Temple Beth David
X-ORIGINAL-URL:https://templebethdavid.online
X-WR-CALDESC:Events for Temple Beth David
REFRESH-INTERVAL;VALUE=DURATION:PT1H
X-Robots-Tag:noindex
X-PUBLISHED-TTL:PT1H
BEGIN:VTIMEZONE
TZID:UTC
BEGIN:STANDARD
TZOFFSETFROM:+0000
TZOFFSETTO:+0000
TZNAME:UTC
DTSTART:20240101T000000
END:STANDARD
END:VTIMEZONE
BEGIN:VEVENT
DTSTART;TZID=UTC:20250119T090000
DTEND;TZID=UTC:20250119T093000
DTSTAMP:20260425T155954
CREATED:20241104T190153Z
LAST-MODIFIED:20241104T190153Z
UID:2657-1737277200-1737279000@templebethdavid.online
SUMMARY:Men's Club Chat
DESCRIPTION:
URL:https://templebethdavid.online/event/mens-club-chat-11/
END:VEVENT
BEGIN:VEVENT
DTSTART;TZID=UTC:20250119T090000
DTEND;TZID=UTC:20250119T100000
DTSTAMP:20260425T155954
CREATED:20241104T190123Z
LAST-MODIFIED:20241104T190123Z
UID:2655-1737277200-1737280800@templebethdavid.online
SUMMARY:Adult Hebrew Beginners
DESCRIPTION:
URL:https://templebethdavid.online/event/adult-hebrew-beginners-2/
END:VEVENT
BEGIN:VEVENT
DTSTART;TZID=UTC:20250119T093000
DTEND;TZID=UTC:20250119T100000
DTSTAMP:20260425T155954
CREATED:20241104T190313Z
LAST-MODIFIED:20241107T181119Z
UID:2661-1737279000-1737280800@templebethdavid.online
SUMMARY:Mindfulness Meditation with Vic Herzfeld
DESCRIPTION:
URL:https://templebethdavid.online/event/mindfulness-meditation-with-vic-herzfeld-2/
END:VEVENT
BEGIN:VEVENT
DTSTART;TZID=UTC:20250119T093000
DTEND;TZID=UTC:20250119T103000
DTSTAMP:20260425T155954
CREATED:20241104T190222Z
LAST-MODIFIED:20241104T190222Z
UID:2659-1737279000-1737282600@templebethdavid.online
SUMMARY:Adult Hebrew Intermediate
DESCRIPTION:
URL:https://templebethdavid.online/event/adult-hebrew-intermediate-11/
END:VEVENT
END:VCALENDAR