BEGIN:VCALENDAR
VERSION:2.0
PRODID:-//Temple Beth David - ECPv6.15.20//NONSGML v1.0//EN
CALSCALE:GREGORIAN
METHOD:PUBLISH
X-ORIGINAL-URL:https://templebethdavid.online
X-WR-CALDESC:Events for Temple Beth David
REFRESH-INTERVAL;VALUE=DURATION:PT1H
X-Robots-Tag:noindex
X-PUBLISHED-TTL:PT1H
BEGIN:VTIMEZONE
TZID:UTC
BEGIN:STANDARD
TZOFFSETFROM:+0000
TZOFFSETTO:+0000
TZNAME:UTC
DTSTART:20240101T000000
END:STANDARD
END:VTIMEZONE
BEGIN:VEVENT
DTSTART;TZID=UTC:20250117T190000
DTEND;TZID=UTC:20250117T203000
DTSTAMP:20260425T155954
CREATED:20250105T045157Z
LAST-MODIFIED:20250105T045157Z
UID:3362-1737140400-1737145800@templebethdavid.online
SUMMARY:First L'Dor VaDor Service of 2025
DESCRIPTION:
URL:https://templebethdavid.online/event/first-ldor-vador-service-of-2025/
ATTACH;FMTTYPE=image/png:https://templebethdavid.online/wp-content/uploads/2024/11/TBD-1-17-25-Flyer.png
END:VEVENT
BEGIN:VEVENT
DTSTART;TZID=UTC:20250117T193000
DTEND;TZID=UTC:20250117T210000
DTSTAMP:20260425T155954
CREATED:20241104T192150Z
LAST-MODIFIED:20241217T180101Z
UID:2673-1737142200-1737147600@templebethdavid.online
SUMMARY:L'Dor Va'Dor Service with Rabbi Ira
DESCRIPTION:
URL:https://templebethdavid.online/event/ldor-vador-service-with-rabbi-ira/
ATTACH;FMTTYPE=image/png:https://templebethdavid.online/wp-content/uploads/2024/11/TBD-1-17-25-Flyer.png
END:VEVENT
END:VCALENDAR