BEGIN:VCALENDAR
VERSION:2.0
PRODID:-//Temple Beth David - ECPv6.15.20//NONSGML v1.0//EN
CALSCALE:GREGORIAN
METHOD:PUBLISH
X-WR-CALNAME:Temple Beth David
X-ORIGINAL-URL:https://templebethdavid.online
X-WR-CALDESC:Events for Temple Beth David
REFRESH-INTERVAL;VALUE=DURATION:PT1H
X-Robots-Tag:noindex
X-PUBLISHED-TTL:PT1H
BEGIN:VTIMEZONE
TZID:UTC
BEGIN:STANDARD
TZOFFSETFROM:+0000
TZOFFSETTO:+0000
TZNAME:UTC
DTSTART:20240101T000000
END:STANDARD
END:VTIMEZONE
BEGIN:VEVENT
DTSTART;TZID=UTC:20250110T073000
DTEND;TZID=UTC:20250110T203000
DTSTAMP:20260425T155954
CREATED:20250105T045110Z
LAST-MODIFIED:20250105T045110Z
UID:3360-1736494200-1736541000@templebethdavid.online
SUMMARY:Shabbat Service with Rabbi Iran and Cantor Beth
DESCRIPTION:
URL:https://templebethdavid.online/event/shabbat-service-with-rabbi-iran-and-cantor-beth/
ATTACH;FMTTYPE=image/png:https://templebethdavid.online/wp-content/uploads/2024/11/TBD-1-10-25-Flyer.png
END:VEVENT
BEGIN:VEVENT
DTSTART;TZID=UTC:20250110T193000
DTEND;TZID=UTC:20250110T210000
DTSTAMP:20260425T155954
CREATED:20241104T192054Z
LAST-MODIFIED:20241217T180016Z
UID:2671-1736537400-1736542800@templebethdavid.online
SUMMARY:Rabbi Ira and Cantor Beth
DESCRIPTION:
URL:https://templebethdavid.online/event/rabbi-ira-and-cantor-beth/
ATTACH;FMTTYPE=image/png:https://templebethdavid.online/wp-content/uploads/2024/11/TBD-1-10-25-Flyer.png
END:VEVENT
END:VCALENDAR