BEGIN:VCALENDAR
VERSION:2.0
PRODID:-//Temple Beth David - ECPv6.15.20//NONSGML v1.0//EN
CALSCALE:GREGORIAN
METHOD:PUBLISH
X-ORIGINAL-URL:https://templebethdavid.online
X-WR-CALDESC:Events for Temple Beth David
REFRESH-INTERVAL;VALUE=DURATION:PT1H
X-Robots-Tag:noindex
X-PUBLISHED-TTL:PT1H
BEGIN:VTIMEZONE
TZID:UTC
BEGIN:STANDARD
TZOFFSETFROM:+0000
TZOFFSETTO:+0000
TZNAME:UTC
DTSTART:20240101T000000
END:STANDARD
END:VTIMEZONE
BEGIN:VEVENT
DTSTART;TZID=UTC:20250105T090000
DTEND;TZID=UTC:20250105T093000
DTSTAMP:20260425T155934
CREATED:20241104T175548Z
LAST-MODIFIED:20241104T175548Z
UID:2593-1736067600-1736069400@templebethdavid.online
SUMMARY:Men's Club Chat
DESCRIPTION:
URL:https://templebethdavid.online/event/mens-club-chat-9/
END:VEVENT
BEGIN:VEVENT
DTSTART;TZID=UTC:20250105T090000
DTEND;TZID=UTC:20250105T100000
DTSTAMP:20260425T155934
CREATED:20241104T175517Z
LAST-MODIFIED:20241104T185715Z
UID:2591-1736067600-1736071200@templebethdavid.online
SUMMARY:Adult Hebrew Beginners
DESCRIPTION:
URL:https://templebethdavid.online/event/adult-hebrew-beginners-intermediate-9/
END:VEVENT
BEGIN:VEVENT
DTSTART;TZID=UTC:20250105T091500
DTEND;TZID=UTC:20250105T123000
DTSTAMP:20260425T155934
CREATED:20241025T080137Z
LAST-MODIFIED:20241025T080137Z
UID:2407-1736068500-1736080200@templebethdavid.online
SUMMARY:Jewish Adventure School
DESCRIPTION:
URL:https://templebethdavid.online/event/jewish-adventure-school-4/
END:VEVENT
BEGIN:VEVENT
DTSTART;TZID=UTC:20250105T093000
DTEND;TZID=UTC:20250105T100000
DTSTAMP:20260425T155934
CREATED:20241104T175655Z
LAST-MODIFIED:20241107T181245Z
UID:2595-1736069400-1736071200@templebethdavid.online
SUMMARY:Mindfulness Meditation with Vic Herzfeld
DESCRIPTION:
URL:https://templebethdavid.online/event/mindfullness-meditation-with-vic-herzfeld-9/
END:VEVENT
BEGIN:VEVENT
DTSTART;TZID=UTC:20250105T093000
DTEND;TZID=UTC:20250105T103000
DTSTAMP:20260425T155934
CREATED:20241104T185635Z
LAST-MODIFIED:20241104T185635Z
UID:2646-1736069400-1736073000@templebethdavid.online
SUMMARY:Adult Hebrew Intermediate
DESCRIPTION:
URL:https://templebethdavid.online/event/adult-hebrew-intermediate-9/
END:VEVENT
END:VCALENDAR